BEGIN:VCALENDAR
VERSION:2.0
PRODID:-//TCS High School - ECPv6.15.11//NONSGML v1.0//EN
CALSCALE:GREGORIAN
METHOD:PUBLISH
X-ORIGINAL-URL:https://tcshighschool.org
X-WR-CALDESC:Events for TCS High School
REFRESH-INTERVAL;VALUE=DURATION:PT1H
X-Robots-Tag:noindex
X-PUBLISHED-TTL:PT1H
BEGIN:VTIMEZONE
TZID:America/New_York
BEGIN:DAYLIGHT
TZOFFSETFROM:-0500
TZOFFSETTO:-0400
TZNAME:EDT
DTSTART:20240310T070000
END:DAYLIGHT
BEGIN:STANDARD
TZOFFSETFROM:-0400
TZOFFSETTO:-0500
TZNAME:EST
DTSTART:20241103T060000
END:STANDARD
BEGIN:DAYLIGHT
TZOFFSETFROM:-0500
TZOFFSETTO:-0400
TZNAME:EDT
DTSTART:20250309T070000
END:DAYLIGHT
BEGIN:STANDARD
TZOFFSETFROM:-0400
TZOFFSETTO:-0500
TZNAME:EST
DTSTART:20251102T060000
END:STANDARD
BEGIN:DAYLIGHT
TZOFFSETFROM:-0500
TZOFFSETTO:-0400
TZNAME:EDT
DTSTART:20260308T070000
END:DAYLIGHT
BEGIN:STANDARD
TZOFFSETFROM:-0400
TZOFFSETTO:-0500
TZNAME:EST
DTSTART:20261101T060000
END:STANDARD
END:VTIMEZONE
BEGIN:VEVENT
DTSTART;TZID=America/New_York:20250228T090000
DTEND;TZID=America/New_York:20250228T110000
DTSTAMP:20260425T093321
CREATED:20250110T145117Z
LAST-MODIFIED:20250428T132215Z
UID:47397-1740733200-1740740400@tcshighschool.org
SUMMARY:Creative Writing
DESCRIPTION:
URL:https://tcshighschool.org/event/creative-writing-12/2025-02-28/
CATEGORIES:Seminar - Regular
END:VEVENT
BEGIN:VEVENT
DTSTART;TZID=America/New_York:20250304T110000
DTEND;TZID=America/New_York:20250304T120000
DTSTAMP:20260425T093321
CREATED:20240816T162309Z
LAST-MODIFIED:20240816T162309Z
UID:46265-1741086000-1741089600@tcshighschool.org
SUMMARY:ASL I
DESCRIPTION:
URL:https://tcshighschool.org/event/asl-i-10-2025-03-04/
CATEGORIES:Seminar - Regular
END:VEVENT
BEGIN:VEVENT
DTSTART;TZID=America/New_York:20250304T124500
DTEND;TZID=America/New_York:20250304T134500
DTSTAMP:20260425T093321
CREATED:20240816T162707Z
LAST-MODIFIED:20240816T162707Z
UID:46277-1741092300-1741095900@tcshighschool.org
SUMMARY:ASL II
DESCRIPTION:
URL:https://tcshighschool.org/event/asl-ii-7-2025-03-04/
CATEGORIES:Seminar - Regular
END:VEVENT
BEGIN:VEVENT
DTSTART;TZID=America/New_York:20250305T085500
DTEND;TZID=America/New_York:20250305T095500
DTSTAMP:20260425T093321
CREATED:20240814T174033Z
LAST-MODIFIED:20240814T174033Z
UID:46178-1741164900-1741168500@tcshighschool.org
SUMMARY:Physical Education
DESCRIPTION:
URL:https://tcshighschool.org/event/physical-education-6/2025-03-05/
CATEGORIES:Seminar - Regular
END:VEVENT
BEGIN:VEVENT
DTSTART;TZID=America/New_York:20250305T124500
DTEND;TZID=America/New_York:20250305T134500
DTSTAMP:20260425T093321
CREATED:20240925T111056Z
LAST-MODIFIED:20240925T111056Z
UID:47833-1741178700-1741182300@tcshighschool.org
SUMMARY:Art Seminar
DESCRIPTION:
URL:https://tcshighschool.org/event/art-seminar-7-2024-10-09-2025-03-05/
CATEGORIES:Seminar - Regular
END:VEVENT
BEGIN:VEVENT
DTSTART;TZID=America/New_York:20250307T090000
DTEND;TZID=America/New_York:20250307T110000
DTSTAMP:20260425T093321
CREATED:20250110T145117Z
LAST-MODIFIED:20250428T132228Z
UID:47398-1741338000-1741345200@tcshighschool.org
SUMMARY:Creative Writing
DESCRIPTION:
URL:https://tcshighschool.org/event/creative-writing-12/2025-03-07/
CATEGORIES:Seminar - Regular
END:VEVENT
BEGIN:VEVENT
DTSTART;TZID=America/New_York:20250311T110000
DTEND;TZID=America/New_York:20250311T120000
DTSTAMP:20260425T093321
CREATED:20240816T162309Z
LAST-MODIFIED:20240816T162309Z
UID:46266-1741690800-1741694400@tcshighschool.org
SUMMARY:ASL I
DESCRIPTION:
URL:https://tcshighschool.org/event/asl-i-10-2025-03-11/
CATEGORIES:Seminar - Regular
END:VEVENT
BEGIN:VEVENT
DTSTART;TZID=America/New_York:20250311T124500
DTEND;TZID=America/New_York:20250311T134500
DTSTAMP:20260425T093321
CREATED:20240816T162707Z
LAST-MODIFIED:20240816T162707Z
UID:46278-1741697100-1741700700@tcshighschool.org
SUMMARY:ASL II
DESCRIPTION:
URL:https://tcshighschool.org/event/asl-ii-7-2025-03-11/
CATEGORIES:Seminar - Regular
END:VEVENT
BEGIN:VEVENT
DTSTART;TZID=America/New_York:20250312T085500
DTEND;TZID=America/New_York:20250312T095500
DTSTAMP:20260425T093321
CREATED:20240814T174033Z
LAST-MODIFIED:20240814T174033Z
UID:46179-1741769700-1741773300@tcshighschool.org
SUMMARY:Physical Education
DESCRIPTION:
URL:https://tcshighschool.org/event/physical-education-6/2025-03-12/
CATEGORIES:Seminar - Regular
END:VEVENT
BEGIN:VEVENT
DTSTART;TZID=America/New_York:20250312T124500
DTEND;TZID=America/New_York:20250312T134500
DTSTAMP:20260425T093321
CREATED:20240925T111056Z
LAST-MODIFIED:20250302T173920Z
UID:47834-1741783500-1741787100@tcshighschool.org
SUMMARY:Art Seminar
DESCRIPTION:
URL:https://tcshighschool.org/event/art-seminar-7-2024-10-09-2025-03-12/
CATEGORIES:Seminar - Regular
END:VEVENT
BEGIN:VEVENT
DTSTART;TZID=America/New_York:20250313T124500
DTEND;TZID=America/New_York:20250313T134500
DTSTAMP:20260425T093321
CREATED:20250305T175420Z
LAST-MODIFIED:20250305T175545Z
UID:48002-1741869900-1741873500@tcshighschool.org
SUMMARY:Art Seminar
DESCRIPTION:
URL:https://tcshighschool.org/event/art-seminar-3/
CATEGORIES:Seminar - Regular
END:VEVENT
BEGIN:VEVENT
DTSTART;TZID=America/New_York:20250314T090000
DTEND;TZID=America/New_York:20250314T110000
DTSTAMP:20260425T093321
CREATED:20250110T145117Z
LAST-MODIFIED:20250428T132243Z
UID:47399-1741942800-1741950000@tcshighschool.org
SUMMARY:Creative Writing
DESCRIPTION:
URL:https://tcshighschool.org/event/creative-writing-12/2025-03-14/
CATEGORIES:Seminar - Regular
END:VEVENT
BEGIN:VEVENT
DTSTART;TZID=America/New_York:20250319T085500
DTEND;TZID=America/New_York:20250319T095500
DTSTAMP:20260425T093321
CREATED:20240814T174033Z
LAST-MODIFIED:20240814T174033Z
UID:46180-1742374500-1742378100@tcshighschool.org
SUMMARY:Physical Education
DESCRIPTION:
URL:https://tcshighschool.org/event/physical-education-6/2025-03-19/
CATEGORIES:Seminar - Regular
END:VEVENT
BEGIN:VEVENT
DTSTART;TZID=America/New_York:20250319T124500
DTEND;TZID=America/New_York:20250319T134500
DTSTAMP:20260425T093321
CREATED:20240925T111056Z
LAST-MODIFIED:20240925T111056Z
UID:47835-1742388300-1742391900@tcshighschool.org
SUMMARY:Art Seminar
DESCRIPTION:
URL:https://tcshighschool.org/event/art-seminar-7-2024-10-09-2025-03-19/
CATEGORIES:Seminar - Regular
END:VEVENT
BEGIN:VEVENT
DTSTART;TZID=America/New_York:20250320T124500
DTEND;TZID=America/New_York:20250320T134500
DTSTAMP:20260425T093321
CREATED:20240722T191232Z
LAST-MODIFIED:20240722T191232Z
UID:45774-1742474700-1742478300@tcshighschool.org
SUMMARY:Financial Literacy
DESCRIPTION:
URL:https://tcshighschool.org/event/financial-literacy-9/2025-03-20/
CATEGORIES:Seminar - Regular
END:VEVENT
BEGIN:VEVENT
DTSTART;TZID=America/New_York:20250321T090000
DTEND;TZID=America/New_York:20250321T110000
DTSTAMP:20260425T093321
CREATED:20250110T145117Z
LAST-MODIFIED:20250428T132249Z
UID:47400-1742547600-1742554800@tcshighschool.org
SUMMARY:Creative Writing
DESCRIPTION:
URL:https://tcshighschool.org/event/creative-writing-12/2025-03-21/
CATEGORIES:Seminar - Regular
END:VEVENT
BEGIN:VEVENT
DTSTART;TZID=America/New_York:20250325T110000
DTEND;TZID=America/New_York:20250325T120000
DTSTAMP:20260425T093321
CREATED:20250119T234340Z
LAST-MODIFIED:20250119T234340Z
UID:47473-1742900400-1742904000@tcshighschool.org
SUMMARY:ASL II
DESCRIPTION:
URL:https://tcshighschool.org/event/asl-ii-7/2025-03-25/
CATEGORIES:Seminar - Regular
END:VEVENT
BEGIN:VEVENT
DTSTART;TZID=America/New_York:20250325T124500
DTEND;TZID=America/New_York:20250325T134500
DTSTAMP:20260425T093321
CREATED:20250119T234549Z
LAST-MODIFIED:20250119T234549Z
UID:47484-1742906700-1742910300@tcshighschool.org
SUMMARY:ASL I
DESCRIPTION:
URL:https://tcshighschool.org/event/asl-i-11/
CATEGORIES:Seminar - Regular
END:VEVENT
BEGIN:VEVENT
DTSTART;TZID=America/New_York:20250326T085500
DTEND;TZID=America/New_York:20250326T095500
DTSTAMP:20260425T093321
CREATED:20250409T132253Z
LAST-MODIFIED:20250409T132253Z
UID:48308-1742979300-1742982900@tcshighschool.org
SUMMARY:Physical Education
DESCRIPTION:
URL:https://tcshighschool.org/event/physical-education-7/2025-03-26/
CATEGORIES:Seminar - Regular
END:VEVENT
BEGIN:VEVENT
DTSTART;TZID=America/New_York:20250328T090000
DTEND;TZID=America/New_York:20250328T110000
DTSTAMP:20260425T093321
CREATED:20250110T145117Z
LAST-MODIFIED:20250428T132931Z
UID:47402-1743152400-1743159600@tcshighschool.org
SUMMARY:Creative Writing
DESCRIPTION:
URL:https://tcshighschool.org/event/creative-writing-12/2025-03-28/
CATEGORIES:Seminar - Regular
END:VEVENT
BEGIN:VEVENT
DTSTART;TZID=America/New_York:20250402T085500
DTEND;TZID=America/New_York:20250402T095500
DTSTAMP:20260425T093321
CREATED:20250409T132253Z
LAST-MODIFIED:20250409T132253Z
UID:48309-1743584100-1743587700@tcshighschool.org
SUMMARY:Physical Education
DESCRIPTION:
URL:https://tcshighschool.org/event/physical-education-7/2025-04-02/
CATEGORIES:Seminar - Regular
END:VEVENT
BEGIN:VEVENT
DTSTART;TZID=America/New_York:20250403T124500
DTEND;TZID=America/New_York:20250403T134500
DTSTAMP:20260425T093321
CREATED:20250115T143638Z
LAST-MODIFIED:20250119T235140Z
UID:47452-1743684300-1743687900@tcshighschool.org
SUMMARY:Art Seminar
DESCRIPTION:
URL:https://tcshighschool.org/event/art-seminar-10-2025-04-02/
CATEGORIES:Seminar - Regular
END:VEVENT
BEGIN:VEVENT
DTSTART;TZID=America/New_York:20250404T090000
DTEND;TZID=America/New_York:20250404T110000
DTSTAMP:20260425T093321
CREATED:20250110T145117Z
LAST-MODIFIED:20250428T132947Z
UID:47403-1743757200-1743764400@tcshighschool.org
SUMMARY:Creative Writing
DESCRIPTION:
URL:https://tcshighschool.org/event/creative-writing-12/2025-04-04/
CATEGORIES:Seminar - Regular
END:VEVENT
BEGIN:VEVENT
DTSTART;TZID=America/New_York:20250408T110000
DTEND;TZID=America/New_York:20250408T120000
DTSTAMP:20260425T093321
CREATED:20250119T234340Z
LAST-MODIFIED:20250119T234340Z
UID:47475-1744110000-1744113600@tcshighschool.org
SUMMARY:ASL II
DESCRIPTION:
URL:https://tcshighschool.org/event/asl-ii-7/2025-04-08/
CATEGORIES:Seminar - Regular
END:VEVENT
BEGIN:VEVENT
DTSTART;TZID=America/New_York:20250408T124500
DTEND;TZID=America/New_York:20250408T134500
DTSTAMP:20260425T093321
CREATED:20250119T234707Z
LAST-MODIFIED:20250210T235953Z
UID:47487-1744116300-1744119900@tcshighschool.org
SUMMARY:ASL I
DESCRIPTION:
URL:https://tcshighschool.org/event/asl-i-12-2025-04-08/2025-04-08/
CATEGORIES:Seminar - Regular
END:VEVENT
BEGIN:VEVENT
DTSTART;TZID=America/New_York:20250409T085500
DTEND;TZID=America/New_York:20250409T095500
DTSTAMP:20260425T093321
CREATED:20250409T132253Z
LAST-MODIFIED:20250409T132253Z
UID:48310-1744188900-1744192500@tcshighschool.org
SUMMARY:Physical Education
DESCRIPTION:
URL:https://tcshighschool.org/event/physical-education-7/2025-04-09/
CATEGORIES:Seminar - Regular
END:VEVENT
BEGIN:VEVENT
DTSTART;TZID=America/New_York:20250409T124500
DTEND;TZID=America/New_York:20250409T134500
DTSTAMP:20260425T093321
CREATED:20240925T111056Z
LAST-MODIFIED:20240925T111056Z
UID:47838-1744202700-1744206300@tcshighschool.org
SUMMARY:Art Seminar
DESCRIPTION:
URL:https://tcshighschool.org/event/art-seminar-7-2024-10-09-2025-04-09/
CATEGORIES:Seminar - Regular
END:VEVENT
BEGIN:VEVENT
DTSTART;TZID=America/New_York:20250410T120000
DTEND;TZID=America/New_York:20250410T140000
DTSTAMP:20260425T093321
CREATED:20240723T163952Z
LAST-MODIFIED:20240723T174757Z
UID:45806-1744286400-1744293600@tcshighschool.org
SUMMARY:Theatre with The Lyric
DESCRIPTION:
URL:https://tcshighschool.org/event/theatre-with-the-lyric-4-2025-04-10/2025-04-10/
CATEGORIES:Seminar - Regular
END:VEVENT
BEGIN:VEVENT
DTSTART;TZID=America/New_York:20250411T090000
DTEND;TZID=America/New_York:20250411T110000
DTSTAMP:20260425T093321
CREATED:20250110T145117Z
LAST-MODIFIED:20250428T132955Z
UID:47404-1744362000-1744369200@tcshighschool.org
SUMMARY:Creative Writing
DESCRIPTION:
URL:https://tcshighschool.org/event/creative-writing-12/2025-04-11/
CATEGORIES:Seminar - Regular
END:VEVENT
BEGIN:VEVENT
DTSTART;TZID=America/New_York:20250422T110000
DTEND;TZID=America/New_York:20250422T120000
DTSTAMP:20260425T093321
CREATED:20250119T234340Z
LAST-MODIFIED:20250210T235901Z
UID:47474-1745319600-1745323200@tcshighschool.org
SUMMARY:ASL II
DESCRIPTION:
URL:https://tcshighschool.org/event/asl-ii-7-2025-04-01/
CATEGORIES:Seminar - Regular
END:VEVENT
END:VCALENDAR