BEGIN:VCALENDAR
VERSION:2.0
PRODID:-//TCS High School - ECPv6.15.11//NONSGML v1.0//EN
CALSCALE:GREGORIAN
METHOD:PUBLISH
X-WR-CALNAME:TCS High School
X-ORIGINAL-URL:https://tcshighschool.org
X-WR-CALDESC:Events for TCS High School
REFRESH-INTERVAL;VALUE=DURATION:PT1H
X-Robots-Tag:noindex
X-PUBLISHED-TTL:PT1H
BEGIN:VTIMEZONE
TZID:America/New_York
BEGIN:DAYLIGHT
TZOFFSETFROM:-0500
TZOFFSETTO:-0400
TZNAME:EDT
DTSTART:20240310T070000
END:DAYLIGHT
BEGIN:STANDARD
TZOFFSETFROM:-0400
TZOFFSETTO:-0500
TZNAME:EST
DTSTART:20241103T060000
END:STANDARD
BEGIN:DAYLIGHT
TZOFFSETFROM:-0500
TZOFFSETTO:-0400
TZNAME:EDT
DTSTART:20250309T070000
END:DAYLIGHT
BEGIN:STANDARD
TZOFFSETFROM:-0400
TZOFFSETTO:-0500
TZNAME:EST
DTSTART:20251102T060000
END:STANDARD
BEGIN:DAYLIGHT
TZOFFSETFROM:-0500
TZOFFSETTO:-0400
TZNAME:EDT
DTSTART:20260308T070000
END:DAYLIGHT
BEGIN:STANDARD
TZOFFSETFROM:-0400
TZOFFSETTO:-0500
TZNAME:EST
DTSTART:20261101T060000
END:STANDARD
END:VTIMEZONE
BEGIN:VEVENT
DTSTART;TZID=America/New_York:20250425T090000
DTEND;TZID=America/New_York:20250425T110000
DTSTAMP:20260425T112100
CREATED:20250110T145117Z
LAST-MODIFIED:20250428T133000Z
UID:47407-1745571600-1745578800@tcshighschool.org
SUMMARY:Creative Writing
DESCRIPTION:
URL:https://tcshighschool.org/event/creative-writing-12/2025-04-25/
CATEGORIES:Seminar - Regular
END:VEVENT
BEGIN:VEVENT
DTSTART;TZID=America/New_York:20250429T110000
DTEND;TZID=America/New_York:20250429T120000
DTSTAMP:20260425T112100
CREATED:20250119T234340Z
LAST-MODIFIED:20250119T234340Z
UID:47478-1745924400-1745928000@tcshighschool.org
SUMMARY:ASL II
DESCRIPTION:
URL:https://tcshighschool.org/event/asl-ii-7/2025-04-29/
CATEGORIES:Seminar - Regular
END:VEVENT
BEGIN:VEVENT
DTSTART;TZID=America/New_York:20250429T124500
DTEND;TZID=America/New_York:20250429T134500
DTSTAMP:20260425T112100
CREATED:20250119T234707Z
LAST-MODIFIED:20250211T000014Z
UID:47490-1745930700-1745934300@tcshighschool.org
SUMMARY:ASL I
DESCRIPTION:
URL:https://tcshighschool.org/event/asl-i-12-2025-04-08/2025-04-29/
CATEGORIES:Seminar - Regular
END:VEVENT
BEGIN:VEVENT
DTSTART;TZID=America/New_York:20250429T134500
DTEND;TZID=America/New_York:20250429T150000
DTSTAMP:20260425T112100
CREATED:20250119T235325Z
LAST-MODIFIED:20250416T133907Z
UID:47498-1745934300-1745938800@tcshighschool.org
SUMMARY:Financial Literacy
DESCRIPTION:
URL:https://tcshighschool.org/event/financial-literacy-10/
CATEGORIES:Seminar - Regular
END:VEVENT
BEGIN:VEVENT
DTSTART;TZID=America/New_York:20250430T085500
DTEND;TZID=America/New_York:20250430T095500
DTSTAMP:20260425T112100
CREATED:20250409T132253Z
LAST-MODIFIED:20250409T132253Z
UID:48313-1746003300-1746006900@tcshighschool.org
SUMMARY:Physical Education
DESCRIPTION:
URL:https://tcshighschool.org/event/physical-education-7/2025-04-30/
CATEGORIES:Seminar - Regular
END:VEVENT
BEGIN:VEVENT
DTSTART;TZID=America/New_York:20250430T124500
DTEND;TZID=America/New_York:20250430T134500
DTSTAMP:20260425T112100
CREATED:20240925T111056Z
LAST-MODIFIED:20240925T111056Z
UID:48127-1746017100-1746020700@tcshighschool.org
SUMMARY:Art Seminar
DESCRIPTION:
URL:https://tcshighschool.org/event/art-seminar-7-2024-10-09-2025-03-26-2025-04-30/
CATEGORIES:Seminar - Regular
END:VEVENT
BEGIN:VEVENT
DTSTART;TZID=America/New_York:20250502T090000
DTEND;TZID=America/New_York:20250502T110000
DTSTAMP:20260425T112100
CREATED:20250110T145117Z
LAST-MODIFIED:20250428T133007Z
UID:47408-1746176400-1746183600@tcshighschool.org
SUMMARY:Creative Writing
DESCRIPTION:
URL:https://tcshighschool.org/event/creative-writing-12/2025-05-02/
CATEGORIES:Seminar - Regular
END:VEVENT
BEGIN:VEVENT
DTSTART;TZID=America/New_York:20250506T110000
DTEND;TZID=America/New_York:20250506T120000
DTSTAMP:20260425T112100
CREATED:20250119T234340Z
LAST-MODIFIED:20250119T234340Z
UID:47479-1746529200-1746532800@tcshighschool.org
SUMMARY:ASL II
DESCRIPTION:
URL:https://tcshighschool.org/event/asl-ii-7/2025-05-06/
CATEGORIES:Seminar - Regular
END:VEVENT
BEGIN:VEVENT
DTSTART;TZID=America/New_York:20250506T124500
DTEND;TZID=America/New_York:20250506T134500
DTSTAMP:20260425T112100
CREATED:20250119T234707Z
LAST-MODIFIED:20250211T000024Z
UID:47491-1746535500-1746539100@tcshighschool.org
SUMMARY:ASL I
DESCRIPTION:
URL:https://tcshighschool.org/event/asl-i-12-2025-04-08/2025-05-06/
CATEGORIES:Seminar - Regular
END:VEVENT
BEGIN:VEVENT
DTSTART;TZID=America/New_York:20250507T085500
DTEND;TZID=America/New_York:20250507T095500
DTSTAMP:20260425T112100
CREATED:20250409T132253Z
LAST-MODIFIED:20250409T132253Z
UID:48314-1746608100-1746611700@tcshighschool.org
SUMMARY:Physical Education
DESCRIPTION:
URL:https://tcshighschool.org/event/physical-education-7/2025-05-07/
CATEGORIES:Seminar - Regular
END:VEVENT
BEGIN:VEVENT
DTSTART;TZID=America/New_York:20250507T124500
DTEND;TZID=America/New_York:20250507T134500
DTSTAMP:20260425T112100
CREATED:20240925T111056Z
LAST-MODIFIED:20240925T111056Z
UID:48128-1746621900-1746625500@tcshighschool.org
SUMMARY:Art Seminar
DESCRIPTION:
URL:https://tcshighschool.org/event/art-seminar-7-2024-10-09-2025-03-26-2025-05-07/
CATEGORIES:Seminar - Regular
END:VEVENT
BEGIN:VEVENT
DTSTART;TZID=America/New_York:20250509T090000
DTEND;TZID=America/New_York:20250509T110000
DTSTAMP:20260425T112100
CREATED:20250110T145117Z
LAST-MODIFIED:20250504T212826Z
UID:47409-1746781200-1746788400@tcshighschool.org
SUMMARY:Creative Writing
DESCRIPTION:
URL:https://tcshighschool.org/event/creative-writing-12-2025-05-09/
CATEGORIES:Seminar - Regular
END:VEVENT
BEGIN:VEVENT
DTSTART;TZID=America/New_York:20250513T110000
DTEND;TZID=America/New_York:20250513T120000
DTSTAMP:20260425T112100
CREATED:20250119T234340Z
LAST-MODIFIED:20250119T234340Z
UID:47480-1747134000-1747137600@tcshighschool.org
SUMMARY:ASL II
DESCRIPTION:
URL:https://tcshighschool.org/event/asl-ii-7/2025-05-13/
CATEGORIES:Seminar - Regular
END:VEVENT
BEGIN:VEVENT
DTSTART;TZID=America/New_York:20250513T124500
DTEND;TZID=America/New_York:20250513T134500
DTSTAMP:20260425T112100
CREATED:20250119T234707Z
LAST-MODIFIED:20250211T000035Z
UID:47492-1747140300-1747143900@tcshighschool.org
SUMMARY:ASL I
DESCRIPTION:
URL:https://tcshighschool.org/event/asl-i-12-2025-04-08/2025-05-13/
CATEGORIES:Seminar - Regular
END:VEVENT
BEGIN:VEVENT
DTSTART;TZID=America/New_York:20250514T085500
DTEND;TZID=America/New_York:20250514T095500
DTSTAMP:20260425T112100
CREATED:20250409T132253Z
LAST-MODIFIED:20250409T132253Z
UID:48315-1747212900-1747216500@tcshighschool.org
SUMMARY:Physical Education
DESCRIPTION:
URL:https://tcshighschool.org/event/physical-education-7/2025-05-14/
CATEGORIES:Seminar - Regular
END:VEVENT
BEGIN:VEVENT
DTSTART;TZID=America/New_York:20250514T124500
DTEND;TZID=America/New_York:20250514T134500
DTSTAMP:20260425T112100
CREATED:20240925T111056Z
LAST-MODIFIED:20240925T111056Z
UID:48129-1747226700-1747230300@tcshighschool.org
SUMMARY:Art Seminar
DESCRIPTION:
URL:https://tcshighschool.org/event/art-seminar-7-2024-10-09-2025-03-26-2025-05-14/
CATEGORIES:Seminar - Regular
END:VEVENT
BEGIN:VEVENT
DTSTART;TZID=America/New_York:20250516T090000
DTEND;TZID=America/New_York:20250516T110000
DTSTAMP:20260425T112100
CREATED:20250110T145117Z
LAST-MODIFIED:20250428T133019Z
UID:47410-1747386000-1747393200@tcshighschool.org
SUMMARY:Creative Writing
DESCRIPTION:
URL:https://tcshighschool.org/event/creative-writing-12/2025-05-16/
CATEGORIES:Seminar - Regular
END:VEVENT
BEGIN:VEVENT
DTSTART;TZID=America/New_York:20250520T110000
DTEND;TZID=America/New_York:20250520T120000
DTSTAMP:20260425T112100
CREATED:20250119T234340Z
LAST-MODIFIED:20250119T234340Z
UID:47481-1747738800-1747742400@tcshighschool.org
SUMMARY:ASL II
DESCRIPTION:
URL:https://tcshighschool.org/event/asl-ii-7/2025-05-20/
CATEGORIES:Seminar - Regular
END:VEVENT
BEGIN:VEVENT
DTSTART;TZID=America/New_York:20250520T124500
DTEND;TZID=America/New_York:20250520T134500
DTSTAMP:20260425T112100
CREATED:20250119T234707Z
LAST-MODIFIED:20250211T000043Z
UID:47493-1747745100-1747748700@tcshighschool.org
SUMMARY:ASL I
DESCRIPTION:
URL:https://tcshighschool.org/event/asl-i-12-2025-04-08/2025-05-20/
CATEGORIES:Seminar - Regular
END:VEVENT
BEGIN:VEVENT
DTSTART;TZID=America/New_York:20250521T085500
DTEND;TZID=America/New_York:20250521T095500
DTSTAMP:20260425T112100
CREATED:20250409T132253Z
LAST-MODIFIED:20250409T132253Z
UID:48316-1747817700-1747821300@tcshighschool.org
SUMMARY:Physical Education
DESCRIPTION:
URL:https://tcshighschool.org/event/physical-education-7/2025-05-21/
CATEGORIES:Seminar - Regular
END:VEVENT
BEGIN:VEVENT
DTSTART;TZID=America/New_York:20250521T124500
DTEND;TZID=America/New_York:20250521T134500
DTSTAMP:20260425T112100
CREATED:20240925T111056Z
LAST-MODIFIED:20250303T173014Z
UID:47942-1747831500-1747835100@tcshighschool.org
SUMMARY:Art Seminar
DESCRIPTION:
URL:https://tcshighschool.org/event/art-seminar-7-2024-10-09-2025-02-26-2025-05-21/
CATEGORIES:Seminar - Regular
END:VEVENT
BEGIN:VEVENT
DTSTART;TZID=America/New_York:20250523T090000
DTEND;TZID=America/New_York:20250523T110000
DTSTAMP:20260425T112100
CREATED:20250110T145117Z
LAST-MODIFIED:20250428T133026Z
UID:47411-1747990800-1747998000@tcshighschool.org
SUMMARY:Creative Writing
DESCRIPTION:
URL:https://tcshighschool.org/event/creative-writing-12/2025-05-23/
CATEGORIES:Seminar - Regular
END:VEVENT
BEGIN:VEVENT
DTSTART;TZID=America/New_York:20250527T110000
DTEND;TZID=America/New_York:20250527T120000
DTSTAMP:20260425T112100
CREATED:20250119T234340Z
LAST-MODIFIED:20250119T234340Z
UID:47482-1748343600-1748347200@tcshighschool.org
SUMMARY:ASL II
DESCRIPTION:
URL:https://tcshighschool.org/event/asl-ii-7/2025-05-27/
CATEGORIES:Seminar - Regular
END:VEVENT
BEGIN:VEVENT
DTSTART;TZID=America/New_York:20250527T124500
DTEND;TZID=America/New_York:20250527T134500
DTSTAMP:20260425T112100
CREATED:20250119T234707Z
LAST-MODIFIED:20250211T000052Z
UID:47494-1748349900-1748353500@tcshighschool.org
SUMMARY:ASL I
DESCRIPTION:
URL:https://tcshighschool.org/event/asl-i-12-2025-04-08/2025-05-27/
CATEGORIES:Seminar - Regular
END:VEVENT
BEGIN:VEVENT
DTSTART;TZID=America/New_York:20250528T085500
DTEND;TZID=America/New_York:20250528T095500
DTSTAMP:20260425T112100
CREATED:20250409T132253Z
LAST-MODIFIED:20250409T132253Z
UID:48317-1748422500-1748426100@tcshighschool.org
SUMMARY:Physical Education
DESCRIPTION:
URL:https://tcshighschool.org/event/physical-education-7/2025-05-28/
CATEGORIES:Seminar - Regular
END:VEVENT
BEGIN:VEVENT
DTSTART;TZID=America/New_York:20250528T124500
DTEND;TZID=America/New_York:20250528T134500
DTSTAMP:20260425T112100
CREATED:20240925T111056Z
LAST-MODIFIED:20240925T111056Z
UID:48131-1748436300-1748439900@tcshighschool.org
SUMMARY:Art Seminar
DESCRIPTION:
URL:https://tcshighschool.org/event/art-seminar-7-2024-10-09-2025-03-26-2025-05-28/
CATEGORIES:Seminar - Regular
END:VEVENT
BEGIN:VEVENT
DTSTART;TZID=America/New_York:20250905T090000
DTEND;TZID=America/New_York:20250905T110000
DTSTAMP:20260425T112100
CREATED:20250708T133732Z
LAST-MODIFIED:20250708T133732Z
UID:48702-1757062800-1757070000@tcshighschool.org
SUMMARY:Creative Writing Seminar
DESCRIPTION:
URL:https://tcshighschool.org/event/creative-writing-seminar-12/2025-09-05/
CATEGORIES:Seminar - Regular
END:VEVENT
BEGIN:VEVENT
DTSTART;TZID=America/New_York:20250909T124500
DTEND;TZID=America/New_York:20250909T134500
DTSTAMP:20260425T112100
CREATED:20250825T102112Z
LAST-MODIFIED:20250929T222002Z
UID:49121-1757421900-1757425500@tcshighschool.org
SUMMARY:Guest Artist: George Hagegeorge
DESCRIPTION:Bio\nMusician\, producer\, songwriter\, photographer\, writer\, and watercolorist George\nHagegeorge has credits on dozens of music releases as producer\, remixer\, musician\nand composer.  His photojournalism has been published in newspapers throughout\nMaryland including the Baltimore Sun\, The Baltimore Examiner\, and the Washington\nPost. George’s watercolor work began during covid lockdown and developed as he\nexperimented with various methods. \nClass\nGeorge’s demonstration/workshop will be about painting with watercolors\, with your\neyes closed. It will include a short introduction to his work and methods\, then most of\nthe hour will be dedicated to each of the students creating “eyes closed” watercolor\npaintings\, choosing their favorite and talking about it.
URL:https://tcshighschool.org/event/art-class-introduction/
CATEGORIES:Seminar - Regular
ATTACH;FMTTYPE=image/jpeg:https://tcshighschool.org/wp-content/uploads/2025/08/Georgesq.jpg
END:VEVENT
BEGIN:VEVENT
DTSTART;TZID=America/New_York:20250910T085500
DTEND;TZID=America/New_York:20250910T095500
DTSTAMP:20260425T112100
CREATED:20250708T133601Z
LAST-MODIFIED:20250708T133601Z
UID:48690-1757494500-1757498100@tcshighschool.org
SUMMARY:Physical Education
DESCRIPTION:
URL:https://tcshighschool.org/event/physical-education-8/2025-09-10/
CATEGORIES:Seminar - Regular
END:VEVENT
BEGIN:VEVENT
DTSTART;TZID=America/New_York:20250912T090000
DTEND;TZID=America/New_York:20250912T110000
DTSTAMP:20260425T112100
CREATED:20250708T133732Z
LAST-MODIFIED:20250708T133732Z
UID:48703-1757667600-1757674800@tcshighschool.org
SUMMARY:Creative Writing Seminar
DESCRIPTION:
URL:https://tcshighschool.org/event/creative-writing-seminar-12/2025-09-12/
CATEGORIES:Seminar - Regular
END:VEVENT
END:VCALENDAR