BEGIN:VCALENDAR
VERSION:2.0
PRODID:-//TCS High School - ECPv6.15.11//NONSGML v1.0//EN
CALSCALE:GREGORIAN
METHOD:PUBLISH
X-ORIGINAL-URL:https://tcshighschool.org
X-WR-CALDESC:Events for TCS High School
REFRESH-INTERVAL;VALUE=DURATION:PT1H
X-Robots-Tag:noindex
X-PUBLISHED-TTL:PT1H
BEGIN:VTIMEZONE
TZID:America/New_York
BEGIN:DAYLIGHT
TZOFFSETFROM:-0500
TZOFFSETTO:-0400
TZNAME:EDT
DTSTART:20220313T070000
END:DAYLIGHT
BEGIN:STANDARD
TZOFFSETFROM:-0400
TZOFFSETTO:-0500
TZNAME:EST
DTSTART:20221106T060000
END:STANDARD
BEGIN:DAYLIGHT
TZOFFSETFROM:-0500
TZOFFSETTO:-0400
TZNAME:EDT
DTSTART:20230312T070000
END:DAYLIGHT
BEGIN:STANDARD
TZOFFSETFROM:-0400
TZOFFSETTO:-0500
TZNAME:EST
DTSTART:20231105T060000
END:STANDARD
BEGIN:DAYLIGHT
TZOFFSETFROM:-0500
TZOFFSETTO:-0400
TZNAME:EDT
DTSTART:20240310T070000
END:DAYLIGHT
BEGIN:STANDARD
TZOFFSETFROM:-0400
TZOFFSETTO:-0500
TZNAME:EST
DTSTART:20241103T060000
END:STANDARD
END:VTIMEZONE
BEGIN:VEVENT
DTSTART;TZID=America/New_York:20231003T100000
DTEND;TZID=America/New_York:20231003T110000
DTSTAMP:20260425T122731
CREATED:20231102T133133Z
LAST-MODIFIED:20231102T133133Z
UID:44433-1696327200-1696330800@tcshighschool.org
SUMMARY:ASL I
DESCRIPTION:
URL:https://tcshighschool.org/event/asl-i-5/2023-10-03/
CATEGORIES:Seminar - Regular
END:VEVENT
BEGIN:VEVENT
DTSTART;TZID=America/New_York:20231003T124500
DTEND;TZID=America/New_York:20231003T134500
DTSTAMP:20260425T122731
CREATED:20230814T215700Z
LAST-MODIFIED:20230816T184728Z
UID:43090-1696337100-1696340700@tcshighschool.org
SUMMARY:ASL II
DESCRIPTION:
URL:https://tcshighschool.org/event/asl-ii-2-2023-09-19/2023-10-03/
CATEGORIES:Seminar - Regular
END:VEVENT
BEGIN:VEVENT
DTSTART;TZID=America/New_York:20231004T084500
DTEND;TZID=America/New_York:20231004T084500
DTSTAMP:20260425T122731
CREATED:20230814T214915Z
LAST-MODIFIED:20230814T214915Z
UID:42916-1696409100-1696409100@tcshighschool.org
SUMMARY:Physical Education
DESCRIPTION:
URL:https://tcshighschool.org/event/physical-education-3/2023-10-04/
CATEGORIES:Seminar - Regular
END:VEVENT
BEGIN:VEVENT
DTSTART;TZID=America/New_York:20231004T124500
DTEND;TZID=America/New_York:20231004T134500
DTSTAMP:20260425T122731
CREATED:20230814T215311Z
LAST-MODIFIED:20230821T134628Z
UID:43440-1696423500-1696427100@tcshighschool.org
SUMMARY:Visual Arts
DESCRIPTION:
URL:https://tcshighschool.org/event/visual-arts-2023-09-13/2023-10-04/
CATEGORIES:Seminar - Regular
END:VEVENT
BEGIN:VEVENT
DTSTART;TZID=America/New_York:20231005T124500
DTEND;TZID=America/New_York:20231005T134500
DTSTAMP:20260425T122731
CREATED:20231010T104507Z
LAST-MODIFIED:20231010T104507Z
UID:44221-1696509900-1696513500@tcshighschool.org
SUMMARY:Theatre with The Lyric
DESCRIPTION:
URL:https://tcshighschool.org/event/theatre-with-the-lyric-3/2023-10-05/
CATEGORIES:Seminar - Regular
END:VEVENT
BEGIN:VEVENT
DTSTART;TZID=America/New_York:20231006T090000
DTEND;TZID=America/New_York:20231006T110000
DTSTAMP:20260425T122731
CREATED:20230814T215012Z
LAST-MODIFIED:20230814T215012Z
UID:42956-1696582800-1696590000@tcshighschool.org
SUMMARY:Creative Writing
DESCRIPTION:
URL:https://tcshighschool.org/event/creative-writing-8/2023-10-06/
CATEGORIES:Seminar - Regular
END:VEVENT
END:VCALENDAR