BEGIN:VCALENDAR
VERSION:2.0
PRODID:-//TCS High School - ECPv6.15.11//NONSGML v1.0//EN
CALSCALE:GREGORIAN
METHOD:PUBLISH
X-WR-CALNAME:TCS High School
X-ORIGINAL-URL:https://tcshighschool.org
X-WR-CALDESC:Events for TCS High School
REFRESH-INTERVAL;VALUE=DURATION:PT1H
X-Robots-Tag:noindex
X-PUBLISHED-TTL:PT1H
BEGIN:VTIMEZONE
TZID:America/New_York
BEGIN:DAYLIGHT
TZOFFSETFROM:-0500
TZOFFSETTO:-0400
TZNAME:EDT
DTSTART:20230312T070000
END:DAYLIGHT
BEGIN:STANDARD
TZOFFSETFROM:-0400
TZOFFSETTO:-0500
TZNAME:EST
DTSTART:20231105T060000
END:STANDARD
BEGIN:DAYLIGHT
TZOFFSETFROM:-0500
TZOFFSETTO:-0400
TZNAME:EDT
DTSTART:20240310T070000
END:DAYLIGHT
BEGIN:STANDARD
TZOFFSETFROM:-0400
TZOFFSETTO:-0500
TZNAME:EST
DTSTART:20241103T060000
END:STANDARD
BEGIN:DAYLIGHT
TZOFFSETFROM:-0500
TZOFFSETTO:-0400
TZNAME:EDT
DTSTART:20250309T070000
END:DAYLIGHT
BEGIN:STANDARD
TZOFFSETFROM:-0400
TZOFFSETTO:-0500
TZNAME:EST
DTSTART:20251102T060000
END:STANDARD
END:VTIMEZONE
BEGIN:VEVENT
DTSTART;TZID=America/New_York:20240226T124500
DTEND;TZID=America/New_York:20240226T134500
DTSTAMP:20260425T073920
CREATED:20230817T155800Z
LAST-MODIFIED:20230817T180836Z
UID:43481-1708951500-1708955100@tcshighschool.org
SUMMARY:Financial Literacy
DESCRIPTION:
URL:https://tcshighschool.org/event/financial-literacy-5-2024-02-12/
CATEGORIES:Seminar - Regular
END:VEVENT
BEGIN:VEVENT
DTSTART;TZID=America/New_York:20240227T100000
DTEND;TZID=America/New_York:20240227T110000
DTSTAMP:20260425T073920
CREATED:20230814T215601Z
LAST-MODIFIED:20230814T230437Z
UID:43129-1709028000-1709031600@tcshighschool.org
SUMMARY:ASL I
DESCRIPTION:
URL:https://tcshighschool.org/event/asl-i-2-2023-10-10/2024-02-27/
CATEGORIES:Seminar - Regular
END:VEVENT
BEGIN:VEVENT
DTSTART;TZID=America/New_York:20240227T124500
DTEND;TZID=America/New_York:20240227T134500
DTSTAMP:20260425T073920
CREATED:20230814T215700Z
LAST-MODIFIED:20230816T184736Z
UID:43111-1709037900-1709041500@tcshighschool.org
SUMMARY:ASL II
DESCRIPTION:
URL:https://tcshighschool.org/event/asl-ii-2-2023-09-19/2024-02-27/
CATEGORIES:Seminar - Regular
END:VEVENT
BEGIN:VEVENT
DTSTART;TZID=America/New_York:20240228T084500
DTEND;TZID=America/New_York:20240228T084500
DTSTAMP:20260425T073920
CREATED:20230814T214915Z
LAST-MODIFIED:20230814T214915Z
UID:42937-1709109900-1709109900@tcshighschool.org
SUMMARY:Physical Education
DESCRIPTION:
URL:https://tcshighschool.org/event/physical-education-3/2024-02-28/
CATEGORIES:Seminar - Regular
END:VEVENT
BEGIN:VEVENT
DTSTART;TZID=America/New_York:20240228T124500
DTEND;TZID=America/New_York:20240228T134500
DTSTAMP:20260425T073920
CREATED:20230814T215311Z
LAST-MODIFIED:20230821T134628Z
UID:43460-1709124300-1709127900@tcshighschool.org
SUMMARY:Visual Arts
DESCRIPTION:
URL:https://tcshighschool.org/event/visual-arts-2023-09-13/2024-02-28/
CATEGORIES:Seminar - Regular
END:VEVENT
BEGIN:VEVENT
DTSTART;TZID=America/New_York:20240301T090000
DTEND;TZID=America/New_York:20240301T110000
DTSTAMP:20260425T073920
CREATED:20230814T215012Z
LAST-MODIFIED:20230814T215012Z
UID:42978-1709283600-1709290800@tcshighschool.org
SUMMARY:Creative Writing
DESCRIPTION:
URL:https://tcshighschool.org/event/creative-writing-8/2024-03-01/
CATEGORIES:Seminar - Regular
END:VEVENT
END:VCALENDAR