BEGIN:VCALENDAR
VERSION:2.0
PRODID:-//TCS High School - ECPv6.15.11//NONSGML v1.0//EN
CALSCALE:GREGORIAN
METHOD:PUBLISH
X-WR-CALNAME:TCS High School
X-ORIGINAL-URL:https://tcshighschool.org
X-WR-CALDESC:Events for TCS High School
REFRESH-INTERVAL;VALUE=DURATION:PT1H
X-Robots-Tag:noindex
X-PUBLISHED-TTL:PT1H
BEGIN:VTIMEZONE
TZID:America/New_York
BEGIN:DAYLIGHT
TZOFFSETFROM:-0500
TZOFFSETTO:-0400
TZNAME:EDT
DTSTART:20230312T070000
END:DAYLIGHT
BEGIN:STANDARD
TZOFFSETFROM:-0400
TZOFFSETTO:-0500
TZNAME:EST
DTSTART:20231105T060000
END:STANDARD
BEGIN:DAYLIGHT
TZOFFSETFROM:-0500
TZOFFSETTO:-0400
TZNAME:EDT
DTSTART:20240310T070000
END:DAYLIGHT
BEGIN:STANDARD
TZOFFSETFROM:-0400
TZOFFSETTO:-0500
TZNAME:EST
DTSTART:20241103T060000
END:STANDARD
BEGIN:DAYLIGHT
TZOFFSETFROM:-0500
TZOFFSETTO:-0400
TZNAME:EDT
DTSTART:20250309T070000
END:DAYLIGHT
BEGIN:STANDARD
TZOFFSETFROM:-0400
TZOFFSETTO:-0500
TZNAME:EST
DTSTART:20251102T060000
END:STANDARD
END:VTIMEZONE
BEGIN:VEVENT
DTSTART;TZID=America/New_York:20240318T124500
DTEND;TZID=America/New_York:20240318T134500
DTSTAMP:20260425T064136
CREATED:20230817T155800Z
LAST-MODIFIED:20230817T180945Z
UID:43482-1710765900-1710769500@tcshighschool.org
SUMMARY:Financial Literacy
DESCRIPTION:
URL:https://tcshighschool.org/event/financial-literacy-5-2024-03-11/
CATEGORIES:Seminar - Regular
END:VEVENT
BEGIN:VEVENT
DTSTART;TZID=America/New_York:20240319T100000
DTEND;TZID=America/New_York:20240319T110000
DTSTAMP:20260425T064136
CREATED:20230814T215601Z
LAST-MODIFIED:20230814T230438Z
UID:43132-1710842400-1710846000@tcshighschool.org
SUMMARY:ASL I
DESCRIPTION:
URL:https://tcshighschool.org/event/asl-i-2-2023-10-10/2024-03-19/
CATEGORIES:Seminar - Regular
END:VEVENT
BEGIN:VEVENT
DTSTART;TZID=America/New_York:20240319T124500
DTEND;TZID=America/New_York:20240319T134500
DTSTAMP:20260425T064136
CREATED:20230814T215700Z
LAST-MODIFIED:20230816T191432Z
UID:43114-1710852300-1710855900@tcshighschool.org
SUMMARY:ASL II
DESCRIPTION:
URL:https://tcshighschool.org/event/asl-ii-2-2023-09-19/2024-03-19/
CATEGORIES:Seminar - Regular
END:VEVENT
BEGIN:VEVENT
DTSTART;TZID=America/New_York:20240320T084500
DTEND;TZID=America/New_York:20240320T084500
DTSTAMP:20260425T064136
CREATED:20230814T214915Z
LAST-MODIFIED:20230814T214915Z
UID:42940-1710924300-1710924300@tcshighschool.org
SUMMARY:Physical Education
DESCRIPTION:
URL:https://tcshighschool.org/event/physical-education-3/2024-03-20/
CATEGORIES:Seminar - Regular
END:VEVENT
BEGIN:VEVENT
DTSTART;TZID=America/New_York:20240320T124500
DTEND;TZID=America/New_York:20240320T134500
DTSTAMP:20260425T064136
CREATED:20230814T215311Z
LAST-MODIFIED:20230821T134628Z
UID:43463-1710938700-1710942300@tcshighschool.org
SUMMARY:Visual Arts
DESCRIPTION:
URL:https://tcshighschool.org/event/visual-arts-2023-09-13/2024-03-20/
CATEGORIES:Seminar - Regular
END:VEVENT
BEGIN:VEVENT
DTSTART;TZID=America/New_York:20240321T124500
DTEND;TZID=America/New_York:20240321T134500
DTSTAMP:20260425T064136
CREATED:20231010T104507Z
LAST-MODIFIED:20231010T104507Z
UID:44246-1711025100-1711028700@tcshighschool.org
SUMMARY:Theatre with The Lyric
DESCRIPTION:
URL:https://tcshighschool.org/event/theatre-with-the-lyric-3/2024-03-21/
CATEGORIES:Seminar - Regular
END:VEVENT
BEGIN:VEVENT
DTSTART;TZID=America/New_York:20240322T090000
DTEND;TZID=America/New_York:20240322T110000
DTSTAMP:20260425T064136
CREATED:20230814T215012Z
LAST-MODIFIED:20230814T215012Z
UID:42981-1711098000-1711105200@tcshighschool.org
SUMMARY:Creative Writing
DESCRIPTION:
URL:https://tcshighschool.org/event/creative-writing-8/2024-03-22/
CATEGORIES:Seminar - Regular
END:VEVENT
END:VCALENDAR