BEGIN:VCALENDAR
VERSION:2.0
PRODID:-//TCS High School - ECPv6.15.11//NONSGML v1.0//EN
CALSCALE:GREGORIAN
METHOD:PUBLISH
X-WR-CALNAME:TCS High School
X-ORIGINAL-URL:https://tcshighschool.org
X-WR-CALDESC:Events for TCS High School
REFRESH-INTERVAL;VALUE=DURATION:PT1H
X-Robots-Tag:noindex
X-PUBLISHED-TTL:PT1H
BEGIN:VTIMEZONE
TZID:America/New_York
BEGIN:DAYLIGHT
TZOFFSETFROM:-0500
TZOFFSETTO:-0400
TZNAME:EDT
DTSTART:20230312T070000
END:DAYLIGHT
BEGIN:STANDARD
TZOFFSETFROM:-0400
TZOFFSETTO:-0500
TZNAME:EST
DTSTART:20231105T060000
END:STANDARD
BEGIN:DAYLIGHT
TZOFFSETFROM:-0500
TZOFFSETTO:-0400
TZNAME:EDT
DTSTART:20240310T070000
END:DAYLIGHT
BEGIN:STANDARD
TZOFFSETFROM:-0400
TZOFFSETTO:-0500
TZNAME:EST
DTSTART:20241103T060000
END:STANDARD
BEGIN:DAYLIGHT
TZOFFSETFROM:-0500
TZOFFSETTO:-0400
TZNAME:EDT
DTSTART:20250309T070000
END:DAYLIGHT
BEGIN:STANDARD
TZOFFSETFROM:-0400
TZOFFSETTO:-0500
TZNAME:EST
DTSTART:20251102T060000
END:STANDARD
END:VTIMEZONE
BEGIN:VEVENT
DTSTART;TZID=America/New_York:20240409T084500
DTEND;TZID=America/New_York:20240409T100000
DTSTAMP:20260425T071653
CREATED:20240220T000719Z
LAST-MODIFIED:20240220T000719Z
UID:45115-1712652300-1712656800@tcshighschool.org
SUMMARY:Digital Story Telling Seminar
DESCRIPTION:
URL:https://tcshighschool.org/event/digital-story-telling-seminar/2024-04-09/
CATEGORIES:Seminar - Regular
END:VEVENT
BEGIN:VEVENT
DTSTART;TZID=America/New_York:20240409T100000
DTEND;TZID=America/New_York:20240409T110000
DTSTAMP:20260425T071653
CREATED:20230820T152732Z
LAST-MODIFIED:20230820T152732Z
UID:43627-1712656800-1712660400@tcshighschool.org
SUMMARY:ASL I
DESCRIPTION:
URL:https://tcshighschool.org/event/asl-i-3/2024-04-09/
CATEGORIES:Seminar - Regular
END:VEVENT
BEGIN:VEVENT
DTSTART;TZID=America/New_York:20240409T124500
DTEND;TZID=America/New_York:20240409T134500
DTSTAMP:20260425T071653
CREATED:20230814T215700Z
LAST-MODIFIED:20230816T191434Z
UID:43117-1712666700-1712670300@tcshighschool.org
SUMMARY:ASL II
DESCRIPTION:
URL:https://tcshighschool.org/event/asl-ii-2-2023-09-19/2024-04-09/
CATEGORIES:Seminar - Regular
END:VEVENT
BEGIN:VEVENT
DTSTART;TZID=America/New_York:20240410T084500
DTEND;TZID=America/New_York:20240410T084500
DTSTAMP:20260425T071653
CREATED:20230814T214915Z
LAST-MODIFIED:20230814T214915Z
UID:42943-1712738700-1712738700@tcshighschool.org
SUMMARY:Physical Education
DESCRIPTION:
URL:https://tcshighschool.org/event/physical-education-3/2024-04-10/
CATEGORIES:Seminar - Regular
END:VEVENT
BEGIN:VEVENT
DTSTART;TZID=America/New_York:20240410T124500
DTEND;TZID=America/New_York:20240410T134500
DTSTAMP:20260425T071653
CREATED:20230814T215311Z
LAST-MODIFIED:20230821T134628Z
UID:43465-1712753100-1712756700@tcshighschool.org
SUMMARY:Visual Arts
DESCRIPTION:
URL:https://tcshighschool.org/event/visual-arts-2023-09-13/2024-04-10/
CATEGORIES:Seminar - Regular
END:VEVENT
BEGIN:VEVENT
DTSTART;TZID=America/New_York:20240412T090000
DTEND;TZID=America/New_York:20240412T110000
DTSTAMP:20260425T071653
CREATED:20230814T215012Z
LAST-MODIFIED:20230814T215012Z
UID:43186-1712912400-1712919600@tcshighschool.org
SUMMARY:Creative Writing
DESCRIPTION:
URL:https://tcshighschool.org/event/creative-writing-8-2023-12-29-2024-04-12/
CATEGORIES:Seminar - Regular
END:VEVENT
END:VCALENDAR