BEGIN:VCALENDAR
VERSION:2.0
PRODID:-//TCS High School - ECPv6.15.11//NONSGML v1.0//EN
CALSCALE:GREGORIAN
METHOD:PUBLISH
X-WR-CALNAME:TCS High School
X-ORIGINAL-URL:https://tcshighschool.org
X-WR-CALDESC:Events for TCS High School
REFRESH-INTERVAL;VALUE=DURATION:PT1H
X-Robots-Tag:noindex
X-PUBLISHED-TTL:PT1H
BEGIN:VTIMEZONE
TZID:America/New_York
BEGIN:DAYLIGHT
TZOFFSETFROM:-0500
TZOFFSETTO:-0400
TZNAME:EDT
DTSTART:20240310T070000
END:DAYLIGHT
BEGIN:STANDARD
TZOFFSETFROM:-0400
TZOFFSETTO:-0500
TZNAME:EST
DTSTART:20241103T060000
END:STANDARD
BEGIN:DAYLIGHT
TZOFFSETFROM:-0500
TZOFFSETTO:-0400
TZNAME:EDT
DTSTART:20250309T070000
END:DAYLIGHT
BEGIN:STANDARD
TZOFFSETFROM:-0400
TZOFFSETTO:-0500
TZNAME:EST
DTSTART:20251102T060000
END:STANDARD
BEGIN:DAYLIGHT
TZOFFSETFROM:-0500
TZOFFSETTO:-0400
TZNAME:EDT
DTSTART:20260308T070000
END:DAYLIGHT
BEGIN:STANDARD
TZOFFSETFROM:-0400
TZOFFSETTO:-0500
TZNAME:EST
DTSTART:20261101T060000
END:STANDARD
END:VTIMEZONE
BEGIN:VEVENT
DTSTART;TZID=America/New_York:20250224T134500
DTEND;TZID=America/New_York:20250224T150000
DTSTAMP:20260424T082526
CREATED:20250110T145347Z
LAST-MODIFIED:20250126T155834Z
UID:47416-1740404700-1740409200@tcshighschool.org
SUMMARY:Computer Science Seminar
DESCRIPTION:
URL:https://tcshighschool.org/event/computer-science-seminar-tentative/2025-02-24/
CATEGORIES:Seminar - Regular
END:VEVENT
BEGIN:VEVENT
DTSTART;TZID=America/New_York:20250225T110000
DTEND;TZID=America/New_York:20250225T120000
DTSTAMP:20260424T082526
CREATED:20240816T162309Z
LAST-MODIFIED:20240816T162309Z
UID:46264-1740481200-1740484800@tcshighschool.org
SUMMARY:ASL I
DESCRIPTION:
URL:https://tcshighschool.org/event/asl-i-10-2025-02-25/
CATEGORIES:Seminar - Regular
END:VEVENT
BEGIN:VEVENT
DTSTART;TZID=America/New_York:20250225T124500
DTEND;TZID=America/New_York:20250225T134500
DTSTAMP:20260424T082526
CREATED:20240816T162707Z
LAST-MODIFIED:20240816T162707Z
UID:46276-1740487500-1740491100@tcshighschool.org
SUMMARY:ASL II
DESCRIPTION:
URL:https://tcshighschool.org/event/asl-ii-7-2025-02-25/
CATEGORIES:Seminar - Regular
END:VEVENT
BEGIN:VEVENT
DTSTART;TZID=America/New_York:20250225T140000
DTEND;TZID=America/New_York:20250225T150000
DTSTAMP:20260424T082526
CREATED:20250218T140411Z
LAST-MODIFIED:20250218T140411Z
UID:47723-1740492000-1740495600@tcshighschool.org
SUMMARY:Art Seminar
DESCRIPTION:
URL:https://tcshighschool.org/event/art-seminar-11/
CATEGORIES:Seminar - Regular
END:VEVENT
BEGIN:VEVENT
DTSTART;TZID=America/New_York:20250226T085500
DTEND;TZID=America/New_York:20250226T095500
DTSTAMP:20260424T082526
CREATED:20240814T174033Z
LAST-MODIFIED:20240814T174033Z
UID:46177-1740560100-1740563700@tcshighschool.org
SUMMARY:Physical Education
DESCRIPTION:
URL:https://tcshighschool.org/event/physical-education-6/2025-02-26/
CATEGORIES:Seminar - Regular
END:VEVENT
BEGIN:VEVENT
DTSTART;TZID=America/New_York:20250228T090000
DTEND;TZID=America/New_York:20250228T110000
DTSTAMP:20260424T082526
CREATED:20250110T145117Z
LAST-MODIFIED:20250428T132215Z
UID:47397-1740733200-1740740400@tcshighschool.org
SUMMARY:Creative Writing
DESCRIPTION:
URL:https://tcshighschool.org/event/creative-writing-12/2025-02-28/
CATEGORIES:Seminar - Regular
END:VEVENT
END:VCALENDAR