BEGIN:VCALENDAR
VERSION:2.0
PRODID:-//TCS High School - ECPv6.15.11//NONSGML v1.0//EN
CALSCALE:GREGORIAN
METHOD:PUBLISH
X-ORIGINAL-URL:https://tcshighschool.org
X-WR-CALDESC:Events for TCS High School
REFRESH-INTERVAL;VALUE=DURATION:PT1H
X-Robots-Tag:noindex
X-PUBLISHED-TTL:PT1H
BEGIN:VTIMEZONE
TZID:America/New_York
BEGIN:DAYLIGHT
TZOFFSETFROM:-0500
TZOFFSETTO:-0400
TZNAME:EDT
DTSTART:20240310T070000
END:DAYLIGHT
BEGIN:STANDARD
TZOFFSETFROM:-0400
TZOFFSETTO:-0500
TZNAME:EST
DTSTART:20241103T060000
END:STANDARD
BEGIN:DAYLIGHT
TZOFFSETFROM:-0500
TZOFFSETTO:-0400
TZNAME:EDT
DTSTART:20250309T070000
END:DAYLIGHT
BEGIN:STANDARD
TZOFFSETFROM:-0400
TZOFFSETTO:-0500
TZNAME:EST
DTSTART:20251102T060000
END:STANDARD
BEGIN:DAYLIGHT
TZOFFSETFROM:-0500
TZOFFSETTO:-0400
TZNAME:EDT
DTSTART:20260308T070000
END:DAYLIGHT
BEGIN:STANDARD
TZOFFSETFROM:-0400
TZOFFSETTO:-0500
TZNAME:EST
DTSTART:20261101T060000
END:STANDARD
BEGIN:DAYLIGHT
TZOFFSETFROM:-0500
TZOFFSETTO:-0400
TZNAME:EDT
DTSTART:20270314T070000
END:DAYLIGHT
BEGIN:STANDARD
TZOFFSETFROM:-0400
TZOFFSETTO:-0500
TZNAME:EST
DTSTART:20271107T060000
END:STANDARD
END:VTIMEZONE
BEGIN:VEVENT
DTSTART;VALUE=DATE:20250506
DTEND;VALUE=DATE:20250507
DTSTAMP:20260425T074745
CREATED:20250430T205940Z
LAST-MODIFIED:20250430T205940Z
UID:48490-1746489600-1746575999@tcshighschool.org
SUMMARY:Shadow Day
DESCRIPTION:
URL:https://tcshighschool.org/event/shadow-day-59/
CATEGORIES:Shadow Days
END:VEVENT
BEGIN:VEVENT
DTSTART;VALUE=DATE:20250513
DTEND;VALUE=DATE:20250514
DTSTAMP:20260425T074745
CREATED:20250430T210047Z
LAST-MODIFIED:20250430T210047Z
UID:48492-1747094400-1747180799@tcshighschool.org
SUMMARY:Shadow Day
DESCRIPTION:
URL:https://tcshighschool.org/event/shadow-day-60/
CATEGORIES:Shadow Days
END:VEVENT
BEGIN:VEVENT
DTSTART;VALUE=DATE:20250520
DTEND;VALUE=DATE:20250521
DTSTAMP:20260425T074745
CREATED:20250603T121112Z
LAST-MODIFIED:20250603T121112Z
UID:48654-1747699200-1747785599@tcshighschool.org
SUMMARY:Shadow Day
DESCRIPTION:
URL:https://tcshighschool.org/event/shadow-day-61/
CATEGORIES:Shadow Days
END:VEVENT
BEGIN:VEVENT
DTSTART;VALUE=DATE:20251202
DTEND;VALUE=DATE:20251203
DTSTAMP:20260425T074745
CREATED:20251125T223227Z
LAST-MODIFIED:20251125T223227Z
UID:49849-1764633600-1764719999@tcshighschool.org
SUMMARY:Shadow Day
DESCRIPTION:
URL:https://tcshighschool.org/event/shadow-day-62/
CATEGORIES:Shadow Days
END:VEVENT
BEGIN:VEVENT
DTSTART;VALUE=DATE:20260120
DTEND;VALUE=DATE:20260121
DTSTAMP:20260425T074745
CREATED:20251125T223300Z
LAST-MODIFIED:20251125T223430Z
UID:49851-1768867200-1768953599@tcshighschool.org
SUMMARY:Shadow Day
DESCRIPTION:
URL:https://tcshighschool.org/event/shadow-day-63/
CATEGORIES:Shadow Days
END:VEVENT
BEGIN:VEVENT
DTSTART;VALUE=DATE:20260210
DTEND;VALUE=DATE:20260211
DTSTAMP:20260425T074745
CREATED:20260108T185855Z
LAST-MODIFIED:20260108T185855Z
UID:50153-1770681600-1770767999@tcshighschool.org
SUMMARY:Shadow Day
DESCRIPTION:
URL:https://tcshighschool.org/event/shadow-day-64/
CATEGORIES:Shadow Days
END:VEVENT
BEGIN:VEVENT
DTSTART;VALUE=DATE:20260428
DTEND;VALUE=DATE:20260429
DTSTAMP:20260425T074745
CREATED:20260421T105627Z
LAST-MODIFIED:20260421T105627Z
UID:50760-1777334400-1777420799@tcshighschool.org
SUMMARY:Shadow Day
DESCRIPTION:
URL:https://tcshighschool.org/event/shadow-day-65/
CATEGORIES:Shadow Days
END:VEVENT
BEGIN:VEVENT
DTSTART;VALUE=DATE:20260430
DTEND;VALUE=DATE:20260501
DTSTAMP:20260425T074745
CREATED:20260421T105648Z
LAST-MODIFIED:20260421T105648Z
UID:50762-1777507200-1777593599@tcshighschool.org
SUMMARY:Shadow Day
DESCRIPTION:
URL:https://tcshighschool.org/event/shadow-day-66/
CATEGORIES:Shadow Days
END:VEVENT
END:VCALENDAR