BEGIN:VCALENDAR
VERSION:2.0
PRODID:-//TCS High School - ECPv6.15.11//NONSGML v1.0//EN
CALSCALE:GREGORIAN
METHOD:PUBLISH
X-WR-CALNAME:TCS High School
X-ORIGINAL-URL:https://tcshighschool.org
X-WR-CALDESC:Events for TCS High School
REFRESH-INTERVAL;VALUE=DURATION:PT1H
X-Robots-Tag:noindex
X-PUBLISHED-TTL:PT1H
BEGIN:VTIMEZONE
TZID:America/New_York
BEGIN:DAYLIGHT
TZOFFSETFROM:-0500
TZOFFSETTO:-0400
TZNAME:EDT
DTSTART:20180311T070000
END:DAYLIGHT
BEGIN:STANDARD
TZOFFSETFROM:-0400
TZOFFSETTO:-0500
TZNAME:EST
DTSTART:20181104T060000
END:STANDARD
BEGIN:DAYLIGHT
TZOFFSETFROM:-0500
TZOFFSETTO:-0400
TZNAME:EDT
DTSTART:20190310T070000
END:DAYLIGHT
BEGIN:STANDARD
TZOFFSETFROM:-0400
TZOFFSETTO:-0500
TZNAME:EST
DTSTART:20191103T060000
END:STANDARD
BEGIN:DAYLIGHT
TZOFFSETFROM:-0500
TZOFFSETTO:-0400
TZNAME:EDT
DTSTART:20200308T070000
END:DAYLIGHT
BEGIN:STANDARD
TZOFFSETFROM:-0400
TZOFFSETTO:-0500
TZNAME:EST
DTSTART:20201101T060000
END:STANDARD
BEGIN:DAYLIGHT
TZOFFSETFROM:-0500
TZOFFSETTO:-0400
TZNAME:EDT
DTSTART:20210314T070000
END:DAYLIGHT
BEGIN:STANDARD
TZOFFSETFROM:-0400
TZOFFSETTO:-0500
TZNAME:EST
DTSTART:20211107T060000
END:STANDARD
BEGIN:DAYLIGHT
TZOFFSETFROM:-0500
TZOFFSETTO:-0400
TZNAME:EDT
DTSTART:20220313T070000
END:DAYLIGHT
BEGIN:STANDARD
TZOFFSETFROM:-0400
TZOFFSETTO:-0500
TZNAME:EST
DTSTART:20221106T060000
END:STANDARD
BEGIN:DAYLIGHT
TZOFFSETFROM:-0500
TZOFFSETTO:-0400
TZNAME:EDT
DTSTART:20230312T070000
END:DAYLIGHT
BEGIN:STANDARD
TZOFFSETFROM:-0400
TZOFFSETTO:-0500
TZNAME:EST
DTSTART:20231105T060000
END:STANDARD
END:VTIMEZONE
BEGIN:VEVENT
DTSTART;TZID=America/New_York:20221213T073000
DTEND;TZID=America/New_York:20221213T150000
DTSTAMP:20260423T170910
CREATED:20221105T180047Z
LAST-MODIFIED:20221210T231758Z
UID:41225-1670916600-1670943600@tcshighschool.org
SUMMARY:Shadow Day
DESCRIPTION:Kennedy\, Gabriel
URL:https://tcshighschool.org/event/shadow-day-36/
CATEGORIES:Shadow Days
END:VEVENT
BEGIN:VEVENT
DTSTART;TZID=America/New_York:20221129T073000
DTEND;TZID=America/New_York:20221129T150000
DTSTAMP:20260423T170910
CREATED:20221105T180014Z
LAST-MODIFIED:20221128T123648Z
UID:41223-1669707000-1669734000@tcshighschool.org
SUMMARY:Shadow Day
DESCRIPTION:Eli\, Ariana
URL:https://tcshighschool.org/event/shadow-day-35/
CATEGORIES:Shadow Days
END:VEVENT
BEGIN:VEVENT
DTSTART;VALUE=DATE:20220510
DTEND;VALUE=DATE:20220511
DTSTAMP:20260423T170910
CREATED:20220423T114333Z
LAST-MODIFIED:20220423T114451Z
UID:39470-1652140800-1652227199@tcshighschool.org
SUMMARY:Shadow Day
DESCRIPTION:Ethan
URL:https://tcshighschool.org/event/shadow-day-34/
CATEGORIES:Shadow Days
END:VEVENT
BEGIN:VEVENT
DTSTART;VALUE=DATE:20220503
DTEND;VALUE=DATE:20220504
DTSTAMP:20260423T170910
CREATED:20220421T221933Z
LAST-MODIFIED:20220505T014234Z
UID:39458-1651536000-1651622399@tcshighschool.org
SUMMARY:Shadow Day
DESCRIPTION:Karla & Hector
URL:https://tcshighschool.org/event/shadow-day-33/
CATEGORIES:Shadow Days
END:VEVENT
BEGIN:VEVENT
DTSTART;VALUE=DATE:20220426
DTEND;VALUE=DATE:20220427
DTSTAMP:20260423T170910
CREATED:20220419T202517Z
LAST-MODIFIED:20220419T202517Z
UID:39443-1650931200-1651017599@tcshighschool.org
SUMMARY:Shadow Day
DESCRIPTION:Khali & Elijah
URL:https://tcshighschool.org/event/shadow-day-32/
CATEGORIES:Shadow Days
END:VEVENT
BEGIN:VEVENT
DTSTART;VALUE=DATE:20220405
DTEND;VALUE=DATE:20220406
DTSTAMP:20260423T170910
CREATED:20220316T004917Z
LAST-MODIFIED:20220316T004917Z
UID:39323-1649116800-1649203199@tcshighschool.org
SUMMARY:Shadow Day
DESCRIPTION:Dylan Wollet
URL:https://tcshighschool.org/event/shadow-day-31/
CATEGORIES:Shadow Days
END:VEVENT
BEGIN:VEVENT
DTSTART;VALUE=DATE:20220329
DTEND;VALUE=DATE:20220330
DTSTAMP:20260423T170910
CREATED:20220308T014205Z
LAST-MODIFIED:20220308T014205Z
UID:39284-1648512000-1648598399@tcshighschool.org
SUMMARY:Shadow Day
DESCRIPTION:Kendall Curtis
URL:https://tcshighschool.org/event/shadow-day-30/
CATEGORIES:Shadow Days
END:VEVENT
BEGIN:VEVENT
DTSTART;VALUE=DATE:20220315
DTEND;VALUE=DATE:20220316
DTSTAMP:20260423T170910
CREATED:20220302T142010Z
LAST-MODIFIED:20220302T142043Z
UID:39231-1647302400-1647388799@tcshighschool.org
SUMMARY:Shadow Day
DESCRIPTION:Henry Walker
URL:https://tcshighschool.org/event/shadow-day-29/
CATEGORIES:Shadow Days
END:VEVENT
BEGIN:VEVENT
DTSTART;VALUE=DATE:20220222
DTEND;VALUE=DATE:20220223
DTSTAMP:20260423T170910
CREATED:20220217T010650Z
LAST-MODIFIED:20220217T010650Z
UID:39120-1645488000-1645574399@tcshighschool.org
SUMMARY:Shadow Day
DESCRIPTION:Danny Buck
URL:https://tcshighschool.org/event/shadow-day-28/
CATEGORIES:Shadow Days
END:VEVENT
BEGIN:VEVENT
DTSTART;VALUE=DATE:20220208
DTEND;VALUE=DATE:20220209
DTSTAMP:20260423T170910
CREATED:20220106T123124Z
LAST-MODIFIED:20220201T013735Z
UID:38682-1644278400-1644364799@tcshighschool.org
SUMMARY:Shadow Day
DESCRIPTION:Asa Arnold
URL:https://tcshighschool.org/event/shadow-day-26/
CATEGORIES:Shadow Days
END:VEVENT
BEGIN:VEVENT
DTSTART;VALUE=DATE:20220125
DTEND;VALUE=DATE:20220126
DTSTAMP:20260423T170910
CREATED:20220127T003335Z
LAST-MODIFIED:20220127T003335Z
UID:38812-1643068800-1643155199@tcshighschool.org
SUMMARY:Shadow Day
DESCRIPTION:Temi Adeniyi
URL:https://tcshighschool.org/event/shadow-day-27/
CATEGORIES:Shadow Days
END:VEVENT
BEGIN:VEVENT
DTSTART;VALUE=DATE:20220118
DTEND;VALUE=DATE:20220119
DTSTAMP:20260423T170910
CREATED:20220106T123010Z
LAST-MODIFIED:20220127T003422Z
UID:38680-1642464000-1642550399@tcshighschool.org
SUMMARY:Shadow Day
DESCRIPTION:Jacqueline Trejo
URL:https://tcshighschool.org/event/shadow-day-25/
CATEGORIES:Shadow Days
END:VEVENT
BEGIN:VEVENT
DTSTART;VALUE=DATE:20210427
DTEND;VALUE=DATE:20210428
DTSTAMP:20260423T170910
CREATED:20210416T013848Z
LAST-MODIFIED:20210416T013848Z
UID:35673-1619481600-1619567999@tcshighschool.org
SUMMARY:Shadow Day
DESCRIPTION:
URL:https://tcshighschool.org/event/shadow-day-23/
CATEGORIES:Shadow Days
END:VEVENT
BEGIN:VEVENT
DTSTART;VALUE=DATE:20200331
DTEND;VALUE=DATE:20200401
DTSTAMP:20260423T170910
CREATED:20200211T140411Z
LAST-MODIFIED:20200211T140411Z
UID:34378-1585612800-1585699199@tcshighschool.org
SUMMARY:Shadow Day
DESCRIPTION:
URL:https://tcshighschool.org/event/shadow-day-24/
CATEGORIES:Shadow Days
END:VEVENT
BEGIN:VEVENT
DTSTART;VALUE=DATE:20200310
DTEND;VALUE=DATE:20200311
DTSTAMP:20260423T170910
CREATED:20200221T185654Z
LAST-MODIFIED:20230910T233447Z
UID:34508-1583798400-1583884799@tcshighschool.org
SUMMARY:Shadow Day
DESCRIPTION:
URL:https://tcshighschool.org/event/shadow-days/
CATEGORIES:Shadow Days,Upcoming Events
ATTACH;FMTTYPE=image/png:https://tcshighschool.org/wp-content/uploads/2020/02/Screenshot-2020-02-22-14.04.12.png
END:VEVENT
BEGIN:VEVENT
DTSTART;VALUE=DATE:20200211
DTEND;VALUE=DATE:20200212
DTSTAMP:20260423T170910
CREATED:20191224T011523Z
LAST-MODIFIED:20191228T204032Z
UID:34053-1581379200-1581465599@tcshighschool.org
SUMMARY:Shadow Day
DESCRIPTION:
URL:https://tcshighschool.org/event/shadow-day-19/
CATEGORIES:Shadow Days,Upcoming Events
ATTACH;FMTTYPE=image/png:https://tcshighschool.org/wp-content/uploads/2019/12/Screenshot-2019-12-28-15.38.38.png
END:VEVENT
BEGIN:VEVENT
DTSTART;VALUE=DATE:20200128
DTEND;VALUE=DATE:20200129
DTSTAMP:20260423T170910
CREATED:20191224T011414Z
LAST-MODIFIED:20191224T011414Z
UID:34051-1580169600-1580255999@tcshighschool.org
SUMMARY:Shadow Day
DESCRIPTION:
URL:https://tcshighschool.org/event/shadow-day-17/
CATEGORIES:Shadow Days
END:VEVENT
BEGIN:VEVENT
DTSTART;VALUE=DATE:20200114
DTEND;VALUE=DATE:20200115
DTSTAMP:20260423T170910
CREATED:20190808T145308Z
LAST-MODIFIED:20190808T145308Z
UID:32898-1578960000-1579046399@tcshighschool.org
SUMMARY:Shadow Day
DESCRIPTION:
URL:https://tcshighschool.org/event/shadow-day-22/
CATEGORIES:Shadow Days
END:VEVENT
BEGIN:VEVENT
DTSTART;VALUE=DATE:20191209
DTEND;VALUE=DATE:20191210
DTSTAMP:20260423T170910
CREATED:20190808T145236Z
LAST-MODIFIED:20191029T104248Z
UID:32896-1575849600-1575935999@tcshighschool.org
SUMMARY:Shadow Day
DESCRIPTION:
URL:https://tcshighschool.org/event/shadow-day-21/
CATEGORIES:Shadow Days
END:VEVENT
BEGIN:VEVENT
DTSTART;VALUE=DATE:20191119
DTEND;VALUE=DATE:20191120
DTSTAMP:20260423T170910
CREATED:20190808T145208Z
LAST-MODIFIED:20191029T104429Z
UID:32894-1574121600-1574207999@tcshighschool.org
SUMMARY:Shadow Day
DESCRIPTION:
URL:https://tcshighschool.org/event/shadow-day-20/
CATEGORIES:Shadow Days
END:VEVENT
BEGIN:VEVENT
DTSTART;VALUE=DATE:20191029
DTEND;VALUE=DATE:20191030
DTSTAMP:20260423T170910
CREATED:20190808T145109Z
LAST-MODIFIED:20190808T145109Z
UID:32890-1572307200-1572393599@tcshighschool.org
SUMMARY:Shadow Day
DESCRIPTION:
URL:https://tcshighschool.org/event/shadow-day-18/
CATEGORIES:Shadow Days
END:VEVENT
END:VCALENDAR