BEGIN:VCALENDAR
VERSION:2.0
PRODID:-//TCS High School - ECPv6.15.11//NONSGML v1.0//EN
CALSCALE:GREGORIAN
METHOD:PUBLISH
X-ORIGINAL-URL:https://tcshighschool.org
X-WR-CALDESC:Events for TCS High School
REFRESH-INTERVAL;VALUE=DURATION:PT1H
X-Robots-Tag:noindex
X-PUBLISHED-TTL:PT1H
BEGIN:VTIMEZONE
TZID:America/New_York
BEGIN:DAYLIGHT
TZOFFSETFROM:-0500
TZOFFSETTO:-0400
TZNAME:EDT
DTSTART:20240310T070000
END:DAYLIGHT
BEGIN:STANDARD
TZOFFSETFROM:-0400
TZOFFSETTO:-0500
TZNAME:EST
DTSTART:20241103T060000
END:STANDARD
BEGIN:DAYLIGHT
TZOFFSETFROM:-0500
TZOFFSETTO:-0400
TZNAME:EDT
DTSTART:20250309T070000
END:DAYLIGHT
BEGIN:STANDARD
TZOFFSETFROM:-0400
TZOFFSETTO:-0500
TZNAME:EST
DTSTART:20251102T060000
END:STANDARD
BEGIN:DAYLIGHT
TZOFFSETFROM:-0500
TZOFFSETTO:-0400
TZNAME:EDT
DTSTART:20260308T070000
END:DAYLIGHT
BEGIN:STANDARD
TZOFFSETFROM:-0400
TZOFFSETTO:-0500
TZNAME:EST
DTSTART:20261101T060000
END:STANDARD
BEGIN:DAYLIGHT
TZOFFSETFROM:-0500
TZOFFSETTO:-0400
TZNAME:EDT
DTSTART:20270314T070000
END:DAYLIGHT
BEGIN:STANDARD
TZOFFSETFROM:-0400
TZOFFSETTO:-0500
TZNAME:EST
DTSTART:20271107T060000
END:STANDARD
BEGIN:DAYLIGHT
TZOFFSETFROM:-0500
TZOFFSETTO:-0400
TZNAME:EDT
DTSTART:20280312T070000
END:DAYLIGHT
BEGIN:STANDARD
TZOFFSETFROM:-0400
TZOFFSETTO:-0500
TZNAME:EST
DTSTART:20281105T060000
END:STANDARD
END:VTIMEZONE
BEGIN:VEVENT
DTSTART;TZID=America/New_York:20251213T170000
DTEND;TZID=America/New_York:20251213T200000
DTSTAMP:20260425T081252
CREATED:20250910T224248Z
LAST-MODIFIED:20250910T224248Z
UID:49404-1765645200-1765656000@tcshighschool.org
SUMMARY:Holiday Open House
DESCRIPTION:
URL:https://tcshighschool.org/event/holiday-open-house-5/
CATEGORIES:Social Events
END:VEVENT
BEGIN:VEVENT
DTSTART;TZID=America/New_York:20251217T120000
DTEND;TZID=America/New_York:20251217T143000
DTSTAMP:20260425T081252
CREATED:20250820T101805Z
LAST-MODIFIED:20251031T113012Z
UID:48973-1765972800-1765981800@tcshighschool.org
SUMMARY:Santa Claus is Comin': A Motown Christmas Review
DESCRIPTION:
URL:https://tcshighschool.org/event/santa-claus-is-comin-a-motown-christmas-review/
CATEGORIES:Social Events
END:VEVENT
BEGIN:VEVENT
DTSTART;TZID=America/New_York:20260225T100000
DTEND;TZID=America/New_York:20260225T123000
DTSTAMP:20260425T081252
CREATED:20250820T101902Z
LAST-MODIFIED:20260208T012947Z
UID:48975-1772013600-1772022600@tcshighschool.org
SUMMARY:Trinity Play at Center Stage
DESCRIPTION:
URL:https://tcshighschool.org/event/trinity-play-at-center-stage/
CATEGORIES:Social Events
ATTACH;FMTTYPE=image/jpeg:https://tcshighschool.org/wp-content/uploads/2025/08/download-1-2.jpg
END:VEVENT
BEGIN:VEVENT
DTSTART;VALUE=DATE:20260509
DTEND;VALUE=DATE:20260510
DTSTAMP:20260425T081252
CREATED:20260205T114026Z
LAST-MODIFIED:20260205T114026Z
UID:50334-1778284800-1778371199@tcshighschool.org
SUMMARY:Young Playwrights Festival
DESCRIPTION:
URL:https://tcshighschool.org/event/young-playwrights-festival-3/
CATEGORIES:Social Events
END:VEVENT
BEGIN:VEVENT
DTSTART;VALUE=DATE:20260510
DTEND;VALUE=DATE:20260511
DTSTAMP:20260425T081252
CREATED:20251204T123351Z
LAST-MODIFIED:20251204T123351Z
UID:49905-1778371200-1778457599@tcshighschool.org
SUMMARY:Young Playwrights Festival at Center Stage
DESCRIPTION:
URL:https://tcshighschool.org/event/young-playwrights-festival-at-center-stage-2/
CATEGORIES:Social Events
END:VEVENT
BEGIN:VEVENT
DTSTART;TZID=America/New_York:20260607T140000
DTEND;TZID=America/New_York:20260607T160000
DTSTAMP:20260425T081252
CREATED:20250327T114639Z
LAST-MODIFIED:20250327T114720Z
UID:48167-1780840800-1780848000@tcshighschool.org
SUMMARY:End of Year Ceremony
DESCRIPTION:
URL:https://tcshighschool.org/event/end-of-year-ceremony-7/
CATEGORIES:Social Events
END:VEVENT
BEGIN:VEVENT
DTSTART;VALUE=DATE:20270416
DTEND;VALUE=DATE:20270419
DTSTAMP:20260425T081252
CREATED:20260417T114938Z
LAST-MODIFIED:20260417T114938Z
UID:50737-1807833600-1808092799@tcshighschool.org
SUMMARY:50th Anniversary Weekend
DESCRIPTION:
URL:https://tcshighschool.org/event/50th-anniversary-weekend/
CATEGORIES:Social Events
END:VEVENT
END:VCALENDAR