BEGIN:VCALENDAR
VERSION:2.0
PRODID:-//TCS High School - ECPv6.15.11//NONSGML v1.0//EN
CALSCALE:GREGORIAN
METHOD:PUBLISH
X-ORIGINAL-URL:https://tcshighschool.org
X-WR-CALDESC:Events for TCS High School
REFRESH-INTERVAL;VALUE=DURATION:PT1H
X-Robots-Tag:noindex
X-PUBLISHED-TTL:PT1H
BEGIN:VTIMEZONE
TZID:America/New_York
BEGIN:DAYLIGHT
TZOFFSETFROM:-0500
TZOFFSETTO:-0400
TZNAME:EDT
DTSTART:20160313T070000
END:DAYLIGHT
BEGIN:STANDARD
TZOFFSETFROM:-0400
TZOFFSETTO:-0500
TZNAME:EST
DTSTART:20161106T060000
END:STANDARD
BEGIN:DAYLIGHT
TZOFFSETFROM:-0500
TZOFFSETTO:-0400
TZNAME:EDT
DTSTART:20170312T070000
END:DAYLIGHT
BEGIN:STANDARD
TZOFFSETFROM:-0400
TZOFFSETTO:-0500
TZNAME:EST
DTSTART:20171105T060000
END:STANDARD
BEGIN:DAYLIGHT
TZOFFSETFROM:-0500
TZOFFSETTO:-0400
TZNAME:EDT
DTSTART:20180311T070000
END:DAYLIGHT
BEGIN:STANDARD
TZOFFSETFROM:-0400
TZOFFSETTO:-0500
TZNAME:EST
DTSTART:20181104T060000
END:STANDARD
BEGIN:DAYLIGHT
TZOFFSETFROM:-0500
TZOFFSETTO:-0400
TZNAME:EDT
DTSTART:20190310T070000
END:DAYLIGHT
BEGIN:STANDARD
TZOFFSETFROM:-0400
TZOFFSETTO:-0500
TZNAME:EST
DTSTART:20191103T060000
END:STANDARD
BEGIN:DAYLIGHT
TZOFFSETFROM:-0500
TZOFFSETTO:-0400
TZNAME:EDT
DTSTART:20200308T070000
END:DAYLIGHT
BEGIN:STANDARD
TZOFFSETFROM:-0400
TZOFFSETTO:-0500
TZNAME:EST
DTSTART:20201101T060000
END:STANDARD
BEGIN:DAYLIGHT
TZOFFSETFROM:-0500
TZOFFSETTO:-0400
TZNAME:EDT
DTSTART:20210314T070000
END:DAYLIGHT
BEGIN:STANDARD
TZOFFSETFROM:-0400
TZOFFSETTO:-0500
TZNAME:EST
DTSTART:20211107T060000
END:STANDARD
BEGIN:DAYLIGHT
TZOFFSETFROM:-0500
TZOFFSETTO:-0400
TZNAME:EDT
DTSTART:20220313T070000
END:DAYLIGHT
BEGIN:STANDARD
TZOFFSETFROM:-0400
TZOFFSETTO:-0500
TZNAME:EST
DTSTART:20221106T060000
END:STANDARD
BEGIN:DAYLIGHT
TZOFFSETFROM:-0500
TZOFFSETTO:-0400
TZNAME:EDT
DTSTART:20230312T070000
END:DAYLIGHT
BEGIN:STANDARD
TZOFFSETFROM:-0400
TZOFFSETTO:-0500
TZNAME:EST
DTSTART:20231105T060000
END:STANDARD
END:VTIMEZONE
BEGIN:VTIMEZONE
TZID:UTC
BEGIN:STANDARD
TZOFFSETFROM:+0000
TZOFFSETTO:+0000
TZNAME:UTC
DTSTART:20170101T000000
END:STANDARD
END:VTIMEZONE
BEGIN:VEVENT
DTSTART;TZID=America/New_York:20220605T140000
DTEND;TZID=America/New_York:20220605T150000
DTSTAMP:20260423T171814
CREATED:20210814T005653Z
LAST-MODIFIED:20210814T005653Z
UID:36150-1654437600-1654441200@tcshighschool.org
SUMMARY:Graduation Ceremony
DESCRIPTION:
URL:https://tcshighschool.org/event/graduation-ceremony/
CATEGORIES:Social Events
END:VEVENT
BEGIN:VEVENT
DTSTART;TZID=America/New_York:20211210T170000
DTEND;TZID=America/New_York:20211210T200000
DTSTAMP:20260423T171814
CREATED:20211028T235407Z
LAST-MODIFIED:20211130T004406Z
UID:38398-1639155600-1639166400@tcshighschool.org
SUMMARY:Holiday Open House
DESCRIPTION:
URL:https://tcshighschool.org/event/holiday-open-house-tentative-date/
CATEGORIES:Social Events
ATTACH;FMTTYPE=application/pdf:https://tcshighschool.org/wp-content/uploads/2021/10/Holiday-Open-House-Invitation-2021.pdf
END:VEVENT
BEGIN:VEVENT
DTSTART;TZID=America/New_York:20211207T174500
DTEND;TZID=America/New_York:20211207T210000
DTSTAMP:20260423T171814
CREATED:20211023T145753Z
LAST-MODIFIED:20211023T145753Z
UID:38384-1638899100-1638910800@tcshighschool.org
SUMMARY:AIAC Banquet
DESCRIPTION:
URL:https://tcshighschool.org/event/aiac-banquet-4/
CATEGORIES:Social Events
END:VEVENT
BEGIN:VEVENT
DTSTART;TZID=America/New_York:20210828T100000
DTEND;TZID=America/New_York:20210828T140000
DTSTAMP:20260423T171814
CREATED:20210823T103353Z
LAST-MODIFIED:20210823T111213Z
UID:36493-1630144800-1630159200@tcshighschool.org
SUMMARY:Yard Sale - Part 2
DESCRIPTION:
URL:https://tcshighschool.org/event/yard-sale-part-2/
CATEGORIES:Social Events,Upcoming Events
ATTACH;FMTTYPE=image/jpeg:https://tcshighschool.org/wp-content/uploads/2021/08/Screen-Shot-2021-08-23-at-6.38.19-AM-2.jpeg
END:VEVENT
BEGIN:VEVENT
DTSTART;TZID=America/New_York:20210822T130000
DTEND;TZID=America/New_York:20210822T170000
DTSTAMP:20260423T171814
CREATED:20210809T142150Z
LAST-MODIFIED:20210810T005027Z
UID:35930-1629637200-1629651600@tcshighschool.org
SUMMARY:Yard Sale
DESCRIPTION:
URL:https://tcshighschool.org/event/flea-market/
CATEGORIES:Social Events
ATTACH;FMTTYPE=image/jpeg:https://tcshighschool.org/wp-content/uploads/2021/08/Yard-Sale-Flyer-copy.jpg
END:VEVENT
BEGIN:VEVENT
DTSTART;TZID=America/New_York:20210615T100000
DTEND;TZID=America/New_York:20210615T150000
DTSTAMP:20260423T171814
CREATED:20210611T114712Z
LAST-MODIFIED:20210611T114712Z
UID:35859-1623751200-1623769200@tcshighschool.org
SUMMARY:Volunteer Day - Paint Shed
DESCRIPTION:
URL:https://tcshighschool.org/event/volunteer-day-paint-shed/
CATEGORIES:Social Events
END:VEVENT
BEGIN:VEVENT
DTSTART;VALUE=DATE:20210606
DTEND;VALUE=DATE:20210607
DTSTAMP:20260423T171814
CREATED:20200903T125506Z
LAST-MODIFIED:20200903T125506Z
UID:34882-1622937600-1623023999@tcshighschool.org
SUMMARY:End of Year Ceremony
DESCRIPTION:
URL:https://tcshighschool.org/event/end-of-year-ceremony-5/
CATEGORIES:Social Events
END:VEVENT
BEGIN:VEVENT
DTSTART;TZID=America/New_York:20200314T180000
DTEND;TZID=America/New_York:20200314T220000
DTSTAMP:20260423T171814
CREATED:20200327T160626Z
LAST-MODIFIED:20230910T233509Z
UID:34085-1584208800-1584223200@tcshighschool.org
SUMMARY:Annual Bull & Oyster Roast
DESCRIPTION:
URL:https://tcshighschool.org/event/annual-bull-oyster-roast/
CATEGORIES:Social Events,Upcoming Events
ATTACH;FMTTYPE=image/jpeg:https://tcshighschool.org/wp-content/uploads/2020/01/2020-Bull-Oyster-Roast-Flier-Updated-e1578872304872.jpg
END:VEVENT
BEGIN:VEVENT
DTSTART;TZID=America/New_York:20200314T180000
DTEND;TZID=America/New_York:20200314T220000
DTSTAMP:20260423T171814
CREATED:20191227T171300Z
LAST-MODIFIED:20230910T233452Z
UID:34088-1584208800-1584223200@tcshighschool.org
SUMMARY:Annual Bull & Oyster Roast
DESCRIPTION:
URL:https://tcshighschool.org/event/annual-bull-oyster-roast-2/
CATEGORIES:Social Events,Upcoming Events
ATTACH;FMTTYPE=image/png:https://tcshighschool.org/wp-content/uploads/2019/12/Screenshot-2019-12-27-15.25.39.png
END:VEVENT
BEGIN:VEVENT
DTSTART;TZID=America/New_York:20200301T140000
DTEND;TZID=America/New_York:20200301T160000
DTSTAMP:20260423T171814
CREATED:20200204T222633Z
LAST-MODIFIED:20200204T222633Z
UID:34360-1583071200-1583078400@tcshighschool.org
SUMMARY:Maryland Scholastic Awards Ceremony
DESCRIPTION:
URL:https://tcshighschool.org/event/maryland-scholastic-awards-ceremony/
CATEGORIES:Social Events
END:VEVENT
BEGIN:VEVENT
DTSTART;TZID=America/New_York:20191211T173000
DTEND;TZID=America/New_York:20191211T203000
DTSTAMP:20260423T171814
CREATED:20190619T193025Z
LAST-MODIFIED:20191125T171117Z
UID:32597-1576085400-1576096200@tcshighschool.org
SUMMARY:Holiday Open House
DESCRIPTION:
URL:https://tcshighschool.org/event/holiday-open-house-2/
CATEGORIES:Social Events,Upcoming Events
ATTACH;FMTTYPE=image/png:https://tcshighschool.org/wp-content/uploads/2019/06/Holiday-Open-House-1.png
END:VEVENT
BEGIN:VEVENT
DTSTART;TZID=America/New_York:20191203T180000
DTEND;TZID=America/New_York:20191203T210000
DTSTAMP:20260423T171814
CREATED:20191017T105644Z
LAST-MODIFIED:20191017T105644Z
UID:33628-1575396000-1575406800@tcshighschool.org
SUMMARY:AIAC Banquet
DESCRIPTION:
URL:https://tcshighschool.org/event/aiac-banquet-3/
CATEGORIES:Social Events
END:VEVENT
BEGIN:VEVENT
DTSTART;VALUE=DATE:20191123
DTEND;VALUE=DATE:20191124
DTSTAMP:20260423T171814
CREATED:20191021T192239Z
LAST-MODIFIED:20191112T130033Z
UID:33678-1574467200-1574553599@tcshighschool.org
SUMMARY:Thanksgiving Pot Luck Dinner
DESCRIPTION:Sponsored by the Sponsor Social Committee \nRSVP and sign up to bring a dish here: \nhttps://www.signupgenius.com/go/10c0e4da4ac2ca0fa7-tcsthanksgiving1 \nfor more information contact Jenae at social@tcshighschool.org
URL:https://tcshighschool.org/event/thanksgiving-pot-luck-dinner-2/
CATEGORIES:Social Events,Upcoming Events
ATTACH;FMTTYPE=image/png:https://tcshighschool.org/wp-content/uploads/2019/10/Thanksgiving-Potluck.png
END:VEVENT
BEGIN:VEVENT
DTSTART;VALUE=DATE:20190609
DTEND;VALUE=DATE:20190610
DTSTAMP:20260423T171814
CREATED:20190105T015051Z
LAST-MODIFIED:20190227T194503Z
UID:31533-1560038400-1560124799@tcshighschool.org
SUMMARY:End of Year Ceremony
DESCRIPTION:
URL:https://tcshighschool.org/event/end-of-year-ceremony-4/
CATEGORIES:Social Events
END:VEVENT
BEGIN:VEVENT
DTSTART;TZID=America/New_York:20190607T130000
DTEND;TZID=America/New_York:20190607T170000
DTSTAMP:20260423T171814
CREATED:20190523T125425Z
LAST-MODIFIED:20190523T125425Z
UID:32328-1559912400-1559926800@tcshighschool.org
SUMMARY:Student Swim Party
DESCRIPTION:
URL:https://tcshighschool.org/event/student-swim-party/
CATEGORIES:Social Events
END:VEVENT
BEGIN:VEVENT
DTSTART;VALUE=DATE:20190427
DTEND;VALUE=DATE:20190428
DTSTAMP:20260423T171814
CREATED:20190209T212122Z
LAST-MODIFIED:20190210T191652Z
UID:31659-1556323200-1556409599@tcshighschool.org
SUMMARY:Pawject Runway
DESCRIPTION:
URL:https://tcshighschool.org/event/pawject-runway/
CATEGORIES:Social Events,Upcoming Events
END:VEVENT
BEGIN:VEVENT
DTSTART;TZID=America/New_York:20181218T173000
DTEND;TZID=America/New_York:20181218T200000
DTSTAMP:20260423T171814
CREATED:20181015T202642Z
LAST-MODIFIED:20181015T202642Z
UID:31176-1545154200-1545163200@tcshighschool.org
SUMMARY:Annual Holiday Open House
DESCRIPTION:
URL:https://tcshighschool.org/event/annual-holiday-open-house-4/
CATEGORIES:Social Events
END:VEVENT
BEGIN:VEVENT
DTSTART;TZID=America/New_York:20181214T120000
DTEND;TZID=America/New_York:20181214T130000
DTSTAMP:20260423T171814
CREATED:20181208T004928Z
LAST-MODIFIED:20181208T004928Z
UID:31412-1544788800-1544792400@tcshighschool.org
SUMMARY:BBSI Visit
DESCRIPTION:
URL:https://tcshighschool.org/event/bbsi-visit/
CATEGORIES:Social Events
END:VEVENT
BEGIN:VEVENT
DTSTART;TZID=America/New_York:20181201T160000
DTEND;TZID=America/New_York:20181201T180000
DTSTAMP:20260423T171814
CREATED:20181015T202512Z
LAST-MODIFIED:20181015T202512Z
UID:31173-1543680000-1543687200@tcshighschool.org
SUMMARY:Thanksgiving Pot Luck Dinner
DESCRIPTION:
URL:https://tcshighschool.org/event/thanksgiving-pot-luck-dinner/
CATEGORIES:Social Events
END:VEVENT
BEGIN:VEVENT
DTSTART;TZID=America/New_York:20181110T180000
DTEND;TZID=America/New_York:20181110T220000
DTSTAMP:20260423T171814
CREATED:20181006T223057Z
LAST-MODIFIED:20181007T175502Z
UID:31048-1541872800-1541887200@tcshighschool.org
SUMMARY:2nd Annual Bull & Shrimp Roast
DESCRIPTION:
URL:https://tcshighschool.org/event/2nd-annual-bull-shrimp-roast/
CATEGORIES:Social Events,Upcoming Events
ATTACH;FMTTYPE=image/gif:https://tcshighschool.org/wp-content/uploads/2018/10/Bull-Roast-Flier-1.gif
END:VEVENT
BEGIN:VEVENT
DTSTART;TZID=UTC:20180310T100000
DTEND;TZID=UTC:20180310T170000
DTSTAMP:20260423T171814
CREATED:20180202T160008Z
LAST-MODIFIED:20180224T024243Z
UID:29382-1520676000-1520701200@tcshighschool.org
SUMMARY:Circle of Love Scavenger Hunt
DESCRIPTION:Prepare yourself for a uniquely good time at the “Hunting to Help” Circle of Love-Maryland Scavenger Hunt Event to benefit The Community School. It takes place on Saturday\, March 10th starting at 11am at the school. There are Awards\, raffles\, door prizes and refreshments from 4pm to 6pm. A car won’t be necessary because there will be both walking and driving hunts. The entry fee for the walk is $10 and $25 per person for the driving hunt ($20 early registration fee if paid by March 1st). You can pick up your registration forms and information fliers at the school. \n \nClick here for a copy of the registration form \nClick here for a copy of the Donation Solicitation Letter \nClick here for a copy of the Scavenger Hunt Flier \n 
URL:https://tcshighschool.org/event/scavenger-hunt/
CATEGORIES:Social Events,Upcoming Events
ATTACH;FMTTYPE=image/jpeg:https://tcshighschool.org/wp-content/uploads/2018/02/Wear-Love-Out.jpg
END:VEVENT
BEGIN:VEVENT
DTSTART;TZID=America/New_York:20171215T173000
DTEND;TZID=America/New_York:20171215T213000
DTSTAMP:20260423T171814
CREATED:20171121T113442Z
LAST-MODIFIED:20171121T113442Z
UID:4698-1513359000-1513373400@tcshighschool.org
SUMMARY:Holiday Open House
DESCRIPTION:
URL:https://tcshighschool.org/event/holiday-open-house/
CATEGORIES:Social Events
END:VEVENT
BEGIN:VEVENT
DTSTART;TZID=America/New_York:20171117T210000
DTEND;TZID=America/New_York:20171117T210000
DTSTAMP:20260423T171814
CREATED:20170928T104223Z
LAST-MODIFIED:20170928T104223Z
UID:4552-1510952400-1510952400@tcshighschool.org
SUMMARY:Rock'N Bowl
DESCRIPTION:Timonium AMF
URL:https://tcshighschool.org/event/rockn-bowl/
CATEGORIES:Social Events
END:VEVENT
BEGIN:VEVENT
DTSTART;TZID=America/New_York:20171028T170000
DTEND;TZID=America/New_York:20171028T220000
DTSTAMP:20260423T171814
CREATED:20170928T103932Z
LAST-MODIFIED:20170928T103932Z
UID:4548-1509210000-1509228000@tcshighschool.org
SUMMARY:Hauntingdon/Movie Event
DESCRIPTION:
URL:https://tcshighschool.org/event/hauntingdonmovie-event/
CATEGORIES:Social Events
END:VEVENT
BEGIN:VEVENT
DTSTART;TZID=America/New_York:20171026T150000
DTEND;TZID=America/New_York:20171026T153000
DTSTAMP:20260423T171814
CREATED:20171021T212046Z
LAST-MODIFIED:20171021T212046Z
UID:4654-1509030000-1509031800@tcshighschool.org
SUMMARY:Circle of Love
DESCRIPTION:
URL:https://tcshighschool.org/event/circle-of-love/
CATEGORIES:Social Events
END:VEVENT
BEGIN:VEVENT
DTSTART;VALUE=DATE:20171014
DTEND;VALUE=DATE:20171015
DTSTAMP:20260423T171814
CREATED:20170928T103845Z
LAST-MODIFIED:20170928T103845Z
UID:4546-1507939200-1508025599@tcshighschool.org
SUMMARY:Haunted House Social
DESCRIPTION:Fort Howard
URL:https://tcshighschool.org/event/haunted-house/
CATEGORIES:Social Events
END:VEVENT
BEGIN:VEVENT
DTSTART;TZID=America/New_York:20170915T170000
DTEND;TZID=America/New_York:20170915T200000
DTSTAMP:20260423T171814
CREATED:20170928T104032Z
LAST-MODIFIED:20170928T104032Z
UID:4550-1505494800-1505505600@tcshighschool.org
SUMMARY:Movie Trip
DESCRIPTION:It
URL:https://tcshighschool.org/event/movie-trip/
CATEGORIES:Social Events
END:VEVENT
END:VCALENDAR