BEGIN:VCALENDAR
VERSION:2.0
PRODID:-//TCS High School - ECPv6.15.11//NONSGML v1.0//EN
CALSCALE:GREGORIAN
METHOD:PUBLISH
X-WR-CALNAME:TCS High School
X-ORIGINAL-URL:https://tcshighschool.org
X-WR-CALDESC:Events for TCS High School
REFRESH-INTERVAL;VALUE=DURATION:PT1H
X-Robots-Tag:noindex
X-PUBLISHED-TTL:PT1H
BEGIN:VTIMEZONE
TZID:UTC
BEGIN:STANDARD
TZOFFSETFROM:+0000
TZOFFSETTO:+0000
TZNAME:UTC
DTSTART:20170101T000000
END:STANDARD
END:VTIMEZONE
BEGIN:VTIMEZONE
TZID:America/New_York
BEGIN:DAYLIGHT
TZOFFSETFROM:-0500
TZOFFSETTO:-0400
TZNAME:EDT
DTSTART:20160313T070000
END:DAYLIGHT
BEGIN:STANDARD
TZOFFSETFROM:-0400
TZOFFSETTO:-0500
TZNAME:EST
DTSTART:20161106T060000
END:STANDARD
BEGIN:DAYLIGHT
TZOFFSETFROM:-0500
TZOFFSETTO:-0400
TZNAME:EDT
DTSTART:20170312T070000
END:DAYLIGHT
BEGIN:STANDARD
TZOFFSETFROM:-0400
TZOFFSETTO:-0500
TZNAME:EST
DTSTART:20171105T060000
END:STANDARD
BEGIN:DAYLIGHT
TZOFFSETFROM:-0500
TZOFFSETTO:-0400
TZNAME:EDT
DTSTART:20180311T070000
END:DAYLIGHT
BEGIN:STANDARD
TZOFFSETFROM:-0400
TZOFFSETTO:-0500
TZNAME:EST
DTSTART:20181104T060000
END:STANDARD
END:VTIMEZONE
BEGIN:VEVENT
DTSTART;TZID=UTC:20180310T100000
DTEND;TZID=UTC:20180310T170000
DTSTAMP:20260423T205541
CREATED:20180202T160008Z
LAST-MODIFIED:20180224T024243Z
UID:29382-1520676000-1520701200@tcshighschool.org
SUMMARY:Circle of Love Scavenger Hunt
DESCRIPTION:Prepare yourself for a uniquely good time at the “Hunting to Help” Circle of Love-Maryland Scavenger Hunt Event to benefit The Community School. It takes place on Saturday\, March 10th starting at 11am at the school. There are Awards\, raffles\, door prizes and refreshments from 4pm to 6pm. A car won’t be necessary because there will be both walking and driving hunts. The entry fee for the walk is $10 and $25 per person for the driving hunt ($20 early registration fee if paid by March 1st). You can pick up your registration forms and information fliers at the school. \n \nClick here for a copy of the registration form \nClick here for a copy of the Donation Solicitation Letter \nClick here for a copy of the Scavenger Hunt Flier \n 
URL:https://tcshighschool.org/event/scavenger-hunt/
CATEGORIES:Social Events,Upcoming Events
ATTACH;FMTTYPE=image/jpeg:https://tcshighschool.org/wp-content/uploads/2018/02/Wear-Love-Out.jpg
END:VEVENT
BEGIN:VEVENT
DTSTART;TZID=America/New_York:20171215T173000
DTEND;TZID=America/New_York:20171215T213000
DTSTAMP:20260423T205541
CREATED:20171121T113442Z
LAST-MODIFIED:20171121T113442Z
UID:4698-1513359000-1513373400@tcshighschool.org
SUMMARY:Holiday Open House
DESCRIPTION:
URL:https://tcshighschool.org/event/holiday-open-house/
CATEGORIES:Social Events
END:VEVENT
BEGIN:VEVENT
DTSTART;TZID=America/New_York:20171117T210000
DTEND;TZID=America/New_York:20171117T210000
DTSTAMP:20260423T205541
CREATED:20170928T104223Z
LAST-MODIFIED:20170928T104223Z
UID:4552-1510952400-1510952400@tcshighschool.org
SUMMARY:Rock'N Bowl
DESCRIPTION:Timonium AMF
URL:https://tcshighschool.org/event/rockn-bowl/
CATEGORIES:Social Events
END:VEVENT
BEGIN:VEVENT
DTSTART;TZID=America/New_York:20171028T170000
DTEND;TZID=America/New_York:20171028T220000
DTSTAMP:20260423T205541
CREATED:20170928T103932Z
LAST-MODIFIED:20170928T103932Z
UID:4548-1509210000-1509228000@tcshighschool.org
SUMMARY:Hauntingdon/Movie Event
DESCRIPTION:
URL:https://tcshighschool.org/event/hauntingdonmovie-event/
CATEGORIES:Social Events
END:VEVENT
BEGIN:VEVENT
DTSTART;TZID=America/New_York:20171026T150000
DTEND;TZID=America/New_York:20171026T153000
DTSTAMP:20260423T205541
CREATED:20171021T212046Z
LAST-MODIFIED:20171021T212046Z
UID:4654-1509030000-1509031800@tcshighschool.org
SUMMARY:Circle of Love
DESCRIPTION:
URL:https://tcshighschool.org/event/circle-of-love/
CATEGORIES:Social Events
END:VEVENT
BEGIN:VEVENT
DTSTART;VALUE=DATE:20171014
DTEND;VALUE=DATE:20171015
DTSTAMP:20260423T205541
CREATED:20170928T103845Z
LAST-MODIFIED:20170928T103845Z
UID:4546-1507939200-1508025599@tcshighschool.org
SUMMARY:Haunted House Social
DESCRIPTION:Fort Howard
URL:https://tcshighschool.org/event/haunted-house/
CATEGORIES:Social Events
END:VEVENT
BEGIN:VEVENT
DTSTART;TZID=America/New_York:20170915T170000
DTEND;TZID=America/New_York:20170915T200000
DTSTAMP:20260423T205541
CREATED:20170928T104032Z
LAST-MODIFIED:20170928T104032Z
UID:4550-1505494800-1505505600@tcshighschool.org
SUMMARY:Movie Trip
DESCRIPTION:It
URL:https://tcshighschool.org/event/movie-trip/
CATEGORIES:Social Events
END:VEVENT
END:VCALENDAR