BEGIN:VCALENDAR
VERSION:2.0
PRODID:-//TCS High School - ECPv6.15.11//NONSGML v1.0//EN
CALSCALE:GREGORIAN
METHOD:PUBLISH
X-WR-CALNAME:TCS High School
X-ORIGINAL-URL:https://tcshighschool.org
X-WR-CALDESC:Events for TCS High School
REFRESH-INTERVAL;VALUE=DURATION:PT1H
X-Robots-Tag:noindex
X-PUBLISHED-TTL:PT1H
BEGIN:VTIMEZONE
TZID:America/New_York
BEGIN:DAYLIGHT
TZOFFSETFROM:-0500
TZOFFSETTO:-0400
TZNAME:EDT
DTSTART:20220313T070000
END:DAYLIGHT
BEGIN:STANDARD
TZOFFSETFROM:-0400
TZOFFSETTO:-0500
TZNAME:EST
DTSTART:20221106T060000
END:STANDARD
BEGIN:DAYLIGHT
TZOFFSETFROM:-0500
TZOFFSETTO:-0400
TZNAME:EDT
DTSTART:20230312T070000
END:DAYLIGHT
BEGIN:STANDARD
TZOFFSETFROM:-0400
TZOFFSETTO:-0500
TZNAME:EST
DTSTART:20231105T060000
END:STANDARD
BEGIN:DAYLIGHT
TZOFFSETFROM:-0500
TZOFFSETTO:-0400
TZNAME:EDT
DTSTART:20240310T070000
END:DAYLIGHT
BEGIN:STANDARD
TZOFFSETFROM:-0400
TZOFFSETTO:-0500
TZNAME:EST
DTSTART:20241103T060000
END:STANDARD
BEGIN:DAYLIGHT
TZOFFSETFROM:-0500
TZOFFSETTO:-0400
TZNAME:EDT
DTSTART:20250309T070000
END:DAYLIGHT
BEGIN:STANDARD
TZOFFSETFROM:-0400
TZOFFSETTO:-0500
TZNAME:EST
DTSTART:20251102T060000
END:STANDARD
END:VTIMEZONE
BEGIN:VEVENT
DTSTART;VALUE=DATE:20231022
DTEND;VALUE=DATE:20231023
DTSTAMP:20260425T234031
CREATED:20211020T212748Z
LAST-MODIFIED:20211020T212748Z
UID:38387-1697932800-1698019199@tcshighschool.org
SUMMARY:Rhys's B-day
DESCRIPTION:
URL:https://tcshighschool.org/event/rhyss-b-day/2023-10-22/
CATEGORIES:Special Days
END:VEVENT
BEGIN:VEVENT
DTSTART;VALUE=DATE:20231026
DTEND;VALUE=DATE:20231027
DTSTAMP:20260425T234031
CREATED:20230711T130606Z
LAST-MODIFIED:20230711T130606Z
UID:42803-1698278400-1698364799@tcshighschool.org
SUMMARY:Quinn's B-day
DESCRIPTION:
URL:https://tcshighschool.org/event/quinns-b-day/2023-10-26/
CATEGORIES:Special Days
END:VEVENT
BEGIN:VEVENT
DTSTART;VALUE=DATE:20231104
DTEND;VALUE=DATE:20231105
DTSTAMP:20260425T234031
CREATED:20230908T143055Z
LAST-MODIFIED:20240726T140941Z
UID:43876-1699056000-1699142399@tcshighschool.org
SUMMARY:Mr. Tom's B-day
DESCRIPTION:
URL:https://tcshighschool.org/event/mr-toms-b-day-5/2023-11-04/
CATEGORIES:Special Days
END:VEVENT
BEGIN:VEVENT
DTSTART;VALUE=DATE:20231129
DTEND;VALUE=DATE:20231130
DTSTAMP:20260425T234031
CREATED:20210814T000300Z
LAST-MODIFIED:20210814T000300Z
UID:38496-1701216000-1701302399@tcshighschool.org
SUMMARY:Mr. Justin's B-day
DESCRIPTION:
URL:https://tcshighschool.org/event/mr-justins-b-day/2023-11-29/
CATEGORIES:Special Days
END:VEVENT
BEGIN:VEVENT
DTSTART;VALUE=DATE:20231201
DTEND;VALUE=DATE:20231202
DTSTAMP:20260425T234031
CREATED:20230326T211531Z
LAST-MODIFIED:20230326T211531Z
UID:42401-1701388800-1701475199@tcshighschool.org
SUMMARY:2nd Trimester Begins
DESCRIPTION:
URL:https://tcshighschool.org/event/2nd-trimester-begins-6/
CATEGORIES:Special Days
END:VEVENT
BEGIN:VEVENT
DTSTART;VALUE=DATE:20231217
DTEND;VALUE=DATE:20231218
DTSTAMP:20260425T234031
CREATED:20220705T212632Z
LAST-MODIFIED:20220705T212632Z
UID:39798-1702771200-1702857599@tcshighschool.org
SUMMARY:Danny's B-day
DESCRIPTION:
URL:https://tcshighschool.org/event/dannys-b-day/2023-12-17/
CATEGORIES:Special Days
END:VEVENT
BEGIN:VEVENT
DTSTART;TZID=America/New_York:20240113T110000
DTEND;TZID=America/New_York:20240113T130000
DTSTAMP:20260425T234031
CREATED:20240108T005850Z
LAST-MODIFIED:20240108T005850Z
UID:44885-1705143600-1705150800@tcshighschool.org
SUMMARY:TCS Deep Clean
DESCRIPTION:
URL:https://tcshighschool.org/event/tcs-deep-clean/
CATEGORIES:Special Days
END:VEVENT
BEGIN:VEVENT
DTSTART;VALUE=DATE:20240115
DTEND;VALUE=DATE:20240116
DTSTAMP:20260425T234031
CREATED:20240115T001636Z
LAST-MODIFIED:20240115T001705Z
UID:44938-1705276800-1705363199@tcshighschool.org
SUMMARY:Honor Dr. King/Civil RIghts Day
DESCRIPTION:
URL:https://tcshighschool.org/event/honor-dr-king-civil-rights-day/
CATEGORIES:Special Days
END:VEVENT
BEGIN:VEVENT
DTSTART;VALUE=DATE:20240116
DTEND;VALUE=DATE:20240117
DTSTAMP:20260425T234031
CREATED:20240116T132935Z
LAST-MODIFIED:20240116T132935Z
UID:44945-1705363200-1705449599@tcshighschool.org
SUMMARY:Snow Day
DESCRIPTION:
URL:https://tcshighschool.org/event/snow-day-4/
CATEGORIES:Special Days
END:VEVENT
BEGIN:VEVENT
DTSTART;VALUE=DATE:20240118
DTEND;VALUE=DATE:20240119
DTSTAMP:20260425T234031
CREATED:20240112T153536Z
LAST-MODIFIED:20240112T153615Z
UID:44919-1705536000-1705622399@tcshighschool.org
SUMMARY:TCS 42ND ANNIVERSARY !!
DESCRIPTION:
URL:https://tcshighschool.org/event/tcs-42nd-anniversary/
CATEGORIES:Special Days
END:VEVENT
BEGIN:VEVENT
DTSTART;VALUE=DATE:20240119
DTEND;VALUE=DATE:20240120
DTSTAMP:20260425T234031
CREATED:20240119T141442Z
LAST-MODIFIED:20240119T141451Z
UID:44950-1705622400-1705708799@tcshighschool.org
SUMMARY:Snow Day
DESCRIPTION:
URL:https://tcshighschool.org/event/snow-day-5/
CATEGORIES:Special Days
END:VEVENT
BEGIN:VEVENT
DTSTART;VALUE=DATE:20240123
DTEND;VALUE=DATE:20240124
DTSTAMP:20260425T234031
CREATED:20210814T000416Z
LAST-MODIFIED:20210814T000416Z
UID:38804-1705968000-1706054399@tcshighschool.org
SUMMARY:Ms. Leah's B-day
DESCRIPTION:
URL:https://tcshighschool.org/event/ms-leahs-b-day-2/2024-01-23/
CATEGORIES:Special Days
END:VEVENT
BEGIN:VEVENT
DTSTART;VALUE=DATE:20240227
DTEND;VALUE=DATE:20240228
DTSTAMP:20260425T234031
CREATED:20210111T201111Z
LAST-MODIFIED:20210111T201111Z
UID:39209-1708992000-1709078399@tcshighschool.org
SUMMARY:Joshua's B-day
DESCRIPTION:
URL:https://tcshighschool.org/event/joshuas-b-day-2/2024-02-27/
CATEGORIES:Special Days
END:VEVENT
BEGIN:VEVENT
DTSTART;VALUE=DATE:20240301
DTEND;VALUE=DATE:20240302
DTSTAMP:20260425T234031
CREATED:20230326T211603Z
LAST-MODIFIED:20230326T211603Z
UID:42403-1709251200-1709337599@tcshighschool.org
SUMMARY:3rd Trimester Begins
DESCRIPTION:
URL:https://tcshighschool.org/event/3rd-trimester-begins-6/
CATEGORIES:Special Days
END:VEVENT
BEGIN:VEVENT
DTSTART;VALUE=DATE:20240327
DTEND;VALUE=DATE:20240328
DTSTAMP:20260425T234031
CREATED:20210814T004212Z
LAST-MODIFIED:20210814T004212Z
UID:39386-1711497600-1711583999@tcshighschool.org
SUMMARY:Mr. Ken's B-day
DESCRIPTION:
URL:https://tcshighschool.org/event/mr-kens-b-day/2024-03-27/
CATEGORIES:Special Days
END:VEVENT
BEGIN:VEVENT
DTSTART;VALUE=DATE:20240416
DTEND;VALUE=DATE:20240417
DTSTAMP:20260425T234031
CREATED:20230908T195040Z
LAST-MODIFIED:20230908T195040Z
UID:43881-1713225600-1713311999@tcshighschool.org
SUMMARY:Fatima's B-day
DESCRIPTION:
URL:https://tcshighschool.org/event/fatimas-b-day/2024-04-16/
CATEGORIES:Special Days
END:VEVENT
BEGIN:VEVENT
DTSTART;VALUE=DATE:20240426
DTEND;VALUE=DATE:20240427
DTSTAMP:20260425T234031
CREATED:20210814T004348Z
LAST-MODIFIED:20210814T004348Z
UID:39473-1714089600-1714175999@tcshighschool.org
SUMMARY:Mr. Dave's B-day
DESCRIPTION:
URL:https://tcshighschool.org/event/mr-daves-b-day/2024-04-26/
CATEGORIES:Special Days
END:VEVENT
BEGIN:VEVENT
DTSTART;VALUE=DATE:20240504
DTEND;VALUE=DATE:20240505
DTSTAMP:20260425T234031
CREATED:20210814T004450Z
LAST-MODIFIED:20230501T163459Z
UID:42636-1714780800-1714867199@tcshighschool.org
SUMMARY:Ms. Carol's B-day
DESCRIPTION:
URL:https://tcshighschool.org/event/ms-carols-b-day/2024-05-04/
CATEGORIES:Special Days
END:VEVENT
BEGIN:VEVENT
DTSTART;VALUE=DATE:20240506
DTEND;VALUE=DATE:20240507
DTSTAMP:20260425T234031
CREATED:20220705T212821Z
LAST-MODIFIED:20230817T175921Z
UID:39805-1714953600-1715039999@tcshighschool.org
SUMMARY:Ethan's B-day
DESCRIPTION:
URL:https://tcshighschool.org/event/e-ethans-b-day/2024-05-06/
CATEGORIES:Special Days
END:VEVENT
BEGIN:VEVENT
DTSTART;TZID=America/New_York:20240506T150000
DTEND;TZID=America/New_York:20240506T160000
DTSTAMP:20260425T234031
CREATED:20240415T123903Z
LAST-MODIFIED:20240430T112911Z
UID:45492-1715007600-1715011200@tcshighschool.org
SUMMARY:Student Portrait Photos
DESCRIPTION:
URL:https://tcshighschool.org/event/student-portrait-photos/
CATEGORIES:Special Days
END:VEVENT
BEGIN:VEVENT
DTSTART;VALUE=DATE:20240508
DTEND;VALUE=DATE:20240509
DTSTAMP:20260425T234031
CREATED:20230711T131010Z
LAST-MODIFIED:20230711T131010Z
UID:42805-1715126400-1715212799@tcshighschool.org
SUMMARY:Kennedy's B-day
DESCRIPTION:
URL:https://tcshighschool.org/event/kennedys-b-day/2024-05-08/
CATEGORIES:Special Days
END:VEVENT
BEGIN:VEVENT
DTSTART;VALUE=DATE:20240508
DTEND;VALUE=DATE:20240509
DTSTAMP:20260425T234031
CREATED:20210814T004542Z
LAST-MODIFIED:20210814T004542Z
UID:39506-1715126400-1715212799@tcshighschool.org
SUMMARY:Ms. Peggy's B-day
DESCRIPTION:
URL:https://tcshighschool.org/event/ms-peggys-b-day/2024-05-08/
CATEGORIES:Special Days
END:VEVENT
BEGIN:VEVENT
DTSTART;VALUE=DATE:20240531
DTEND;VALUE=DATE:20240601
DTSTAMP:20260425T234031
CREATED:20230327T110934Z
LAST-MODIFIED:20230817T180245Z
UID:42427-1717113600-1717199999@tcshighschool.org
SUMMARY:Last Day of Regular Class
DESCRIPTION:
URL:https://tcshighschool.org/event/last-day-of-class-8/
CATEGORIES:Special Days
END:VEVENT
BEGIN:VEVENT
DTSTART;TZID=America/New_York:20240531T090000
DTEND;TZID=America/New_York:20240531T120000
DTSTAMP:20260425T234031
CREATED:20231201T121014Z
LAST-MODIFIED:20231201T121014Z
UID:44585-1717146000-1717156800@tcshighschool.org
SUMMARY:Greenmount Field Day
DESCRIPTION:
URL:https://tcshighschool.org/event/greenmount-field-day-4/
CATEGORIES:Special Days
END:VEVENT
BEGIN:VEVENT
DTSTART;VALUE=DATE:20240611
DTEND;VALUE=DATE:20240612
DTSTAMP:20260425T234031
CREATED:20220705T212908Z
LAST-MODIFIED:20220705T212908Z
UID:39809-1718064000-1718150399@tcshighschool.org
SUMMARY:Karla's B-day
DESCRIPTION:
URL:https://tcshighschool.org/event/karlas-b-day/2024-06-11/
CATEGORIES:Special Days
END:VEVENT
BEGIN:VEVENT
DTSTART;VALUE=DATE:20240622
DTEND;VALUE=DATE:20240623
DTSTAMP:20260425T234031
CREATED:20210814T011231Z
LAST-MODIFIED:20210814T011231Z
UID:39687-1719014400-1719100799@tcshighschool.org
SUMMARY:Ms. Mary Pat's B-day
DESCRIPTION:
URL:https://tcshighschool.org/event/ms-mary-pats-b-day/2024-06-22/
CATEGORIES:Special Days
END:VEVENT
BEGIN:VEVENT
DTSTART;VALUE=DATE:20240622
DTEND;VALUE=DATE:20240623
DTSTAMP:20260425T234031
CREATED:20210814T011320Z
LAST-MODIFIED:20220722T134154Z
UID:39686-1719014400-1719100799@tcshighschool.org
SUMMARY:Dyrrell's B-day
DESCRIPTION:
URL:https://tcshighschool.org/event/dyrells-b-day/2024-06-22/
CATEGORIES:Special Days
END:VEVENT
BEGIN:VEVENT
DTSTART;VALUE=DATE:20240704
DTEND;VALUE=DATE:20240705
DTSTAMP:20260425T234031
CREATED:20220705T212509Z
LAST-MODIFIED:20220705T212509Z
UID:39795-1720051200-1720137599@tcshighschool.org
SUMMARY:Hector's B-day
DESCRIPTION:
URL:https://tcshighschool.org/event/hectors-b-day/2024-07-04/
CATEGORIES:Special Days
END:VEVENT
BEGIN:VEVENT
DTSTART;VALUE=DATE:20240704
DTEND;VALUE=DATE:20240705
DTSTAMP:20260425T234031
CREATED:20230908T143055Z
LAST-MODIFIED:20230908T143055Z
UID:45912-1720051200-1720137599@tcshighschool.org
SUMMARY:Mr. Tom's B-day
DESCRIPTION:
URL:https://tcshighschool.org/event/mr-toms-b-day-5/2024-07-04/
CATEGORIES:Special Days
END:VEVENT
BEGIN:VEVENT
DTSTART;VALUE=DATE:20240709
DTEND;VALUE=DATE:20240710
DTSTAMP:20260425T234031
CREATED:20220705T212723Z
LAST-MODIFIED:20220705T212723Z
UID:39818-1720483200-1720569599@tcshighschool.org
SUMMARY:Kendall's B-day
DESCRIPTION:
URL:https://tcshighschool.org/event/kendalls-b-day/2024-07-09/
CATEGORIES:Special Days
END:VEVENT
END:VCALENDAR