BEGIN:VCALENDAR
VERSION:2.0
PRODID:-//TCS High School - ECPv6.15.11//NONSGML v1.0//EN
CALSCALE:GREGORIAN
METHOD:PUBLISH
X-ORIGINAL-URL:https://tcshighschool.org
X-WR-CALDESC:Events for TCS High School
REFRESH-INTERVAL;VALUE=DURATION:PT1H
X-Robots-Tag:noindex
X-PUBLISHED-TTL:PT1H
BEGIN:VTIMEZONE
TZID:America/New_York
BEGIN:DAYLIGHT
TZOFFSETFROM:-0500
TZOFFSETTO:-0400
TZNAME:EDT
DTSTART:20250309T070000
END:DAYLIGHT
BEGIN:STANDARD
TZOFFSETFROM:-0400
TZOFFSETTO:-0500
TZNAME:EST
DTSTART:20251102T060000
END:STANDARD
BEGIN:DAYLIGHT
TZOFFSETFROM:-0500
TZOFFSETTO:-0400
TZNAME:EDT
DTSTART:20260308T070000
END:DAYLIGHT
BEGIN:STANDARD
TZOFFSETFROM:-0400
TZOFFSETTO:-0500
TZNAME:EST
DTSTART:20261101T060000
END:STANDARD
BEGIN:DAYLIGHT
TZOFFSETFROM:-0500
TZOFFSETTO:-0400
TZNAME:EDT
DTSTART:20270314T070000
END:DAYLIGHT
BEGIN:STANDARD
TZOFFSETFROM:-0400
TZOFFSETTO:-0500
TZNAME:EST
DTSTART:20271107T060000
END:STANDARD
BEGIN:DAYLIGHT
TZOFFSETFROM:-0500
TZOFFSETTO:-0400
TZNAME:EDT
DTSTART:20280312T070000
END:DAYLIGHT
BEGIN:STANDARD
TZOFFSETFROM:-0400
TZOFFSETTO:-0500
TZNAME:EST
DTSTART:20281105T060000
END:STANDARD
END:VTIMEZONE
BEGIN:VEVENT
DTSTART;VALUE=DATE:20260508
DTEND;VALUE=DATE:20260509
DTSTAMP:20260423T194744
CREATED:20210814T004542Z
LAST-MODIFIED:20210814T004542Z
UID:45601-1778198400-1778284799@tcshighschool.org
SUMMARY:Ms. Peggy's B-day
DESCRIPTION:
URL:https://tcshighschool.org/event/ms-peggys-b-day/2026-05-08/
CATEGORIES:Special Days
END:VEVENT
BEGIN:VEVENT
DTSTART;VALUE=DATE:20260529
DTEND;VALUE=DATE:20260530
DTSTAMP:20260423T194744
CREATED:20250327T114457Z
LAST-MODIFIED:20250327T114457Z
UID:48165-1780012800-1780099199@tcshighschool.org
SUMMARY:Last Day of School
DESCRIPTION:
URL:https://tcshighschool.org/event/last-day-of-school-2/
CATEGORIES:Special Days
END:VEVENT
BEGIN:VEVENT
DTSTART;TZID=America/New_York:20260529T090000
DTEND;TZID=America/New_York:20260529T120000
DTSTAMP:20260423T194744
CREATED:20250825T123056Z
LAST-MODIFIED:20250825T123056Z
UID:49126-1780045200-1780056000@tcshighschool.org
SUMMARY:GreenMount Field Day
DESCRIPTION:
URL:https://tcshighschool.org/event/greenmount-field-day-6/
CATEGORIES:Special Days
END:VEVENT
BEGIN:VEVENT
DTSTART;VALUE=DATE:20260611
DTEND;VALUE=DATE:20260612
DTSTAMP:20260423T194744
CREATED:20220705T212908Z
LAST-MODIFIED:20220705T212908Z
UID:45735-1781136000-1781222399@tcshighschool.org
SUMMARY:Karla's B-day
DESCRIPTION:
URL:https://tcshighschool.org/event/karlas-b-day/2026-06-11/
CATEGORIES:Special Days
END:VEVENT
BEGIN:VEVENT
DTSTART;VALUE=DATE:20260622
DTEND;VALUE=DATE:20260623
DTSTAMP:20260423T194744
CREATED:20210814T011320Z
LAST-MODIFIED:20210814T011320Z
UID:45739-1782086400-1782172799@tcshighschool.org
SUMMARY:Dyrrell's B-day
DESCRIPTION:
URL:https://tcshighschool.org/event/dyrells-b-day/2026-06-22/
CATEGORIES:Special Days
END:VEVENT
BEGIN:VEVENT
DTSTART;VALUE=DATE:20260704
DTEND;VALUE=DATE:20260705
DTSTAMP:20260423T194744
CREATED:20220705T212509Z
LAST-MODIFIED:20220705T212509Z
UID:45745-1783123200-1783209599@tcshighschool.org
SUMMARY:Hector's B-day
DESCRIPTION:
URL:https://tcshighschool.org/event/hectors-b-day/2026-07-04/
CATEGORIES:Special Days
END:VEVENT
BEGIN:VEVENT
DTSTART;VALUE=DATE:20260704
DTEND;VALUE=DATE:20260705
DTSTAMP:20260423T194744
CREATED:20230908T143055Z
LAST-MODIFIED:20230908T143055Z
UID:45914-1783123200-1783209599@tcshighschool.org
SUMMARY:Mr. Tom's B-day
DESCRIPTION:
URL:https://tcshighschool.org/event/mr-toms-b-day-5/2026-07-04/
CATEGORIES:Special Days
END:VEVENT
BEGIN:VEVENT
DTSTART;VALUE=DATE:20260717
DTEND;VALUE=DATE:20260718
DTSTAMP:20260423T194744
CREATED:20220228T013414Z
LAST-MODIFIED:20220228T013414Z
UID:45753-1784246400-1784332799@tcshighschool.org
SUMMARY:Madison's B-day
DESCRIPTION:
URL:https://tcshighschool.org/event/madisons-b-day/2026-07-17/
CATEGORIES:Special Days
END:VEVENT
BEGIN:VEVENT
DTSTART;VALUE=DATE:20260808
DTEND;VALUE=DATE:20260809
DTSTAMP:20260423T194744
CREATED:20230908T195523Z
LAST-MODIFIED:20230908T195523Z
UID:46148-1786147200-1786233599@tcshighschool.org
SUMMARY:Ruth's B-day
DESCRIPTION:
URL:https://tcshighschool.org/event/ruths-b-day-2/2026-08-08/
CATEGORIES:Special Days
END:VEVENT
BEGIN:VEVENT
DTSTART;VALUE=DATE:20260809
DTEND;VALUE=DATE:20260810
DTSTAMP:20260423T194744
CREATED:20250811T183645Z
LAST-MODIFIED:20250811T183645Z
UID:48834-1786233600-1786319999@tcshighschool.org
SUMMARY:Mingo's B-day
DESCRIPTION:
URL:https://tcshighschool.org/event/mingos-b-day/2026-08-09/
CATEGORIES:Special Days
END:VEVENT
BEGIN:VEVENT
DTSTART;VALUE=DATE:20260811
DTEND;VALUE=DATE:20260812
DTSTAMP:20260423T194744
CREATED:20250811T185055Z
LAST-MODIFIED:20250811T185055Z
UID:48852-1786406400-1786492799@tcshighschool.org
SUMMARY:Madisyn's B-day
DESCRIPTION:
URL:https://tcshighschool.org/event/madisyns-b-day/2026-08-11/
CATEGORIES:Special Days
END:VEVENT
BEGIN:VEVENT
DTSTART;VALUE=DATE:20260815
DTEND;VALUE=DATE:20260816
DTSTAMP:20260423T194744
CREATED:20250811T184528Z
LAST-MODIFIED:20250811T185607Z
UID:48842-1786752000-1786838399@tcshighschool.org
SUMMARY:Jason's B-day
DESCRIPTION:
URL:https://tcshighschool.org/event/jasons-b-day/2026-08-15/
CATEGORIES:Special Days
END:VEVENT
BEGIN:VEVENT
DTSTART;VALUE=DATE:20260818
DTEND;VALUE=DATE:20260819
DTSTAMP:20260423T194744
CREATED:20210814T011856Z
LAST-MODIFIED:20210814T011856Z
UID:46283-1787011200-1787097599@tcshighschool.org
SUMMARY:Janiah's B-day
DESCRIPTION:
URL:https://tcshighschool.org/event/janiahs-b-day-4/2026-08-18/
CATEGORIES:Special Days
END:VEVENT
BEGIN:VEVENT
DTSTART;VALUE=DATE:20260818
DTEND;VALUE=DATE:20260819
DTSTAMP:20260423T194744
CREATED:20240828T132710Z
LAST-MODIFIED:20240828T132710Z
UID:46384-1787011200-1787097599@tcshighschool.org
SUMMARY:Mohamed's B-day
DESCRIPTION:
URL:https://tcshighschool.org/event/mohameds-b-day-2/2026-08-18/
CATEGORIES:Special Days
END:VEVENT
BEGIN:VEVENT
DTSTART;TZID=America/New_York:20260825T080000
DTEND;TZID=America/New_York:20260825T170000
DTSTAMP:20260423T194744
CREATED:20250811T185149Z
LAST-MODIFIED:20250811T185149Z
UID:48856-1787644800-1787677200@tcshighschool.org
SUMMARY:Sadie's B-day
DESCRIPTION:
URL:https://tcshighschool.org/event/sadies-b-day-3/2026-08-25/
CATEGORIES:Special Days
END:VEVENT
BEGIN:VEVENT
DTSTART;VALUE=DATE:20260915
DTEND;VALUE=DATE:20260916
DTSTAMP:20260423T194744
CREATED:20250811T184943Z
LAST-MODIFIED:20250811T184943Z
UID:49430-1789430400-1789516799@tcshighschool.org
SUMMARY:Rylee's B-day
DESCRIPTION:
URL:https://tcshighschool.org/event/rylees-b-day/2026-09-15/
CATEGORIES:Special Days
END:VEVENT
BEGIN:VEVENT
DTSTART;VALUE=DATE:20261011
DTEND;VALUE=DATE:20261012
DTSTAMP:20260423T194744
CREATED:20210814T000155Z
LAST-MODIFIED:20210814T000155Z
UID:46751-1791676800-1791763199@tcshighschool.org
SUMMARY:Donald's B-day
DESCRIPTION:
URL:https://tcshighschool.org/event/donalds-b-day-4/2026-10-11/
CATEGORIES:Special Days
END:VEVENT
BEGIN:VEVENT
DTSTART;VALUE=DATE:20261129
DTEND;VALUE=DATE:20261130
DTSTAMP:20260423T194744
CREATED:20210814T000300Z
LAST-MODIFIED:20210814T000300Z
UID:47160-1795910400-1795996799@tcshighschool.org
SUMMARY:Mr. Justin's B-day
DESCRIPTION:
URL:https://tcshighschool.org/event/mr-justins-b-day/2026-11-29/
CATEGORIES:Special Days
END:VEVENT
BEGIN:VEVENT
DTSTART;VALUE=DATE:20261217
DTEND;VALUE=DATE:20261218
DTSTAMP:20260423T194744
CREATED:20220705T212632Z
LAST-MODIFIED:20220705T212632Z
UID:47297-1797465600-1797551999@tcshighschool.org
SUMMARY:Danny's B-day
DESCRIPTION:
URL:https://tcshighschool.org/event/dannys-b-day/2026-12-17/
CATEGORIES:Special Days
END:VEVENT
BEGIN:VEVENT
DTSTART;VALUE=DATE:20270102
DTEND;VALUE=DATE:20270103
DTSTAMP:20260423T194744
CREATED:20260119T014944Z
LAST-MODIFIED:20260119T014944Z
UID:50229-1798848000-1798934399@tcshighschool.org
SUMMARY:Judah's B-day
DESCRIPTION:
URL:https://tcshighschool.org/event/judahs-b-day/2027-01-02/
CATEGORIES:Special Days
END:VEVENT
BEGIN:VEVENT
DTSTART;VALUE=DATE:20270123
DTEND;VALUE=DATE:20270124
DTSTAMP:20260423T194744
CREATED:20210814T000416Z
LAST-MODIFIED:20210814T000416Z
UID:47547-1800662400-1800748799@tcshighschool.org
SUMMARY:Ms. Leah's B-day
DESCRIPTION:
URL:https://tcshighschool.org/event/ms-leahs-b-day-2/2027-01-23/
CATEGORIES:Special Days
END:VEVENT
BEGIN:VEVENT
DTSTART;VALUE=DATE:20270327
DTEND;VALUE=DATE:20270328
DTSTAMP:20260423T194744
CREATED:20210814T004212Z
LAST-MODIFIED:20210814T004212Z
UID:48196-1806105600-1806191999@tcshighschool.org
SUMMARY:Mr. Ken's B-day
DESCRIPTION:
URL:https://tcshighschool.org/event/mr-kens-b-day/2027-03-27/
CATEGORIES:Special Days
END:VEVENT
BEGIN:VEVENT
DTSTART;VALUE=DATE:20270426
DTEND;VALUE=DATE:20270427
DTSTAMP:20260423T194744
CREATED:20210814T004348Z
LAST-MODIFIED:20210814T004348Z
UID:48436-1808697600-1808783999@tcshighschool.org
SUMMARY:Mr. Dave's B-day
DESCRIPTION:
URL:https://tcshighschool.org/event/mr-daves-b-day/2027-04-26/
CATEGORIES:Special Days
END:VEVENT
BEGIN:VEVENT
DTSTART;VALUE=DATE:20270508
DTEND;VALUE=DATE:20270509
DTSTAMP:20260423T194744
CREATED:20210814T004542Z
LAST-MODIFIED:20210814T004542Z
UID:48543-1809734400-1809820799@tcshighschool.org
SUMMARY:Ms. Peggy's B-day
DESCRIPTION:
URL:https://tcshighschool.org/event/ms-peggys-b-day/2027-05-08/
CATEGORIES:Special Days
END:VEVENT
BEGIN:VEVENT
DTSTART;VALUE=DATE:20270622
DTEND;VALUE=DATE:20270623
DTSTAMP:20260423T194744
CREATED:20210814T011320Z
LAST-MODIFIED:20210814T011320Z
UID:48670-1813622400-1813708799@tcshighschool.org
SUMMARY:Dyrrell's B-day
DESCRIPTION:
URL:https://tcshighschool.org/event/dyrells-b-day/2027-06-22/
CATEGORIES:Special Days
END:VEVENT
BEGIN:VEVENT
DTSTART;VALUE=DATE:20270704
DTEND;VALUE=DATE:20270705
DTSTAMP:20260423T194744
CREATED:20230908T143055Z
LAST-MODIFIED:20230908T143055Z
UID:48675-1814659200-1814745599@tcshighschool.org
SUMMARY:Mr. Tom's B-day
DESCRIPTION:
URL:https://tcshighschool.org/event/mr-toms-b-day-5/2027-07-04/
CATEGORIES:Special Days
END:VEVENT
BEGIN:VEVENT
DTSTART;VALUE=DATE:20270808
DTEND;VALUE=DATE:20270809
DTSTAMP:20260423T194744
CREATED:20230908T195523Z
LAST-MODIFIED:20230908T195523Z
UID:48818-1817683200-1817769599@tcshighschool.org
SUMMARY:Ruth's B-day
DESCRIPTION:
URL:https://tcshighschool.org/event/ruths-b-day-2/2027-08-08/
CATEGORIES:Special Days
END:VEVENT
BEGIN:VEVENT
DTSTART;VALUE=DATE:20270809
DTEND;VALUE=DATE:20270810
DTSTAMP:20260423T194744
CREATED:20250811T183645Z
LAST-MODIFIED:20250811T183645Z
UID:48835-1817769600-1817855999@tcshighschool.org
SUMMARY:Mingo's B-day
DESCRIPTION:
URL:https://tcshighschool.org/event/mingos-b-day/2027-08-09/
CATEGORIES:Special Days
END:VEVENT
BEGIN:VEVENT
DTSTART;VALUE=DATE:20270811
DTEND;VALUE=DATE:20270812
DTSTAMP:20260423T194744
CREATED:20250811T185055Z
LAST-MODIFIED:20250811T185055Z
UID:48853-1817942400-1818028799@tcshighschool.org
SUMMARY:Madisyn's B-day
DESCRIPTION:
URL:https://tcshighschool.org/event/madisyns-b-day/2027-08-11/
CATEGORIES:Special Days
END:VEVENT
BEGIN:VEVENT
DTSTART;VALUE=DATE:20270815
DTEND;VALUE=DATE:20270816
DTSTAMP:20260423T194744
CREATED:20250811T184528Z
LAST-MODIFIED:20250811T184528Z
UID:48960-1818288000-1818374399@tcshighschool.org
SUMMARY:Jason's B-day
DESCRIPTION:
URL:https://tcshighschool.org/event/jasons-b-day/2027-08-15/
CATEGORIES:Special Days
END:VEVENT
END:VCALENDAR