BEGIN:VCALENDAR
VERSION:2.0
PRODID:-//TCS High School - ECPv6.15.11//NONSGML v1.0//EN
CALSCALE:GREGORIAN
METHOD:PUBLISH
X-WR-CALNAME:TCS High School
X-ORIGINAL-URL:https://tcshighschool.org
X-WR-CALDESC:Events for TCS High School
REFRESH-INTERVAL;VALUE=DURATION:PT1H
X-Robots-Tag:noindex
X-PUBLISHED-TTL:PT1H
BEGIN:VTIMEZONE
TZID:America/New_York
BEGIN:DAYLIGHT
TZOFFSETFROM:-0500
TZOFFSETTO:-0400
TZNAME:EDT
DTSTART:20240310T070000
END:DAYLIGHT
BEGIN:STANDARD
TZOFFSETFROM:-0400
TZOFFSETTO:-0500
TZNAME:EST
DTSTART:20241103T060000
END:STANDARD
BEGIN:DAYLIGHT
TZOFFSETFROM:-0500
TZOFFSETTO:-0400
TZNAME:EDT
DTSTART:20250309T070000
END:DAYLIGHT
BEGIN:STANDARD
TZOFFSETFROM:-0400
TZOFFSETTO:-0500
TZNAME:EST
DTSTART:20251102T060000
END:STANDARD
BEGIN:DAYLIGHT
TZOFFSETFROM:-0500
TZOFFSETTO:-0400
TZNAME:EDT
DTSTART:20260308T070000
END:DAYLIGHT
BEGIN:STANDARD
TZOFFSETFROM:-0400
TZOFFSETTO:-0500
TZNAME:EST
DTSTART:20261101T060000
END:STANDARD
END:VTIMEZONE
BEGIN:VEVENT
DTSTART;VALUE=DATE:20250418
DTEND;VALUE=DATE:20250419
DTSTAMP:20260425T100327
CREATED:20240828T130847Z
LAST-MODIFIED:20240828T130847Z
UID:46348-1744934400-1745020799@tcshighschool.org
SUMMARY:Lyric's B-day
DESCRIPTION:
URL:https://tcshighschool.org/event/lyrics-b-day/
CATEGORIES:Special Days
END:VEVENT
BEGIN:VEVENT
DTSTART;VALUE=DATE:20250426
DTEND;VALUE=DATE:20250427
DTSTAMP:20260425T100327
CREATED:20210814T004348Z
LAST-MODIFIED:20210814T004348Z
UID:42597-1745625600-1745711999@tcshighschool.org
SUMMARY:Mr. Dave's B-day
DESCRIPTION:
URL:https://tcshighschool.org/event/mr-daves-b-day/2025-04-26/
CATEGORIES:Special Days
END:VEVENT
BEGIN:VEVENT
DTSTART;VALUE=DATE:20250504
DTEND;VALUE=DATE:20250505
DTSTAMP:20260425T100327
CREATED:20210814T004450Z
LAST-MODIFIED:20210814T004450Z
UID:42675-1746316800-1746403199@tcshighschool.org
SUMMARY:Ms. Carol's B-day
DESCRIPTION:
URL:https://tcshighschool.org/event/ms-carols-b-day/2025-05-04/
CATEGORIES:Special Days
END:VEVENT
BEGIN:VEVENT
DTSTART;VALUE=DATE:20250506
DTEND;VALUE=DATE:20250507
DTSTAMP:20260425T100327
CREATED:20220705T212821Z
LAST-MODIFIED:20230817T175921Z
UID:42677-1746489600-1746575999@tcshighschool.org
SUMMARY:Ethan's B-day
DESCRIPTION:
URL:https://tcshighschool.org/event/e-ethans-b-day/2025-05-06/
CATEGORIES:Special Days
END:VEVENT
BEGIN:VEVENT
DTSTART;VALUE=DATE:20250508
DTEND;VALUE=DATE:20250509
DTSTAMP:20260425T100327
CREATED:20240828T132415Z
LAST-MODIFIED:20250811T184235Z
UID:46376-1746662400-1746748799@tcshighschool.org
SUMMARY:Kennedy's B-day
DESCRIPTION:
URL:https://tcshighschool.org/event/kennedys-b-day-2/2025-05-08/
CATEGORIES:Special Days
END:VEVENT
BEGIN:VEVENT
DTSTART;VALUE=DATE:20250508
DTEND;VALUE=DATE:20250509
DTSTAMP:20260425T100327
CREATED:20210814T004542Z
LAST-MODIFIED:20210814T004542Z
UID:42703-1746662400-1746748799@tcshighschool.org
SUMMARY:Ms. Peggy's B-day
DESCRIPTION:
URL:https://tcshighschool.org/event/ms-peggys-b-day/2025-05-08/
CATEGORIES:Special Days
END:VEVENT
BEGIN:VEVENT
DTSTART;VALUE=DATE:20250523
DTEND;VALUE=DATE:20250524
DTSTAMP:20260425T100327
CREATED:20210814T004758Z
LAST-MODIFIED:20210814T004758Z
UID:48624-1747958400-1748044799@tcshighschool.org
SUMMARY:Jordan's B-day
DESCRIPTION:
URL:https://tcshighschool.org/event/jordans-b-day-4/2025-05-23/
CATEGORIES:Special Days
END:VEVENT
BEGIN:VEVENT
DTSTART;VALUE=DATE:20250530
DTEND;VALUE=DATE:20250531
DTSTAMP:20260425T100327
CREATED:20240722T192341Z
LAST-MODIFIED:20240722T192341Z
UID:45789-1748563200-1748649599@tcshighschool.org
SUMMARY:Last Day of Class
DESCRIPTION:
URL:https://tcshighschool.org/event/last-day-of-class-9/
CATEGORIES:Special Days
END:VEVENT
BEGIN:VEVENT
DTSTART;TZID=America/New_York:20250604T070000
DTEND;TZID=America/New_York:20250604T213000
DTSTAMP:20260425T100327
CREATED:20250208T143057Z
LAST-MODIFIED:20250223T154459Z
UID:47672-1749020400-1749072600@tcshighschool.org
SUMMARY:NYC Field Trip: Hamilton
DESCRIPTION:
URL:https://tcshighschool.org/event/special-field-trip/
CATEGORIES:Field Trips,Special Days
ATTACH;FMTTYPE=image/jpeg:https://tcshighschool.org/wp-content/uploads/2025/02/download-1.jpg
END:VEVENT
BEGIN:VEVENT
DTSTART;VALUE=DATE:20250611
DTEND;VALUE=DATE:20250612
DTSTAMP:20260425T100327
CREATED:20220705T212908Z
LAST-MODIFIED:20220705T212908Z
UID:42787-1749600000-1749686399@tcshighschool.org
SUMMARY:Karla's B-day
DESCRIPTION:
URL:https://tcshighschool.org/event/karlas-b-day/2025-06-11/
CATEGORIES:Special Days
END:VEVENT
BEGIN:VEVENT
DTSTART;VALUE=DATE:20250622
DTEND;VALUE=DATE:20250623
DTSTAMP:20260425T100327
CREATED:20210814T011231Z
LAST-MODIFIED:20210814T011231Z
UID:42793-1750550400-1750636799@tcshighschool.org
SUMMARY:Ms. Mary Pat's B-day
DESCRIPTION:
URL:https://tcshighschool.org/event/ms-mary-pats-b-day/2025-06-22/
CATEGORIES:Special Days
END:VEVENT
BEGIN:VEVENT
DTSTART;VALUE=DATE:20250622
DTEND;VALUE=DATE:20250623
DTSTAMP:20260425T100327
CREATED:20210814T011320Z
LAST-MODIFIED:20210814T011320Z
UID:42792-1750550400-1750636799@tcshighschool.org
SUMMARY:Dyrrell's B-day
DESCRIPTION:
URL:https://tcshighschool.org/event/dyrells-b-day/2025-06-22/
CATEGORIES:Special Days
END:VEVENT
BEGIN:VEVENT
DTSTART;VALUE=DATE:20250629
DTEND;VALUE=DATE:20250630
DTSTAMP:20260425T100327
CREATED:20240828T131105Z
LAST-MODIFIED:20240828T131105Z
UID:46355-1751155200-1751241599@tcshighschool.org
SUMMARY:Khori's B-day
DESCRIPTION:
URL:https://tcshighschool.org/event/khoris-b-day/
CATEGORIES:Special Days
END:VEVENT
BEGIN:VEVENT
DTSTART;VALUE=DATE:20250704
DTEND;VALUE=DATE:20250705
DTSTAMP:20260425T100327
CREATED:20220705T212509Z
LAST-MODIFIED:20220705T212509Z
UID:42798-1751587200-1751673599@tcshighschool.org
SUMMARY:Hector's B-day
DESCRIPTION:
URL:https://tcshighschool.org/event/hectors-b-day/2025-07-04/
CATEGORIES:Special Days
END:VEVENT
BEGIN:VEVENT
DTSTART;VALUE=DATE:20250704
DTEND;VALUE=DATE:20250705
DTSTAMP:20260425T100327
CREATED:20230908T143055Z
LAST-MODIFIED:20230908T143055Z
UID:45913-1751587200-1751673599@tcshighschool.org
SUMMARY:Mr. Tom's B-day
DESCRIPTION:
URL:https://tcshighschool.org/event/mr-toms-b-day-5/2025-07-04/
CATEGORIES:Special Days
END:VEVENT
BEGIN:VEVENT
DTSTART;VALUE=DATE:20250711
DTEND;VALUE=DATE:20250712
DTSTAMP:20260425T100327
CREATED:20250811T185055Z
LAST-MODIFIED:20250811T185055Z
UID:48850-1752192000-1752278399@tcshighschool.org
SUMMARY:Madisyn's B-day
DESCRIPTION:
URL:https://tcshighschool.org/event/madisyns-b-day/2025-07-11/
CATEGORIES:Special Days
END:VEVENT
BEGIN:VEVENT
DTSTART;VALUE=DATE:20250717
DTEND;VALUE=DATE:20250718
DTSTAMP:20260425T100327
CREATED:20220228T013414Z
LAST-MODIFIED:20220228T013414Z
UID:42827-1752710400-1752796799@tcshighschool.org
SUMMARY:Madison's B-day
DESCRIPTION:
URL:https://tcshighschool.org/event/madisons-b-day/2025-07-17/
CATEGORIES:Special Days
END:VEVENT
BEGIN:VEVENT
DTSTART;VALUE=DATE:20250808
DTEND;VALUE=DATE:20250809
DTSTAMP:20260425T100327
CREATED:20230908T195523Z
LAST-MODIFIED:20230908T195523Z
UID:46147-1754611200-1754697599@tcshighschool.org
SUMMARY:Ruth's B-day
DESCRIPTION:
URL:https://tcshighschool.org/event/ruths-b-day-2/2025-08-08/
CATEGORIES:Special Days
END:VEVENT
BEGIN:VEVENT
DTSTART;VALUE=DATE:20250811
DTEND;VALUE=DATE:20250812
DTSTAMP:20260425T100327
CREATED:20250811T185055Z
LAST-MODIFIED:20250811T185055Z
UID:48851-1754870400-1754956799@tcshighschool.org
SUMMARY:Madisyn's B-day
DESCRIPTION:
URL:https://tcshighschool.org/event/madisyns-b-day/2025-08-11/
CATEGORIES:Special Days
END:VEVENT
BEGIN:VEVENT
DTSTART;VALUE=DATE:20250818
DTEND;VALUE=DATE:20250819
DTSTAMP:20260425T100327
CREATED:20210814T011856Z
LAST-MODIFIED:20210814T011856Z
UID:43549-1755475200-1755561599@tcshighschool.org
SUMMARY:Janiah's B-day
DESCRIPTION:
URL:https://tcshighschool.org/event/janiahs-b-day-4/2025-08-18/
CATEGORIES:Special Days
END:VEVENT
BEGIN:VEVENT
DTSTART;VALUE=DATE:20250818
DTEND;VALUE=DATE:20250819
DTSTAMP:20260425T100327
CREATED:20240828T132710Z
LAST-MODIFIED:20240828T132710Z
UID:46383-1755475200-1755561599@tcshighschool.org
SUMMARY:Mohamed's B-day
DESCRIPTION:
URL:https://tcshighschool.org/event/mohameds-b-day-2/2025-08-18/
CATEGORIES:Special Days
END:VEVENT
BEGIN:VEVENT
DTSTART;TZID=America/New_York:20250825T080000
DTEND;TZID=America/New_York:20250825T170000
DTSTAMP:20260425T100327
CREATED:20250811T185149Z
LAST-MODIFIED:20250811T185149Z
UID:48855-1756108800-1756141200@tcshighschool.org
SUMMARY:Sadie's B-day
DESCRIPTION:
URL:https://tcshighschool.org/event/sadies-b-day-3/2025-08-25/
CATEGORIES:Special Days
END:VEVENT
BEGIN:VEVENT
DTSTART;VALUE=DATE:20250903
DTEND;VALUE=DATE:20250904
DTSTAMP:20260425T100327
CREATED:20250327T112039Z
LAST-MODIFIED:20250327T112039Z
UID:48147-1756857600-1756943999@tcshighschool.org
SUMMARY:1st Day of Class
DESCRIPTION:
URL:https://tcshighschool.org/event/1st-day-of-class-9/
CATEGORIES:Special Days
END:VEVENT
BEGIN:VEVENT
DTSTART;VALUE=DATE:20250915
DTEND;VALUE=DATE:20250916
DTSTAMP:20260425T100327
CREATED:20250811T184943Z
LAST-MODIFIED:20250911T224028Z
UID:48847-1757894400-1757980799@tcshighschool.org
SUMMARY:Rylee's B-day
DESCRIPTION:
URL:https://tcshighschool.org/event/rylees-b-day/2025-09-15/
CATEGORIES:Special Days
END:VEVENT
BEGIN:VEVENT
DTSTART;VALUE=DATE:20251011
DTEND;VALUE=DATE:20251012
DTSTAMP:20260425T100327
CREATED:20210814T000155Z
LAST-MODIFIED:20210814T000155Z
UID:44274-1760140800-1760227199@tcshighschool.org
SUMMARY:Donald's B-day
DESCRIPTION:
URL:https://tcshighschool.org/event/donalds-b-day-4/2025-10-11/
CATEGORIES:Special Days
END:VEVENT
BEGIN:VEVENT
DTSTART;VALUE=DATE:20251015
DTEND;VALUE=DATE:20251016
DTSTAMP:20260425T100327
CREATED:20250811T184528Z
LAST-MODIFIED:20250811T185600Z
UID:48841-1760486400-1760572799@tcshighschool.org
SUMMARY:Jason's B-day
DESCRIPTION:
URL:https://tcshighschool.org/event/jasons-b-day/2025-10-15/
CATEGORIES:Special Days
END:VEVENT
BEGIN:VEVENT
DTSTART;VALUE=DATE:20251022
DTEND;VALUE=DATE:20251023
DTSTAMP:20260425T100327
CREATED:20211020T212748Z
LAST-MODIFIED:20211020T212748Z
UID:44361-1761091200-1761177599@tcshighschool.org
SUMMARY:Rhys's B-day
DESCRIPTION:
URL:https://tcshighschool.org/event/rhyss-b-day/2025-10-22/
CATEGORIES:Special Days
END:VEVENT
BEGIN:VEVENT
DTSTART;VALUE=DATE:20251129
DTEND;VALUE=DATE:20251130
DTSTAMP:20260425T100327
CREATED:20210814T000300Z
LAST-MODIFIED:20210814T000300Z
UID:44584-1764374400-1764460799@tcshighschool.org
SUMMARY:Mr. Justin's B-day
DESCRIPTION:
URL:https://tcshighschool.org/event/mr-justins-b-day/2025-11-29/
CATEGORIES:Special Days
END:VEVENT
BEGIN:VEVENT
DTSTART;VALUE=DATE:20251201
DTEND;VALUE=DATE:20251202
DTSTAMP:20260425T100327
CREATED:20250327T114844Z
LAST-MODIFIED:20250327T114844Z
UID:48169-1764547200-1764633599@tcshighschool.org
SUMMARY:2nd Trimester Begins
DESCRIPTION:
URL:https://tcshighschool.org/event/2nd-trimester-begins-7/
CATEGORIES:Special Days
END:VEVENT
BEGIN:VEVENT
DTSTART;VALUE=DATE:20251209
DTEND;VALUE=DATE:20251210
DTSTAMP:20260425T100327
CREATED:20250811T183645Z
LAST-MODIFIED:20250811T183645Z
UID:48833-1765238400-1765324799@tcshighschool.org
SUMMARY:Mingo's B-day
DESCRIPTION:
URL:https://tcshighschool.org/event/mingos-b-day/2025-12-09/
CATEGORIES:Special Days
END:VEVENT
END:VCALENDAR