BEGIN:VCALENDAR
VERSION:2.0
PRODID:-//TCS High School - ECPv6.15.11//NONSGML v1.0//EN
CALSCALE:GREGORIAN
METHOD:PUBLISH
X-ORIGINAL-URL:https://tcshighschool.org
X-WR-CALDESC:Events for TCS High School
REFRESH-INTERVAL;VALUE=DURATION:PT1H
X-Robots-Tag:noindex
X-PUBLISHED-TTL:PT1H
BEGIN:VTIMEZONE
TZID:America/New_York
BEGIN:DAYLIGHT
TZOFFSETFROM:-0500
TZOFFSETTO:-0400
TZNAME:EDT
DTSTART:20260308T070000
END:DAYLIGHT
BEGIN:STANDARD
TZOFFSETFROM:-0400
TZOFFSETTO:-0500
TZNAME:EST
DTSTART:20261101T060000
END:STANDARD
BEGIN:DAYLIGHT
TZOFFSETFROM:-0500
TZOFFSETTO:-0400
TZNAME:EDT
DTSTART:20270314T070000
END:DAYLIGHT
BEGIN:STANDARD
TZOFFSETFROM:-0400
TZOFFSETTO:-0500
TZNAME:EST
DTSTART:20271107T060000
END:STANDARD
BEGIN:DAYLIGHT
TZOFFSETFROM:-0500
TZOFFSETTO:-0400
TZNAME:EDT
DTSTART:20280312T070000
END:DAYLIGHT
BEGIN:STANDARD
TZOFFSETFROM:-0400
TZOFFSETTO:-0500
TZNAME:EST
DTSTART:20281105T060000
END:STANDARD
BEGIN:DAYLIGHT
TZOFFSETFROM:-0500
TZOFFSETTO:-0400
TZNAME:EDT
DTSTART:20290311T070000
END:DAYLIGHT
BEGIN:STANDARD
TZOFFSETFROM:-0400
TZOFFSETTO:-0500
TZNAME:EST
DTSTART:20291104T060000
END:STANDARD
END:VTIMEZONE
BEGIN:VEVENT
DTSTART;VALUE=DATE:20271129
DTEND;VALUE=DATE:20271130
DTSTAMP:20260424T123126
CREATED:20210814T000300Z
LAST-MODIFIED:20210814T000300Z
UID:49871-1827446400-1827532799@tcshighschool.org
SUMMARY:Mr. Justin's B-day
DESCRIPTION:
URL:https://tcshighschool.org/event/mr-justins-b-day/2027-11-29/
CATEGORIES:Special Days
END:VEVENT
BEGIN:VEVENT
DTSTART;VALUE=DATE:20280102
DTEND;VALUE=DATE:20280103
DTSTAMP:20260424T123126
CREATED:20260119T014944Z
LAST-MODIFIED:20260119T014944Z
UID:50230-1830384000-1830470399@tcshighschool.org
SUMMARY:Judah's B-day
DESCRIPTION:
URL:https://tcshighschool.org/event/judahs-b-day/2028-01-02/
CATEGORIES:Special Days
END:VEVENT
BEGIN:VEVENT
DTSTART;VALUE=DATE:20280123
DTEND;VALUE=DATE:20280124
DTSTAMP:20260424T123126
CREATED:20210814T000416Z
LAST-MODIFIED:20210814T000416Z
UID:50269-1832198400-1832284799@tcshighschool.org
SUMMARY:Ms. Leah's B-day
DESCRIPTION:
URL:https://tcshighschool.org/event/ms-leahs-b-day-2/2028-01-23/
CATEGORIES:Special Days
END:VEVENT
BEGIN:VEVENT
DTSTART;VALUE=DATE:20280327
DTEND;VALUE=DATE:20280328
DTSTAMP:20260424T123126
CREATED:20210814T004212Z
LAST-MODIFIED:20210814T004212Z
UID:50649-1837728000-1837814399@tcshighschool.org
SUMMARY:Mr. Ken's B-day
DESCRIPTION:
URL:https://tcshighschool.org/event/mr-kens-b-day/2028-03-27/
CATEGORIES:Special Days
END:VEVENT
BEGIN:VEVENT
DTSTART;VALUE=DATE:20280327
DTEND;VALUE=DATE:20280328
DTSTAMP:20260424T123126
CREATED:20260301T155814Z
LAST-MODIFIED:20260301T155814Z
UID:50650-1837728000-1837814399@tcshighschool.org
SUMMARY:Jordan's B-day
DESCRIPTION:
URL:https://tcshighschool.org/event/jordans-b-day-6/2028-03-27/
CATEGORIES:Special Days
END:VEVENT
END:VCALENDAR