BEGIN:VCALENDAR
VERSION:2.0
PRODID:-//TCS High School - ECPv6.15.11//NONSGML v1.0//EN
CALSCALE:GREGORIAN
METHOD:PUBLISH
X-WR-CALNAME:TCS High School
X-ORIGINAL-URL:https://tcshighschool.org
X-WR-CALDESC:Events for TCS High School
REFRESH-INTERVAL;VALUE=DURATION:PT1H
X-Robots-Tag:noindex
X-PUBLISHED-TTL:PT1H
BEGIN:VTIMEZONE
TZID:America/New_York
BEGIN:DAYLIGHT
TZOFFSETFROM:-0500
TZOFFSETTO:-0400
TZNAME:EDT
DTSTART:20220313T070000
END:DAYLIGHT
BEGIN:STANDARD
TZOFFSETFROM:-0400
TZOFFSETTO:-0500
TZNAME:EST
DTSTART:20221106T060000
END:STANDARD
BEGIN:DAYLIGHT
TZOFFSETFROM:-0500
TZOFFSETTO:-0400
TZNAME:EDT
DTSTART:20230312T070000
END:DAYLIGHT
BEGIN:STANDARD
TZOFFSETFROM:-0400
TZOFFSETTO:-0500
TZNAME:EST
DTSTART:20231105T060000
END:STANDARD
BEGIN:DAYLIGHT
TZOFFSETFROM:-0500
TZOFFSETTO:-0400
TZNAME:EDT
DTSTART:20240310T070000
END:DAYLIGHT
BEGIN:STANDARD
TZOFFSETFROM:-0400
TZOFFSETTO:-0500
TZNAME:EST
DTSTART:20241103T060000
END:STANDARD
END:VTIMEZONE
BEGIN:VEVENT
DTSTART;TZID=America/New_York:20231214T183000
DTEND;TZID=America/New_York:20231214T183000
DTSTAMP:20260425T124021
CREATED:20231118T190836Z
LAST-MODIFIED:20231118T190836Z
UID:44553-1702578600-1702578600@tcshighschool.org
SUMMARY:Sponsor Meeting
DESCRIPTION:
URL:https://tcshighschool.org/event/sponsor-meeting-44/
CATEGORIES:Meetings
END:VEVENT
BEGIN:VEVENT
DTSTART;TZID=America/New_York:20231214T124500
DTEND;TZID=America/New_York:20231214T134500
DTSTAMP:20260425T124021
CREATED:20231010T104507Z
LAST-MODIFIED:20231010T104507Z
UID:44232-1702557900-1702561500@tcshighschool.org
SUMMARY:Theatre with The Lyric
DESCRIPTION:
URL:https://tcshighschool.org/event/theatre-with-the-lyric-3/2023-12-14/
CATEGORIES:Seminar - Regular
END:VEVENT
BEGIN:VEVENT
DTSTART;TZID=America/New_York:20231214T121500
DTEND;TZID=America/New_York:20231214T124500
DTSTAMP:20260425T124021
CREATED:20231027T213507Z
LAST-MODIFIED:20231212T114155Z
UID:44381-1702556100-1702557900@tcshighschool.org
SUMMARY:Lunch: Mr. Kevin (Sam's Dad)
DESCRIPTION:pasta with turkey meat sauce and salad
URL:https://tcshighschool.org/event/lunch-mr-kevin-sams-dad/
CATEGORIES:Lunch
END:VEVENT
BEGIN:VEVENT
DTSTART;TZID=America/New_York:20231213T124500
DTEND;TZID=America/New_York:20231213T134500
DTSTAMP:20260425T124021
CREATED:20230814T215311Z
LAST-MODIFIED:20230821T134628Z
UID:43450-1702471500-1702475100@tcshighschool.org
SUMMARY:Visual Arts
DESCRIPTION:
URL:https://tcshighschool.org/event/visual-arts-2023-09-13/2023-12-13/
CATEGORIES:Seminar - Regular
END:VEVENT
BEGIN:VEVENT
DTSTART;TZID=America/New_York:20231213T121500
DTEND;TZID=America/New_York:20231213T124500
DTSTAMP:20260425T124021
CREATED:20230904T210658Z
LAST-MODIFIED:20231212T114231Z
UID:43851-1702469700-1702471500@tcshighschool.org
SUMMARY:Lunch: Mr. Ken & Ms. Paulette
DESCRIPTION:Chik fil a
URL:https://tcshighschool.org/event/lunch-mr-ken-ms-paulette-11/
CATEGORIES:Lunch
END:VEVENT
BEGIN:VEVENT
DTSTART;TZID=America/New_York:20231213T084500
DTEND;TZID=America/New_York:20231213T084500
DTSTAMP:20260425T124021
CREATED:20230814T214915Z
LAST-MODIFIED:20230814T214915Z
UID:42926-1702457100-1702457100@tcshighschool.org
SUMMARY:Physical Education
DESCRIPTION:
URL:https://tcshighschool.org/event/physical-education-3/2023-12-13/
CATEGORIES:Seminar - Regular
END:VEVENT
BEGIN:VEVENT
DTSTART;TZID=America/New_York:20231212T124500
DTEND;TZID=America/New_York:20231212T134500
DTSTAMP:20260425T124021
CREATED:20230814T215700Z
LAST-MODIFIED:20230816T184734Z
UID:43100-1702385100-1702388700@tcshighschool.org
SUMMARY:ASL II
DESCRIPTION:
URL:https://tcshighschool.org/event/asl-ii-2-2023-09-19/2023-12-12/
CATEGORIES:Seminar - Regular
END:VEVENT
BEGIN:VEVENT
DTSTART;TZID=America/New_York:20231212T121500
DTEND;TZID=America/New_York:20231212T124500
DTSTAMP:20260425T124021
CREATED:20230810T201746Z
LAST-MODIFIED:20231102T111013Z
UID:42858-1702383300-1702385100@tcshighschool.org
SUMMARY:Lunch: Ms. Peggy
DESCRIPTION:shrimp/broccoli pasta\, salad\, fruit
URL:https://tcshighschool.org/event/lunch-ms-peggy-3-2023-12-12/
CATEGORIES:Lunch
END:VEVENT
BEGIN:VEVENT
DTSTART;TZID=America/New_York:20231212T100000
DTEND;TZID=America/New_York:20231212T110000
DTSTAMP:20260425T124021
CREATED:20231102T133133Z
LAST-MODIFIED:20231102T133133Z
UID:44443-1702375200-1702378800@tcshighschool.org
SUMMARY:ASL I
DESCRIPTION:
URL:https://tcshighschool.org/event/asl-i-5/2023-12-12/
CATEGORIES:Seminar - Regular
END:VEVENT
BEGIN:VEVENT
DTSTART;TZID=America/New_York:20231212T090000
DTEND;TZID=America/New_York:20231212T100000
DTSTAMP:20260425T124021
CREATED:20231024T170115Z
LAST-MODIFIED:20231024T170115Z
UID:44368-1702371600-1702375200@tcshighschool.org
SUMMARY:Young Playwrights Seminar
DESCRIPTION:
URL:https://tcshighschool.org/event/young-playwrights-seminar-8/2023-12-12/
CATEGORIES:Seminars - Special
END:VEVENT
BEGIN:VEVENT
DTSTART;VALUE=DATE:20231212
DTEND;VALUE=DATE:20231213
DTSTAMP:20260425T124021
CREATED:20231015T174052Z
LAST-MODIFIED:20231015T174052Z
UID:44298-1702339200-1702425599@tcshighschool.org
SUMMARY:Shadow Day
DESCRIPTION:
URL:https://tcshighschool.org/event/shadow-day-43/
CATEGORIES:Shadow Days
END:VEVENT
BEGIN:VEVENT
DTSTART;TZID=America/New_York:20231211T124500
DTEND;TZID=America/New_York:20231211T150000
DTSTAMP:20260425T124021
CREATED:20230822T191659Z
LAST-MODIFIED:20231208T124838Z
UID:43689-1702298700-1702306800@tcshighschool.org
SUMMARY:Woodworking Workshop with Done Construction
DESCRIPTION:
URL:https://tcshighschool.org/event/done-construction-seminar-5-2023-12-11/
CATEGORIES:Seminar - Regular
END:VEVENT
BEGIN:VEVENT
DTSTART;TZID=America/New_York:20231211T121500
DTEND;TZID=America/New_York:20231211T124500
DTSTAMP:20260425T124021
CREATED:20231022T190255Z
LAST-MODIFIED:20231209T230814Z
UID:44357-1702296900-1702298700@tcshighschool.org
SUMMARY:Lunch: Ms. Leslie (Kennedy's Mom)
DESCRIPTION:Spaghetti
URL:https://tcshighschool.org/event/lunch-ms-leslie-kennedys-mom-13/
CATEGORIES:Lunch
END:VEVENT
BEGIN:VEVENT
DTSTART;TZID=America/New_York:20231208T113000
DTEND;TZID=America/New_York:20231208T130000
DTSTAMP:20260425T124021
CREATED:20231205T215824Z
LAST-MODIFIED:20231205T215824Z
UID:44619-1702035000-1702040400@tcshighschool.org
SUMMARY:Conversation with Peggy Lashbroook
DESCRIPTION:
URL:https://tcshighschool.org/event/conversation-with-peggy-lashbroook/
CATEGORIES:Conversation
END:VEVENT
BEGIN:VEVENT
DTSTART;TZID=America/New_York:20231208T110000
DTEND;TZID=America/New_York:20231208T113000
DTSTAMP:20260425T124021
CREATED:20231022T190227Z
LAST-MODIFIED:20231022T190227Z
UID:44355-1702033200-1702035000@tcshighschool.org
SUMMARY:Lunch: Ms. Leslie (Kennedy's Mom)
DESCRIPTION:
URL:https://tcshighschool.org/event/lunch-ms-leslie-kennedys-mom-12/
CATEGORIES:Lunch
END:VEVENT
BEGIN:VEVENT
DTSTART;TZID=America/New_York:20231208T090000
DTEND;TZID=America/New_York:20231208T110000
DTSTAMP:20260425T124021
CREATED:20230814T215012Z
LAST-MODIFIED:20230814T215012Z
UID:42965-1702026000-1702033200@tcshighschool.org
SUMMARY:Creative Writing
DESCRIPTION:
URL:https://tcshighschool.org/event/creative-writing-8/2023-12-08/
CATEGORIES:Seminar - Regular
END:VEVENT
BEGIN:VEVENT
DTSTART;VALUE=DATE:20231208
DTEND;VALUE=DATE:20231209
DTSTAMP:20260425T124021
CREATED:20230910T143728Z
LAST-MODIFIED:20230910T143805Z
UID:43937-1701993600-1702079999@tcshighschool.org
SUMMARY:HOLIDAY OPEN HOUSE
DESCRIPTION:
URL:https://tcshighschool.org/event/annual-holiday-open-house-5/
CATEGORIES:Social Events
END:VEVENT
BEGIN:VEVENT
DTSTART;TZID=America/New_York:20231207T124500
DTEND;TZID=America/New_York:20231207T133000
DTSTAMP:20260425T124021
CREATED:20231109T171319Z
LAST-MODIFIED:20231128T152720Z
UID:44511-1701953100-1701955800@tcshighschool.org
SUMMARY:WBAL Tour
DESCRIPTION:
URL:https://tcshighschool.org/event/wbal-tour/
CATEGORIES:Field Trips
END:VEVENT
BEGIN:VEVENT
DTSTART;TZID=America/New_York:20231207T124500
DTEND;TZID=America/New_York:20231207T131500
DTSTAMP:20260425T124021
CREATED:20231128T213857Z
LAST-MODIFIED:20231207T142538Z
UID:44578-1701953100-1701954900@tcshighschool.org
SUMMARY:Lunch: Ms. Neyvy (Fatima's Mom)
DESCRIPTION:pizza
URL:https://tcshighschool.org/event/lunch-ms-neyvy-fatimas-mom-3/
CATEGORIES:Lunch
END:VEVENT
BEGIN:VEVENT
DTSTART;TZID=America/New_York:20231206T124500
DTEND;TZID=America/New_York:20231206T134500
DTSTAMP:20260425T124021
CREATED:20230814T215311Z
LAST-MODIFIED:20230821T134628Z
UID:43449-1701866700-1701870300@tcshighschool.org
SUMMARY:Visual Arts
DESCRIPTION:
URL:https://tcshighschool.org/event/visual-arts-2023-09-13/2023-12-06/
CATEGORIES:Seminar - Regular
END:VEVENT
BEGIN:VEVENT
DTSTART;TZID=America/New_York:20231206T121500
DTEND;TZID=America/New_York:20231206T124500
DTSTAMP:20260425T124021
CREATED:20231022T175550Z
LAST-MODIFIED:20231207T131046Z
UID:44351-1701864900-1701866700@tcshighschool.org
SUMMARY:Lunch: Ms. Linda (Madison's Mom)
DESCRIPTION:Baked Penne & Garlic Bread
URL:https://tcshighschool.org/event/lunch-ms-linda-madisons-mom-17/
CATEGORIES:Lunch
END:VEVENT
BEGIN:VEVENT
DTSTART;TZID=America/New_York:20231206T084500
DTEND;TZID=America/New_York:20231206T084500
DTSTAMP:20260425T124021
CREATED:20230814T214915Z
LAST-MODIFIED:20230814T214915Z
UID:42925-1701852300-1701852300@tcshighschool.org
SUMMARY:Physical Education
DESCRIPTION:
URL:https://tcshighschool.org/event/physical-education-3/2023-12-06/
CATEGORIES:Seminar - Regular
END:VEVENT
BEGIN:VEVENT
DTSTART;TZID=America/New_York:20231205T180000
DTEND;TZID=America/New_York:20231205T210000
DTSTAMP:20260425T124021
CREATED:20231012T151354Z
LAST-MODIFIED:20231012T151354Z
UID:44270-1701799200-1701810000@tcshighschool.org
SUMMARY:AIAC Banquet
DESCRIPTION:
URL:https://tcshighschool.org/event/aiac-banquet-6/
CATEGORIES:Field Trips
END:VEVENT
BEGIN:VEVENT
DTSTART;TZID=America/New_York:20231205T124500
DTEND;TZID=America/New_York:20231205T134500
DTSTAMP:20260425T124021
CREATED:20230814T215700Z
LAST-MODIFIED:20230816T184730Z
UID:43099-1701780300-1701783900@tcshighschool.org
SUMMARY:ASL II
DESCRIPTION:
URL:https://tcshighschool.org/event/asl-ii-2-2023-09-19/2023-12-05/
CATEGORIES:Seminar - Regular
END:VEVENT
BEGIN:VEVENT
DTSTART;TZID=America/New_York:20231205T121500
DTEND;TZID=America/New_York:20231205T124500
DTSTAMP:20260425T124021
CREATED:20230810T201746Z
LAST-MODIFIED:20231102T110918Z
UID:42857-1701778500-1701780300@tcshighschool.org
SUMMARY:Lunch: Ms. Peggy
DESCRIPTION:chicken Quesidillas\, salad\, fruit
URL:https://tcshighschool.org/event/lunch-ms-peggy-3-2023-12-05/
CATEGORIES:Lunch
END:VEVENT
BEGIN:VEVENT
DTSTART;TZID=America/New_York:20231205T100000
DTEND;TZID=America/New_York:20231205T110000
DTSTAMP:20260425T124021
CREATED:20231102T133133Z
LAST-MODIFIED:20231102T133133Z
UID:44442-1701770400-1701774000@tcshighschool.org
SUMMARY:ASL I
DESCRIPTION:
URL:https://tcshighschool.org/event/asl-i-5/2023-12-05/
CATEGORIES:Seminar - Regular
END:VEVENT
BEGIN:VEVENT
DTSTART;TZID=America/New_York:20231205T090000
DTEND;TZID=America/New_York:20231205T100000
DTSTAMP:20260425T124021
CREATED:20231024T170115Z
LAST-MODIFIED:20231024T170115Z
UID:44367-1701766800-1701770400@tcshighschool.org
SUMMARY:Young Playwrights Seminar
DESCRIPTION:
URL:https://tcshighschool.org/event/young-playwrights-seminar-8/2023-12-05/
CATEGORIES:Seminars - Special
END:VEVENT
BEGIN:VEVENT
DTSTART;TZID=America/New_York:20231204T121500
DTEND;TZID=America/New_York:20231204T124500
DTSTAMP:20260425T124021
CREATED:20230904T143847Z
LAST-MODIFIED:20231203T194613Z
UID:43808-1701692100-1701693900@tcshighschool.org
SUMMARY:Lunch: Ms. Carol
DESCRIPTION:sloppy joes\, mac’n cheese\, salad
URL:https://tcshighschool.org/event/lunch-ms-carol-86/
CATEGORIES:Lunch
END:VEVENT
BEGIN:VEVENT
DTSTART;TZID=America/New_York:20231204T100000
DTEND;TZID=America/New_York:20231204T130000
DTSTAMP:20260425T124021
CREATED:20230817T183839Z
LAST-MODIFIED:20231009T110942Z
UID:43527-1701684000-1701694800@tcshighschool.org
SUMMARY:Pipeline: Play at The Lyric
DESCRIPTION:Pipeline is the work of acclaimed playwright and actor Dominique Morisseau\, who has written numerous plays including Skeleton Crew\, Paradise Blue\, Detroit ’67\, and more. Morisseau received a Tony Award nomination as the book writer on the new Broadway musical Ain’t Too Proud – The Life and Times of the Temptations\, and she recently served as Co-Producer on the Showtime series Shameless.  Ms. Morisseau development of the play was inspired by Michelle Alexander’s acclaimed book The New Jim Crow\, which focuses on the alarming numbers of young African American youth mass incarcerated in the United States\, and how that process often begins in the public school system.
URL:https://tcshighschool.org/event/pipeline-play-at-the-lyric/
CATEGORIES:Field Trips
END:VEVENT
BEGIN:VEVENT
DTSTART;TZID=America/New_York:20231201T113000
DTEND;TZID=America/New_York:20231201T130000
DTSTAMP:20260425T124021
CREATED:20231101T114523Z
LAST-MODIFIED:20231214T210911Z
UID:44407-1701430200-1701435600@tcshighschool.org
SUMMARY:Conversation with Paul Coates & Obari Cartman
DESCRIPTION:https://en.wikipedia.org/wiki/Paul_Coates_(publisher) \n  \nhttps://www.baltimoremagazine.com/section/historypolitics/paul-coates-ta-nehisi-coates-father-on-black-classic-press/ \nhttps://aalbc.com/authors/author.php?author_name=W.+Paul+Coates
URL:https://tcshighschool.org/event/conversation-with-paul-coates-2/
CATEGORIES:Conversation
ATTACH;FMTTYPE=image/jpeg:https://tcshighschool.org/wp-content/uploads/2023/11/paul-coates-2.jpg
END:VEVENT
END:VCALENDAR