BEGIN:VCALENDAR
VERSION:2.0
PRODID:-//TCS High School - ECPv6.15.11//NONSGML v1.0//EN
CALSCALE:GREGORIAN
METHOD:PUBLISH
X-WR-CALNAME:TCS High School
X-ORIGINAL-URL:https://tcshighschool.org
X-WR-CALDESC:Events for TCS High School
REFRESH-INTERVAL;VALUE=DURATION:PT1H
X-Robots-Tag:noindex
X-PUBLISHED-TTL:PT1H
BEGIN:VTIMEZONE
TZID:America/New_York
BEGIN:DAYLIGHT
TZOFFSETFROM:-0500
TZOFFSETTO:-0400
TZNAME:EDT
DTSTART:20240310T070000
END:DAYLIGHT
BEGIN:STANDARD
TZOFFSETFROM:-0400
TZOFFSETTO:-0500
TZNAME:EST
DTSTART:20241103T060000
END:STANDARD
BEGIN:DAYLIGHT
TZOFFSETFROM:-0500
TZOFFSETTO:-0400
TZNAME:EDT
DTSTART:20250309T070000
END:DAYLIGHT
BEGIN:STANDARD
TZOFFSETFROM:-0400
TZOFFSETTO:-0500
TZNAME:EST
DTSTART:20251102T060000
END:STANDARD
BEGIN:DAYLIGHT
TZOFFSETFROM:-0500
TZOFFSETTO:-0400
TZNAME:EDT
DTSTART:20260308T070000
END:DAYLIGHT
BEGIN:STANDARD
TZOFFSETFROM:-0400
TZOFFSETTO:-0500
TZNAME:EST
DTSTART:20261101T060000
END:STANDARD
END:VTIMEZONE
BEGIN:VEVENT
DTSTART;TZID=America/New_York:20251107T113000
DTEND;TZID=America/New_York:20251107T130000
DTSTAMP:20260423T194101
CREATED:20250826T154021Z
LAST-MODIFIED:20251004T201905Z
UID:49145-1762515000-1762520400@tcshighschool.org
SUMMARY:Conversation with Whitney Palmer/BCYF
DESCRIPTION:BCYF
URL:https://tcshighschool.org/event/conversation-with-mario-armstrong-tentative/
CATEGORIES:Conversation
END:VEVENT
BEGIN:VEVENT
DTSTART;TZID=America/New_York:20251107T110000
DTEND;TZID=America/New_York:20251107T113000
DTSTAMP:20260423T194101
CREATED:20250821T190056Z
LAST-MODIFIED:20251104T133544Z
UID:49014-1762513200-1762515000@tcshighschool.org
SUMMARY:Lunch: Ms. Leslie (Kennedy's Mom)
DESCRIPTION:Pasta noodles w garlic bread
URL:https://tcshighschool.org/event/lunch-ms-leslie-kennedys-mom-33/
CATEGORIES:Lunch
END:VEVENT
BEGIN:VEVENT
DTSTART;TZID=America/New_York:20251107T090000
DTEND;TZID=America/New_York:20251107T110000
DTSTAMP:20260423T194101
CREATED:20250708T133732Z
LAST-MODIFIED:20250708T133732Z
UID:48711-1762506000-1762513200@tcshighschool.org
SUMMARY:Creative Writing Seminar
DESCRIPTION:
URL:https://tcshighschool.org/event/creative-writing-seminar-12/2025-11-07/
CATEGORIES:Seminar - Regular
END:VEVENT
BEGIN:VEVENT
DTSTART;TZID=America/New_York:20251106T121500
DTEND;TZID=America/New_York:20251106T124500
DTSTAMP:20260423T194101
CREATED:20250826T171106Z
LAST-MODIFIED:20251105T191140Z
UID:49155-1762431300-1762433100@tcshighschool.org
SUMMARY:Lunch: Ms. Leslie (Jordan's Mom)
DESCRIPTION:lasagna
URL:https://tcshighschool.org/event/lunch-ms-leslie-jordans-mom/
CATEGORIES:Lunch
END:VEVENT
BEGIN:VEVENT
DTSTART;TZID=America/New_York:20251106T110000
DTEND;TZID=America/New_York:20251106T123000
DTSTAMP:20260423T194101
CREATED:20250811T191459Z
LAST-MODIFIED:20251020T185250Z
UID:48860-1762426800-1762432200@tcshighschool.org
SUMMARY:Conversation with Maria Broom
DESCRIPTION:Although nationally known as an actress for her recurring roles in HBO’s The Wire and The Corner\, Maria Broom is also a storyteller and dancer with more than 40 years of experience performing and teaching in the United States and across the globe. \nhttps://www.youtube.com/watch?v=71qh-GRKTPY \nhttps://mariabroom.com/
URL:https://tcshighschool.org/event/conversation-with-maria-broom/
CATEGORIES:Conversation
ATTACH;FMTTYPE=image/jpeg:https://tcshighschool.org/wp-content/uploads/2025/08/images-copy.jpg
END:VEVENT
BEGIN:VEVENT
DTSTART;TZID=America/New_York:20251105T121500
DTEND;TZID=America/New_York:20251105T124500
DTSTAMP:20260423T194101
CREATED:20250830T120831Z
LAST-MODIFIED:20251103T214605Z
UID:49242-1762344900-1762346700@tcshighschool.org
SUMMARY:Lunch: Ms. Rita (Ethan's Mom)
DESCRIPTION:lunch meat(ham\, turkey\, and salami) lettuce\, onion\, tomatoes\, and cucumber\, with bread
URL:https://tcshighschool.org/event/lunch-ms-rita-ethans-mom-29/
CATEGORIES:Lunch
END:VEVENT
BEGIN:VEVENT
DTSTART;TZID=America/New_York:20251104T124500
DTEND;TZID=America/New_York:20251104T134500
DTSTAMP:20260423T194101
CREATED:20250822T152444Z
LAST-MODIFIED:20250901T144226Z
UID:49074-1762260300-1762263900@tcshighschool.org
SUMMARY:Guest Artist: Damon Trueitt
DESCRIPTION:https://damontrueittukus.com/home \nhttps://www.discogs.com/artist/65273-Damon-Trueitt?srsltid=AfmBOorh7P4Uegzk3odBNCyyVcOuE2j5ZC3dxoCXD6E2a-TDQFr1BlTy \n  \n 
URL:https://tcshighschool.org/event/guest-artist-christianne-knight/
CATEGORIES:Seminar - Regular
ATTACH;FMTTYPE=image/jpeg:https://tcshighschool.org/wp-content/uploads/2025/08/Damon2sq.jpg
END:VEVENT
BEGIN:VEVENT
DTSTART;TZID=America/New_York:20251104T121500
DTEND;TZID=America/New_York:20251104T124500
DTSTAMP:20260423T194101
CREATED:20250831T000542Z
LAST-MODIFIED:20251103T214441Z
UID:49261-1762258500-1762260300@tcshighschool.org
SUMMARY:Lunch: Ms. Carla (Ruth & Karla's Mom)
DESCRIPTION:pasta
URL:https://tcshighschool.org/event/lunch-ms-carla-ruth-karlas-mom-3/
CATEGORIES:Lunch
END:VEVENT
BEGIN:VEVENT
DTSTART;TZID=America/New_York:20251103T124500
DTEND;TZID=America/New_York:20251103T134500
DTSTAMP:20260423T194101
CREATED:20250821T203926Z
LAST-MODIFIED:20251012T160749Z
UID:49019-1762173900-1762177500@tcshighschool.org
SUMMARY:Young Playwrights Seminar
DESCRIPTION:
URL:https://tcshighschool.org/event/young-playwrights-tentative-2025-10-20/2025-11-03/
CATEGORIES:Seminars - Special
END:VEVENT
BEGIN:VEVENT
DTSTART;TZID=America/New_York:20251103T121500
DTEND;TZID=America/New_York:20251103T124500
DTSTAMP:20260423T194101
CREATED:20250908T134434Z
LAST-MODIFIED:20251103T214404Z
UID:49335-1762172100-1762173900@tcshighschool.org
SUMMARY:Lunch: Ms. Lisa (Jason's Mom)
DESCRIPTION:beef stew and bread
URL:https://tcshighschool.org/event/lunch-ms-lisa-jasons-mom-4/
CATEGORIES:Lunch
END:VEVENT
BEGIN:VEVENT
DTSTART;TZID=America/New_York:20251031T131500
DTEND;TZID=America/New_York:20251031T140000
DTSTAMP:20260423T194101
CREATED:20251006T184615Z
LAST-MODIFIED:20251023T174624Z
UID:49662-1761916500-1761919200@tcshighschool.org
SUMMARY:Conversation with Vanessa Lopez
DESCRIPTION:https://www.mica.edu/academics/graduate-programs/teaching-mat/vanessa-lopez/
URL:https://tcshighschool.org/event/conversation-with-vanessa-lopez/
CATEGORIES:Conversation
ATTACH;FMTTYPE=image/jpeg:https://tcshighschool.org/wp-content/uploads/2025/10/download.jpg
END:VEVENT
BEGIN:VEVENT
DTSTART;TZID=America/New_York:20251031T113000
DTEND;TZID=America/New_York:20251031T130000
DTSTAMP:20260423T194101
CREATED:20251004T200035Z
LAST-MODIFIED:20251004T202249Z
UID:49646-1761910200-1761915600@tcshighschool.org
SUMMARY:Conversation with Rona Kobell
DESCRIPTION:
URL:https://tcshighschool.org/event/conversation-with-rona-kobell/
CATEGORIES:Conversation
ATTACH;FMTTYPE=image/jpeg:https://tcshighschool.org/wp-content/uploads/2025/10/download-1-2.jpg
END:VEVENT
BEGIN:VEVENT
DTSTART;TZID=America/New_York:20251031T110000
DTEND;TZID=America/New_York:20251031T113000
DTSTAMP:20260423T194101
CREATED:20250822T125817Z
LAST-MODIFIED:20251027T131407Z
UID:49046-1761908400-1761910200@tcshighschool.org
SUMMARY:Lunch: Mr. John (Mingo's Dad)
DESCRIPTION:Macaroni and Cheese (I’ll bring a gluten free version\, as well) and salad.
URL:https://tcshighschool.org/event/lunch-john-kelly-cord-mingos-parents-2/
CATEGORIES:Lunch
END:VEVENT
BEGIN:VEVENT
DTSTART;TZID=America/New_York:20251031T090000
DTEND;TZID=America/New_York:20251031T110000
DTSTAMP:20260423T194101
CREATED:20250708T133732Z
LAST-MODIFIED:20250708T133732Z
UID:48710-1761901200-1761908400@tcshighschool.org
SUMMARY:Creative Writing Seminar
DESCRIPTION:
URL:https://tcshighschool.org/event/creative-writing-seminar-12/2025-10-31/
CATEGORIES:Seminar - Regular
END:VEVENT
BEGIN:VEVENT
DTSTART;TZID=America/New_York:20251030T123000
DTEND;TZID=America/New_York:20251030T140000
DTSTAMP:20260423T194101
CREATED:20250820T102244Z
LAST-MODIFIED:20251026T234203Z
UID:48979-1761827400-1761832800@tcshighschool.org
SUMMARY:Conversation with Center Stage
DESCRIPTION:
URL:https://tcshighschool.org/event/conversation-with-center-stage-tentative-6/
CATEGORIES:Conversation
END:VEVENT
BEGIN:VEVENT
DTSTART;TZID=America/New_York:20251030T121500
DTEND;TZID=America/New_York:20251030T124500
DTSTAMP:20260423T194101
CREATED:20250830T011604Z
LAST-MODIFIED:20251028T105242Z
UID:49222-1761826500-1761828300@tcshighschool.org
SUMMARY:Lunch: Ms. Jacqueline (Khori's Grandmother)
DESCRIPTION:pizza
URL:https://tcshighschool.org/event/lunch-ms-jacqueline-khoris-grandmother/
CATEGORIES:Lunch
END:VEVENT
BEGIN:VEVENT
DTSTART;TZID=America/New_York:20251029T121500
DTEND;TZID=America/New_York:20251029T124500
DTSTAMP:20260423T194101
CREATED:20250929T192438Z
LAST-MODIFIED:20251027T131555Z
UID:49599-1761740100-1761741900@tcshighschool.org
SUMMARY:Lunch: Ms. Lisa Knickmeyer
DESCRIPTION:Mild creamy curry sauce & vegetables served over rice with chips & fruit on the side.
URL:https://tcshighschool.org/event/lunch-ms-lisa-knickmeyer-11/
CATEGORIES:Lunch
END:VEVENT
BEGIN:VEVENT
DTSTART;TZID=America/New_York:20251029T120000
DTEND;TZID=America/New_York:20251029T140000
DTSTAMP:20260423T194101
CREATED:20250820T101641Z
LAST-MODIFIED:20251026T234045Z
UID:48971-1761739200-1761746400@tcshighschool.org
SUMMARY:The Peculiar Patriot Play at Center Stage
DESCRIPTION:
URL:https://tcshighschool.org/event/the-peculiar-patriot-play-at-center-stage/
CATEGORIES:Field Trips
END:VEVENT
BEGIN:VEVENT
DTSTART;TZID=America/New_York:20251028T124500
DTEND;TZID=America/New_York:20251028T134500
DTSTAMP:20260423T194101
CREATED:20250826T114842Z
LAST-MODIFIED:20250909T213329Z
UID:49135-1761655500-1761659100@tcshighschool.org
SUMMARY:Guest Artist: Rahne Alexander
DESCRIPTION:Rahne Alexander is an intermedia artist and writer from Baltimore\, Maryland. She is a 2021 graduate of the Intermedia+Digital Arts MFA at UMBC\, and a 2021 Baker Artist Prize Awardee. Her works in video\, performance\, music\, and painting have been exhibited across the U.S. and around the world\, including the Baltimore Museum of Art\, Tephra Institute of Contemporary Art\, and MIX NYC. She performs music as 50’ and formerly fronted the bands Santa Librada and The Degenerettes. Her writing appears in publications such as BmoreArt\, The Hopkins Review\, UMBC Magazine\, the light ekphrastic\, flux\, Come Sail Away\, OnCurating\, and the Lambda Literary Award-winning anthology Take Me There: Trans and Genderqueer Erotica. Alexander’s 2019 OutWrite-award-winning chapbook of collected essays Heretic to Housewife was published by Neon Hemlock\, and she publishes a weekly blog\, Paradise Is Not For Sale. 2024 will see a complete redesign of her website: rahne.com \nhttps://bakerartist.org/portfolios/rahnealexander
URL:https://tcshighschool.org/event/guest-artist-rahne-alexander/
CATEGORIES:Seminar - Regular
ATTACH;FMTTYPE=image/jpeg:https://tcshighschool.org/wp-content/uploads/2025/08/Rahnesq.jpg
END:VEVENT
BEGIN:VEVENT
DTSTART;TZID=America/New_York:20251028T121500
DTEND;TZID=America/New_York:20251028T124500
DTSTAMP:20260423T194101
CREATED:20250824T144244Z
LAST-MODIFIED:20251023T190559Z
UID:49089-1761653700-1761655500@tcshighschool.org
SUMMARY:Lunch: Ms. Peg
DESCRIPTION:hicken/cheese quesadillas\, salad\, fruit\, dessert.
URL:https://tcshighschool.org/event/lunch-ms-peg-66/
CATEGORIES:Lunch
END:VEVENT
BEGIN:VEVENT
DTSTART;TZID=America/New_York:20251027T124500
DTEND;TZID=America/New_York:20251027T134500
DTSTAMP:20260423T194101
CREATED:20250821T203926Z
LAST-MODIFIED:20251022T162206Z
UID:49018-1761569100-1761572700@tcshighschool.org
SUMMARY:Young Playwrights Seminar
DESCRIPTION:
URL:https://tcshighschool.org/event/young-playwrights-tentative-2025-10-27/
CATEGORIES:Seminars - Special
END:VEVENT
BEGIN:VEVENT
DTSTART;TZID=America/New_York:20251027T121500
DTEND;TZID=America/New_York:20251027T124500
DTSTAMP:20260423T194101
CREATED:20250829T163636Z
LAST-MODIFIED:20251024T110411Z
UID:49205-1761567300-1761569100@tcshighschool.org
SUMMARY:Lunch: Ms. Shakiara (Khori's Mom)
DESCRIPTION:Rotisserie chicken and salad
URL:https://tcshighschool.org/event/lunch-ms-shakiara-khoris-mom-10/
CATEGORIES:Lunch
END:VEVENT
BEGIN:VEVENT
DTSTART;TZID=America/New_York:20251024T110000
DTEND;TZID=America/New_York:20251024T113000
DTSTAMP:20260423T194101
CREATED:20250828T233037Z
LAST-MODIFIED:20251023T191538Z
UID:49197-1761303600-1761305400@tcshighschool.org
SUMMARY:Lunch: Ms. Charlotte (Rylee's Mom)
DESCRIPTION:shrimp alfredo/pasta\, with broccoli
URL:https://tcshighschool.org/event/lunch-ms-charlotte-rylees-mom-3/
CATEGORIES:Lunch
END:VEVENT
BEGIN:VEVENT
DTSTART;TZID=America/New_York:20251024T090000
DTEND;TZID=America/New_York:20251024T110000
DTSTAMP:20260423T194101
CREATED:20250708T133732Z
LAST-MODIFIED:20250708T133732Z
UID:48709-1761296400-1761303600@tcshighschool.org
SUMMARY:Creative Writing Seminar
DESCRIPTION:
URL:https://tcshighschool.org/event/creative-writing-seminar-12/2025-10-24/
CATEGORIES:Seminar - Regular
END:VEVENT
BEGIN:VEVENT
DTSTART;TZID=America/New_York:20251023T124500
DTEND;TZID=America/New_York:20251023T134500
DTSTAMP:20260423T194101
CREATED:20250815T141828Z
LAST-MODIFIED:20250815T141828Z
UID:48921-1761223500-1761227100@tcshighschool.org
SUMMARY:Financial Literacy Seminar
DESCRIPTION:
URL:https://tcshighschool.org/event/financial-literacy-seminar-30/
CATEGORIES:Seminar - Regular
END:VEVENT
BEGIN:VEVENT
DTSTART;TZID=America/New_York:20251023T121500
DTEND;TZID=America/New_York:20251023T124500
DTSTAMP:20260423T194101
CREATED:20250815T143708Z
LAST-MODIFIED:20251020T144247Z
UID:48939-1761221700-1761223500@tcshighschool.org
SUMMARY:Lunch: Berman McAleer
DESCRIPTION:ChickFilA and brownies
URL:https://tcshighschool.org/event/lunch-berman-mcaleer-20/
CATEGORIES:Lunch
END:VEVENT
BEGIN:VEVENT
DTSTART;TZID=America/New_York:20251022T123000
DTEND;TZID=America/New_York:20251022T130000
DTSTAMP:20260423T194101
CREATED:20251006T170234Z
LAST-MODIFIED:20251020T144406Z
UID:49660-1761136200-1761138000@tcshighschool.org
SUMMARY:Lunch: Ms. Linda Judson (Ethan's Sponsor)
DESCRIPTION:a pasta dish (pasta\, cheese\, tomatoes\, ground beef)\, fruit\, and cookies.
URL:https://tcshighschool.org/event/lunch-ms-lisa-judson-ethans-sponsor/
CATEGORIES:Lunch
END:VEVENT
BEGIN:VEVENT
DTSTART;VALUE=DATE:20251022
DTEND;VALUE=DATE:20251023
DTSTAMP:20260423T194101
CREATED:20211020T212748Z
LAST-MODIFIED:20211020T212748Z
UID:44361-1761091200-1761177599@tcshighschool.org
SUMMARY:Rhys's B-day
DESCRIPTION:
URL:https://tcshighschool.org/event/rhyss-b-day/2025-10-22/
CATEGORIES:Special Days
END:VEVENT
BEGIN:VEVENT
DTSTART;TZID=America/New_York:20251021T124500
DTEND;TZID=America/New_York:20251021T131500
DTSTAMP:20260423T194101
CREATED:20250825T141557Z
LAST-MODIFIED:20250909T004600Z
UID:49130-1761050700-1761052500@tcshighschool.org
SUMMARY:Guest Artist: Jenny O'Grady
DESCRIPTION:Jenny O’Grady is a book artist and writer who makes book sculptures out of beans and paper bags and fabric and whatever else she fancies at the moment. Jenny is editor of The Light Ekphrastic (www.thelightekphrastic.com)\, an online literary journal that since 2010 has paired more than 500 writers and visual artists from around the world to create new works online. Jenny has taught book arts as an adjunct professor in the University of Baltimore’s Creative Writing and Publishing Arts MFA program\, where she earned her MFA in 2006. She received a b-grant from the Baker Artist Awards\, and has been published in a variety of literary magazines. By day\, she leads communications at UMBC. See more of her work at jennyogrady.com. \n  \n 
URL:https://tcshighschool.org/event/guest-artist-jenny-ogrady/
CATEGORIES:Seminar - Regular
ATTACH;FMTTYPE=image/jpeg:https://tcshighschool.org/wp-content/uploads/2025/08/Jenny-OGrady.jpg
END:VEVENT
BEGIN:VEVENT
DTSTART;TZID=America/New_York:20251021T121500
DTEND;TZID=America/New_York:20251021T124500
DTSTAMP:20260423T194101
CREATED:20250828T191613Z
LAST-MODIFIED:20251023T191334Z
UID:49176-1761048900-1761050700@tcshighschool.org
SUMMARY:Lunch: Ms. Kyna (Danny's Mom)
DESCRIPTION:pizza
URL:https://tcshighschool.org/event/lunch-ms-kyna-dannys-mom-9/
CATEGORIES:Lunch
END:VEVENT
END:VCALENDAR