BEGIN:VCALENDAR
VERSION:2.0
PRODID:-//TCS High School - ECPv6.15.11//NONSGML v1.0//EN
CALSCALE:GREGORIAN
METHOD:PUBLISH
X-WR-CALNAME:TCS High School
X-ORIGINAL-URL:https://tcshighschool.org
X-WR-CALDESC:Events for TCS High School
REFRESH-INTERVAL;VALUE=DURATION:PT1H
X-Robots-Tag:noindex
X-PUBLISHED-TTL:PT1H
BEGIN:VTIMEZONE
TZID:America/New_York
BEGIN:DAYLIGHT
TZOFFSETFROM:-0500
TZOFFSETTO:-0400
TZNAME:EDT
DTSTART:20250309T070000
END:DAYLIGHT
BEGIN:STANDARD
TZOFFSETFROM:-0400
TZOFFSETTO:-0500
TZNAME:EST
DTSTART:20251102T060000
END:STANDARD
BEGIN:DAYLIGHT
TZOFFSETFROM:-0500
TZOFFSETTO:-0400
TZNAME:EDT
DTSTART:20260308T070000
END:DAYLIGHT
BEGIN:STANDARD
TZOFFSETFROM:-0400
TZOFFSETTO:-0500
TZNAME:EST
DTSTART:20261101T060000
END:STANDARD
BEGIN:DAYLIGHT
TZOFFSETFROM:-0500
TZOFFSETTO:-0400
TZNAME:EDT
DTSTART:20270314T070000
END:DAYLIGHT
BEGIN:STANDARD
TZOFFSETFROM:-0400
TZOFFSETTO:-0500
TZNAME:EST
DTSTART:20271107T060000
END:STANDARD
END:VTIMEZONE
BEGIN:VEVENT
DTSTART;TZID=America/New_York:20260709T180000
DTEND;TZID=America/New_York:20260709T193000
DTSTAMP:20260423T195401
CREATED:20260417T115024Z
LAST-MODIFIED:20260417T115024Z
UID:50739-1783620000-1783625400@tcshighschool.org
SUMMARY:Board of Trustees Meeeting
DESCRIPTION:
URL:https://tcshighschool.org/event/board-of-trustees-meeeting/
CATEGORIES:Meetings
END:VEVENT
BEGIN:VEVENT
DTSTART;VALUE=DATE:20260704
DTEND;VALUE=DATE:20260705
DTSTAMP:20260423T195401
CREATED:20230908T143055Z
LAST-MODIFIED:20230908T143055Z
UID:45914-1783123200-1783209599@tcshighschool.org
SUMMARY:Mr. Tom's B-day
DESCRIPTION:
URL:https://tcshighschool.org/event/mr-toms-b-day-5/2026-07-04/
CATEGORIES:Special Days
END:VEVENT
BEGIN:VEVENT
DTSTART;VALUE=DATE:20260704
DTEND;VALUE=DATE:20260705
DTSTAMP:20260423T195401
CREATED:20220705T212509Z
LAST-MODIFIED:20220705T212509Z
UID:45745-1783123200-1783209599@tcshighschool.org
SUMMARY:Hector's B-day
DESCRIPTION:
URL:https://tcshighschool.org/event/hectors-b-day/2026-07-04/
CATEGORIES:Special Days
END:VEVENT
BEGIN:VEVENT
DTSTART;VALUE=DATE:20260622
DTEND;VALUE=DATE:20260623
DTSTAMP:20260423T195401
CREATED:20210814T011320Z
LAST-MODIFIED:20210814T011320Z
UID:45739-1782086400-1782172799@tcshighschool.org
SUMMARY:Dyrrell's B-day
DESCRIPTION:
URL:https://tcshighschool.org/event/dyrells-b-day/2026-06-22/
CATEGORIES:Special Days
END:VEVENT
BEGIN:VEVENT
DTSTART;VALUE=DATE:20260611
DTEND;VALUE=DATE:20260612
DTSTAMP:20260423T195401
CREATED:20220705T212908Z
LAST-MODIFIED:20220705T212908Z
UID:45735-1781136000-1781222399@tcshighschool.org
SUMMARY:Karla's B-day
DESCRIPTION:
URL:https://tcshighschool.org/event/karlas-b-day/2026-06-11/
CATEGORIES:Special Days
END:VEVENT
BEGIN:VEVENT
DTSTART;TZID=America/New_York:20260607T140000
DTEND;TZID=America/New_York:20260607T160000
DTSTAMP:20260423T195401
CREATED:20250327T114639Z
LAST-MODIFIED:20250327T114720Z
UID:48167-1780840800-1780848000@tcshighschool.org
SUMMARY:End of Year Ceremony
DESCRIPTION:
URL:https://tcshighschool.org/event/end-of-year-ceremony-7/
CATEGORIES:Social Events
END:VEVENT
BEGIN:VEVENT
DTSTART;TZID=America/New_York:20260529T110000
DTEND;TZID=America/New_York:20260529T113000
DTSTAMP:20260423T195401
CREATED:20251229T205652Z
LAST-MODIFIED:20251229T205652Z
UID:50040-1780052400-1780054200@tcshighschool.org
SUMMARY:Lunch: Ms. Leslie B (Kennedy's Mom)
DESCRIPTION:
URL:https://tcshighschool.org/event/lunch-ms-leslie-b-kennedys-mom-4/
CATEGORIES:Lunch
END:VEVENT
BEGIN:VEVENT
DTSTART;TZID=America/New_York:20260529T090000
DTEND;TZID=America/New_York:20260529T120000
DTSTAMP:20260423T195401
CREATED:20250825T123056Z
LAST-MODIFIED:20250825T123056Z
UID:49126-1780045200-1780056000@tcshighschool.org
SUMMARY:GreenMount Field Day
DESCRIPTION:
URL:https://tcshighschool.org/event/greenmount-field-day-6/
CATEGORIES:Special Days
END:VEVENT
BEGIN:VEVENT
DTSTART;VALUE=DATE:20260529
DTEND;VALUE=DATE:20260530
DTSTAMP:20260423T195401
CREATED:20250327T114457Z
LAST-MODIFIED:20250327T114457Z
UID:48165-1780012800-1780099199@tcshighschool.org
SUMMARY:Last Day of School
DESCRIPTION:
URL:https://tcshighschool.org/event/last-day-of-school-2/
CATEGORIES:Special Days
END:VEVENT
BEGIN:VEVENT
DTSTART;TZID=America/New_York:20260528T183000
DTEND;TZID=America/New_York:20260528T194500
DTSTAMP:20260423T195401
CREATED:20250327T113811Z
LAST-MODIFIED:20250327T113811Z
UID:48155-1779993000-1779997500@tcshighschool.org
SUMMARY:Sponsor Meeting
DESCRIPTION:
URL:https://tcshighschool.org/event/sponsor-meeting-50/
CATEGORIES:Meetings
END:VEVENT
BEGIN:VEVENT
DTSTART;TZID=America/New_York:20260527T121500
DTEND;TZID=America/New_York:20260527T124500
DTSTAMP:20260423T195401
CREATED:20260109T191634Z
LAST-MODIFIED:20260109T191634Z
UID:50167-1779884100-1779885900@tcshighschool.org
SUMMARY:Lunch: Ms. Shereia (Madisyn's Mom)
DESCRIPTION:
URL:https://tcshighschool.org/event/lunch-ms-shereia-madisyns-mom-7/
CATEGORIES:Lunch
END:VEVENT
BEGIN:VEVENT
DTSTART;TZID=America/New_York:20260527T085500
DTEND;TZID=America/New_York:20260527T095500
DTSTAMP:20260423T195401
CREATED:20250708T133601Z
LAST-MODIFIED:20250708T133601Z
UID:48807-1779872100-1779875700@tcshighschool.org
SUMMARY:Physical Education
DESCRIPTION:
URL:https://tcshighschool.org/event/physical-education-8/2026-05-27/
CATEGORIES:Seminar - Regular
END:VEVENT
BEGIN:VEVENT
DTSTART;TZID=America/New_York:20260526T124500
DTEND;TZID=America/New_York:20260526T134500
DTSTAMP:20260423T195401
CREATED:20260331T151412Z
LAST-MODIFIED:20260331T151412Z
UID:50659-1779799500-1779803100@tcshighschool.org
SUMMARY:Experimental Film Seminar
DESCRIPTION:
URL:https://tcshighschool.org/event/experimental-film-seminar/2026-05-26/
CATEGORIES:Seminars - Special
END:VEVENT
BEGIN:VEVENT
DTSTART;TZID=America/New_York:20260526T121500
DTEND;TZID=America/New_York:20260526T124500
DTSTAMP:20260423T195401
CREATED:20251229T204954Z
LAST-MODIFIED:20251229T210155Z
UID:50035-1779797700-1779799500@tcshighschool.org
SUMMARY:Lunch: Ms. Alisha (Judah's Mom)
DESCRIPTION:
URL:https://tcshighschool.org/event/lunch-ms-alisha-mr-scott-3/
CATEGORIES:Lunch
END:VEVENT
BEGIN:VEVENT
DTSTART;VALUE=DATE:20260525
DTEND;VALUE=DATE:20260526
DTSTAMP:20260423T195401
CREATED:20250327T114340Z
LAST-MODIFIED:20250327T114340Z
UID:48163-1779667200-1779753599@tcshighschool.org
SUMMARY:Memorial Day Holiday
DESCRIPTION:
URL:https://tcshighschool.org/event/memorial-day-holiday-8/
CATEGORIES:Holidays
END:VEVENT
BEGIN:VEVENT
DTSTART;TZID=America/New_York:20260522T113000
DTEND;TZID=America/New_York:20260522T130000
DTSTAMP:20260423T195401
CREATED:20260409T141610Z
LAST-MODIFIED:20260409T141610Z
UID:50706-1779449400-1779454800@tcshighschool.org
SUMMARY:Conversation with Trustees
DESCRIPTION:
URL:https://tcshighschool.org/event/conversation-with-trustees-4/
CATEGORIES:Conversation
END:VEVENT
BEGIN:VEVENT
DTSTART;TZID=America/New_York:20260522T110000
DTEND;TZID=America/New_York:20260522T113000
DTSTAMP:20260423T195401
CREATED:20250828T205507Z
LAST-MODIFIED:20250828T205507Z
UID:49190-1779447600-1779449400@tcshighschool.org
SUMMARY:Lunch: Ms. Kyna (Danny's Mom)
DESCRIPTION:
URL:https://tcshighschool.org/event/lunch-ms-kyna-dannys-mom-16/
CATEGORIES:Lunch
END:VEVENT
BEGIN:VEVENT
DTSTART;TZID=America/New_York:20260521T121500
DTEND;TZID=America/New_York:20260521T124500
DTSTAMP:20260423T195401
CREATED:20250829T164319Z
LAST-MODIFIED:20250829T164319Z
UID:49219-1779365700-1779367500@tcshighschool.org
SUMMARY:Lunch: Ms. Shakiara (Khori's Mom)
DESCRIPTION:
URL:https://tcshighschool.org/event/lunch-ms-shakiara-khoris-mom-17/
CATEGORIES:Lunch
END:VEVENT
BEGIN:VEVENT
DTSTART;TZID=America/New_York:20260520T120000
DTEND;TZID=America/New_York:20260520T140000
DTSTAMP:20260423T195401
CREATED:20260418T143858Z
LAST-MODIFIED:20260418T143858Z
UID:50751-1779278400-1779285600@tcshighschool.org
SUMMARY:Creative Writing Seminar
DESCRIPTION:
URL:https://tcshighschool.org/event/creative-writing-seminar-14/
CATEGORIES:Seminar - Regular
END:VEVENT
BEGIN:VEVENT
DTSTART;TZID=America/New_York:20260520T113000
DTEND;TZID=America/New_York:20260520T120000
DTSTAMP:20260423T195401
CREATED:20251229T204144Z
LAST-MODIFIED:20260418T144013Z
UID:50033-1779276600-1779278400@tcshighschool.org
SUMMARY:Lunch: Ms. Lisa K
DESCRIPTION:
URL:https://tcshighschool.org/event/lunch-ms-lisa-k-3/
CATEGORIES:Lunch
END:VEVENT
BEGIN:VEVENT
DTSTART;TZID=America/New_York:20260520T085500
DTEND;TZID=America/New_York:20260520T095500
DTSTAMP:20260423T195401
CREATED:20250708T133601Z
LAST-MODIFIED:20250708T133601Z
UID:48806-1779267300-1779270900@tcshighschool.org
SUMMARY:Physical Education
DESCRIPTION:
URL:https://tcshighschool.org/event/physical-education-8/2026-05-20/
CATEGORIES:Seminar - Regular
END:VEVENT
BEGIN:VEVENT
DTSTART;TZID=America/New_York:20260519T124500
DTEND;TZID=America/New_York:20260519T134500
DTSTAMP:20260423T195401
CREATED:20260331T151412Z
LAST-MODIFIED:20260331T151412Z
UID:50658-1779194700-1779198300@tcshighschool.org
SUMMARY:Experimental Film Seminar
DESCRIPTION:
URL:https://tcshighschool.org/event/experimental-film-seminar/2026-05-19/
CATEGORIES:Seminars - Special
END:VEVENT
BEGIN:VEVENT
DTSTART;TZID=America/New_York:20260519T121500
DTEND;TZID=America/New_York:20260519T124500
DTSTAMP:20260423T195401
CREATED:20250824T150046Z
LAST-MODIFIED:20250824T150046Z
UID:49114-1779192900-1779194700@tcshighschool.org
SUMMARY:Lunch: Ms. Peg
DESCRIPTION:
URL:https://tcshighschool.org/event/lunch-ms-peg-78/
CATEGORIES:Lunch
END:VEVENT
BEGIN:VEVENT
DTSTART;TZID=America/New_York:20260519T110000
DTEND;TZID=America/New_York:20260519T123000
DTSTAMP:20260423T195401
CREATED:20260410T172240Z
LAST-MODIFIED:20260421T110149Z
UID:50712-1779188400-1779193800@tcshighschool.org
SUMMARY:Design Workshop with Greg Walsh
DESCRIPTION:
URL:https://tcshighschool.org/event/design-workshop-with-greg-walsh-tentative-3/
CATEGORIES:Seminars - Special
END:VEVENT
BEGIN:VEVENT
DTSTART;TZID=America/New_York:20260518T121500
DTEND;TZID=America/New_York:20260518T124500
DTSTAMP:20260423T195401
CREATED:20250813T134329Z
LAST-MODIFIED:20250815T144718Z
UID:48870-1779106500-1779108300@tcshighschool.org
SUMMARY:Lunch: Mary Louise
DESCRIPTION:
URL:https://tcshighschool.org/event/lunch-mary-louise-5/
CATEGORIES:Lunch
END:VEVENT
BEGIN:VEVENT
DTSTART;TZID=America/New_York:20260515T110000
DTEND;TZID=America/New_York:20260515T113000
DTSTAMP:20260423T195401
CREATED:20251229T203824Z
LAST-MODIFIED:20251229T203824Z
UID:50031-1778842800-1778844600@tcshighschool.org
SUMMARY:Lunch: Ms. Lisa B (Jason's Mom)
DESCRIPTION:
URL:https://tcshighschool.org/event/lunch-ms-lisa-b-jasons-mom-3/
CATEGORIES:Lunch
END:VEVENT
BEGIN:VEVENT
DTSTART;TZID=America/New_York:20260515T090000
DTEND;TZID=America/New_York:20260515T110000
DTSTAMP:20260423T195401
CREATED:20250708T133732Z
LAST-MODIFIED:20250708T133732Z
UID:48758-1778835600-1778842800@tcshighschool.org
SUMMARY:Creative Writing Seminar
DESCRIPTION:
URL:https://tcshighschool.org/event/creative-writing-seminar-12-2025-11-28-2026-05-15/
CATEGORIES:Seminar - Regular
END:VEVENT
BEGIN:VEVENT
DTSTART;TZID=America/New_York:20260514T123000
DTEND;TZID=America/New_York:20260514T140000
DTSTAMP:20260423T195401
CREATED:20250708T133407Z
LAST-MODIFIED:20260421T110412Z
UID:48688-1778761800-1778767200@tcshighschool.org
SUMMARY:Theatre at The Lyric
DESCRIPTION:
URL:https://tcshighschool.org/event/theatre-at-the-lyric-9/
CATEGORIES:Field Trips,Seminar - Regular
END:VEVENT
BEGIN:VEVENT
DTSTART;TZID=America/New_York:20260514T123000
DTEND;TZID=America/New_York:20260514T130000
DTSTAMP:20260423T195401
CREATED:20250813T140400Z
LAST-MODIFIED:20250813T140400Z
UID:48897-1778761800-1778763600@tcshighschool.org
SUMMARY:Lunch: The Lyric
DESCRIPTION:
URL:https://tcshighschool.org/event/lunch-the-lyric-16/
CATEGORIES:Lunch
END:VEVENT
BEGIN:VEVENT
DTSTART;TZID=America/New_York:20260513T124500
DTEND;TZID=America/New_York:20260513T134500
DTSTAMP:20260423T195401
CREATED:20260331T151412Z
LAST-MODIFIED:20260331T151520Z
UID:50657-1778676300-1778679900@tcshighschool.org
SUMMARY:Experimental Film Seminar
DESCRIPTION:
URL:https://tcshighschool.org/event/experimental-film-seminar-2026-05-12/
CATEGORIES:Seminars - Special
END:VEVENT
END:VCALENDAR