BEGIN:VCALENDAR
VERSION:2.0
PRODID:-//TCS High School - ECPv6.15.11//NONSGML v1.0//EN
CALSCALE:GREGORIAN
METHOD:PUBLISH
X-WR-CALNAME:TCS High School
X-ORIGINAL-URL:https://tcshighschool.org
X-WR-CALDESC:Events for TCS High School
REFRESH-INTERVAL;VALUE=DURATION:PT1H
X-Robots-Tag:noindex
X-PUBLISHED-TTL:PT1H
BEGIN:VTIMEZONE
TZID:America/New_York
BEGIN:DAYLIGHT
TZOFFSETFROM:-0500
TZOFFSETTO:-0400
TZNAME:EDT
DTSTART:20220313T070000
END:DAYLIGHT
BEGIN:STANDARD
TZOFFSETFROM:-0400
TZOFFSETTO:-0500
TZNAME:EST
DTSTART:20221106T060000
END:STANDARD
BEGIN:DAYLIGHT
TZOFFSETFROM:-0500
TZOFFSETTO:-0400
TZNAME:EDT
DTSTART:20230312T070000
END:DAYLIGHT
BEGIN:STANDARD
TZOFFSETFROM:-0400
TZOFFSETTO:-0500
TZNAME:EST
DTSTART:20231105T060000
END:STANDARD
BEGIN:DAYLIGHT
TZOFFSETFROM:-0500
TZOFFSETTO:-0400
TZNAME:EDT
DTSTART:20240310T070000
END:DAYLIGHT
BEGIN:STANDARD
TZOFFSETFROM:-0400
TZOFFSETTO:-0500
TZNAME:EST
DTSTART:20241103T060000
END:STANDARD
END:VTIMEZONE
BEGIN:VEVENT
DTSTART;VALUE=DATE:20230504
DTEND;VALUE=DATE:20230505
DTSTAMP:20260425T233702
CREATED:20210814T004450Z
LAST-MODIFIED:20230501T163459Z
UID:42635-1683158400-1683244799@tcshighschool.org
SUMMARY:Ms. Carol's B-day
DESCRIPTION:
URL:https://tcshighschool.org/event/ms-carols-b-day/2023-05-04/
CATEGORIES:Special Days
END:VEVENT
BEGIN:VEVENT
DTSTART;TZID=America/New_York:20230504T123000
DTEND;TZID=America/New_York:20230504T134500
DTSTAMP:20260425T233702
CREATED:20220721T115015Z
LAST-MODIFIED:20221103T182529Z
UID:40430-1683203400-1683207900@tcshighschool.org
SUMMARY:Theatre Arts with The Lyric
DESCRIPTION:
URL:https://tcshighschool.org/event/theatre-arts-with-the-lyric-2022-12-01/2023-05-04/
CATEGORIES:Seminar - Regular
ATTACH;FMTTYPE=image/jpeg:https://tcshighschool.org/wp-content/uploads/2022/07/DSC_0052.jpg
END:VEVENT
BEGIN:VEVENT
DTSTART;TZID=America/New_York:20230505T090000
DTEND;TZID=America/New_York:20230505T110000
DTSTAMP:20260425T233702
CREATED:20220721T121129Z
LAST-MODIFIED:20220721T121129Z
UID:40005-1683277200-1683284400@tcshighschool.org
SUMMARY:Creative Writing
DESCRIPTION:
URL:https://tcshighschool.org/event/creative-writing-7/2023-05-05/
CATEGORIES:Seminar - Regular
END:VEVENT
BEGIN:VEVENT
DTSTART;TZID=America/New_York:20230505T110000
DTEND;TZID=America/New_York:20230505T113000
DTSTAMP:20260425T233702
CREATED:20230501T210654Z
LAST-MODIFIED:20230501T210654Z
UID:42640-1683284400-1683286200@tcshighschool.org
SUMMARY:Lunch: Ms. Tracy (Ethan & Chase's Mom)
DESCRIPTION:
URL:https://tcshighschool.org/event/lunch-ms-tracy-ethan-chases-mom-10/
CATEGORIES:Lunch
END:VEVENT
BEGIN:VEVENT
DTSTART;TZID=America/New_York:20230505T113000
DTEND;TZID=America/New_York:20230505T130000
DTSTAMP:20260425T233702
CREATED:20230405T143840Z
LAST-MODIFIED:20230429T122921Z
UID:42486-1683286200-1683291600@tcshighschool.org
SUMMARY:Conversation with Dr. Jasmine Blanks Jones
DESCRIPTION:Executive Director\nCenter for Social Concern\nJohns Hopkins University
URL:https://tcshighschool.org/event/conversation-with-dr-jasmine-blanks-jones/
CATEGORIES:Conversation
ATTACH;FMTTYPE=image/jpeg:https://tcshighschool.org/wp-content/uploads/2023/04/Screen-Shot-2023-04-29-at-8.26.59-AM.jpeg
END:VEVENT
BEGIN:VEVENT
DTSTART;VALUE=DATE:20230506
DTEND;VALUE=DATE:20230507
DTSTAMP:20260425T233702
CREATED:20220705T212821Z
LAST-MODIFIED:20220705T212821Z
UID:39804-1683331200-1683417599@tcshighschool.org
SUMMARY:E-Ethan's B-day
DESCRIPTION:
URL:https://tcshighschool.org/event/e-ethans-b-day/2023-05-06/
CATEGORIES:Special Days
END:VEVENT
BEGIN:VEVENT
DTSTART;VALUE=DATE:20230508
DTEND;VALUE=DATE:20230509
DTSTAMP:20260425T233702
CREATED:20210814T004542Z
LAST-MODIFIED:20210814T004542Z
UID:36149-1683504000-1683590399@tcshighschool.org
SUMMARY:Ms. Peggy's B-day
DESCRIPTION:
URL:https://tcshighschool.org/event/ms-peggys-b-day/2023-05-08/
CATEGORIES:Special Days
END:VEVENT
BEGIN:VEVENT
DTSTART;TZID=America/New_York:20230508T100000
DTEND;TZID=America/New_York:20230508T113000
DTSTAMP:20260425T233702
CREATED:20221213T120622Z
LAST-MODIFIED:20221213T120622Z
UID:41515-1683540000-1683545400@tcshighschool.org
SUMMARY:U of B: Entr 101
DESCRIPTION:
URL:https://tcshighschool.org/event/u-of-b-entr-101/2023-05-08/
CATEGORIES:Seminar - Regular
END:VEVENT
BEGIN:VEVENT
DTSTART;TZID=America/New_York:20230508T120000
DTEND;TZID=America/New_York:20230508T123000
DTSTAMP:20260425T233702
CREATED:20220816T201443Z
LAST-MODIFIED:20220816T201443Z
UID:40640-1683547200-1683549000@tcshighschool.org
SUMMARY:Lunch: Berman McAleer
DESCRIPTION:
URL:https://tcshighschool.org/event/lunch-berman-mcaleer-14/
CATEGORIES:Lunch
END:VEVENT
BEGIN:VEVENT
DTSTART;TZID=America/New_York:20230508T123000
DTEND;TZID=America/New_York:20230508T133000
DTSTAMP:20260425T233702
CREATED:20220810T204722Z
LAST-MODIFIED:20220810T204722Z
UID:40538-1683549000-1683552600@tcshighschool.org
SUMMARY:Financial Literacy Seminar
DESCRIPTION:
URL:https://tcshighschool.org/event/financial-literacy-seminar-28/
CATEGORIES:Seminar - Regular
END:VEVENT
BEGIN:VEVENT
DTSTART;TZID=America/New_York:20230508T133000
DTEND;TZID=America/New_York:20230508T150000
DTSTAMP:20260425T233702
CREATED:20230329T140451Z
LAST-MODIFIED:20230417T112745Z
UID:42449-1683552600-1683558000@tcshighschool.org
SUMMARY:The Endocrine System with Dr. Sack
DESCRIPTION:
URL:https://tcshighschool.org/event/conversation-with-dr-sack-tentative/
CATEGORIES:Seminars - Special
END:VEVENT
BEGIN:VEVENT
DTSTART;TZID=America/New_York:20230509T103000
DTEND;TZID=America/New_York:20230509T113000
DTSTAMP:20260425T233702
CREATED:20220721T120653Z
LAST-MODIFIED:20220721T120653Z
UID:39926-1683628200-1683631800@tcshighschool.org
SUMMARY:ASL I
DESCRIPTION:
URL:https://tcshighschool.org/event/asl-i/2023-05-09/
CATEGORIES:Seminar - Regular
END:VEVENT
BEGIN:VEVENT
DTSTART;TZID=America/New_York:20230509T120000
DTEND;TZID=America/New_York:20230509T123000
DTSTAMP:20260425T233702
CREATED:20220803T211351Z
LAST-MODIFIED:20230220T010302Z
UID:40502-1683633600-1683635400@tcshighschool.org
SUMMARY:Lunch: Ms. Peggy
DESCRIPTION:
URL:https://tcshighschool.org/event/lunch-ms-peggy-2-2023-05-09/2023-05-09/
CATEGORIES:Lunch
END:VEVENT
BEGIN:VEVENT
DTSTART;TZID=America/New_York:20230509T123000
DTEND;TZID=America/New_York:20230509T133000
DTSTAMP:20260425T233702
CREATED:20220721T120858Z
LAST-MODIFIED:20220721T120858Z
UID:39964-1683635400-1683639000@tcshighschool.org
SUMMARY:ASL II
DESCRIPTION:
URL:https://tcshighschool.org/event/asl-ii/2023-05-09/
CATEGORIES:Seminar - Regular
END:VEVENT
BEGIN:VEVENT
DTSTART;TZID=America/New_York:20230510T084500
DTEND;TZID=America/New_York:20230510T094500
DTSTAMP:20260425T233702
CREATED:20220721T121242Z
LAST-MODIFIED:20220803T211226Z
UID:40043-1683708300-1683711900@tcshighschool.org
SUMMARY:Physical Education
DESCRIPTION:
URL:https://tcshighschool.org/event/physical-education-tentative/2023-05-10/
CATEGORIES:Seminar - Regular
END:VEVENT
BEGIN:VEVENT
DTSTART;TZID=America/New_York:20230510T100000
DTEND;TZID=America/New_York:20230510T113000
DTSTAMP:20260425T233702
CREATED:20221213T120622Z
LAST-MODIFIED:20221213T120622Z
UID:41516-1683712800-1683718200@tcshighschool.org
SUMMARY:U of B: Entr 101
DESCRIPTION:
URL:https://tcshighschool.org/event/u-of-b-entr-101/2023-05-10/
CATEGORIES:Seminar - Regular
END:VEVENT
BEGIN:VEVENT
DTSTART;TZID=America/New_York:20230510T120000
DTEND;TZID=America/New_York:20230510T123000
DTSTAMP:20260425T233702
CREATED:20220815T201303Z
LAST-MODIFIED:20221010T000214Z
UID:40615-1683720000-1683721800@tcshighschool.org
SUMMARY:Lunch: Mr. Ken & Ms. Paulette
DESCRIPTION:Chipotle
URL:https://tcshighschool.org/event/lunch-mr-ken-ms-paulette-8-2022-10-12/2023-05-10/
CATEGORIES:Lunch
END:VEVENT
BEGIN:VEVENT
DTSTART;TZID=America/New_York:20230510T123000
DTEND;TZID=America/New_York:20230510T133000
DTSTAMP:20260425T233702
CREATED:20220721T121548Z
LAST-MODIFIED:20220727T232227Z
UID:40368-1683721800-1683725400@tcshighschool.org
SUMMARY:Art Class
DESCRIPTION:With Leandra Laird
URL:https://tcshighschool.org/event/art-class-tentative/2023-05-10/
CATEGORIES:Seminar - Regular
END:VEVENT
BEGIN:VEVENT
DTSTART;TZID=America/New_York:20230511T120000
DTEND;TZID=America/New_York:20230511T123000
DTSTAMP:20260425T233702
CREATED:20230504T110753Z
LAST-MODIFIED:20230504T110753Z
UID:42661-1683806400-1683808200@tcshighschool.org
SUMMARY:Lunch: Done Construction
DESCRIPTION:
URL:https://tcshighschool.org/event/lunch-done-construction/
CATEGORIES:Lunch
END:VEVENT
BEGIN:VEVENT
DTSTART;TZID=America/New_York:20230511T130000
DTEND;TZID=America/New_York:20230511T150000
DTSTAMP:20260425T233702
CREATED:20221013T212939Z
LAST-MODIFIED:20221013T213023Z
UID:41126-1683810000-1683817200@tcshighschool.org
SUMMARY:Done Construction Seminar
DESCRIPTION:
URL:https://tcshighschool.org/event/done-construction-seminar-7/
CATEGORIES:Seminars - Special
END:VEVENT
BEGIN:VEVENT
DTSTART;TZID=America/New_York:20230512T090000
DTEND;TZID=America/New_York:20230512T110000
DTSTAMP:20260425T233702
CREATED:20220721T121129Z
LAST-MODIFIED:20220721T121129Z
UID:40006-1683882000-1683889200@tcshighschool.org
SUMMARY:Creative Writing
DESCRIPTION:
URL:https://tcshighschool.org/event/creative-writing-7/2023-05-12/
CATEGORIES:Seminar - Regular
END:VEVENT
BEGIN:VEVENT
DTSTART;TZID=America/New_York:20230512T110000
DTEND;TZID=America/New_York:20230512T113000
DTSTAMP:20260425T233702
CREATED:20230205T214948Z
LAST-MODIFIED:20230205T215245Z
UID:41925-1683889200-1683891000@tcshighschool.org
SUMMARY:Lunch: Ms. Jenae (Rhys's mom)
DESCRIPTION:
URL:https://tcshighschool.org/event/lunch-ms-jeane-rhyss-mom-2/
CATEGORIES:Lunch
END:VEVENT
BEGIN:VEVENT
DTSTART;TZID=America/New_York:20230512T113000
DTEND;TZID=America/New_York:20230512T134500
DTSTAMP:20260425T233702
CREATED:20230511T213231Z
LAST-MODIFIED:20230511T213231Z
UID:42712-1683891000-1683899100@tcshighschool.org
SUMMARY:Movie: Till
DESCRIPTION:
URL:https://tcshighschool.org/event/movie-till/
CATEGORIES:Movies
END:VEVENT
BEGIN:VEVENT
DTSTART;TZID=America/New_York:20230515T120000
DTEND;TZID=America/New_York:20230515T123000
DTSTAMP:20260425T233702
CREATED:20220815T142539Z
LAST-MODIFIED:20220816T202554Z
UID:40579-1684152000-1684153800@tcshighschool.org
SUMMARY:Lunch: Ms. Carol
DESCRIPTION:
URL:https://tcshighschool.org/event/lunch-ms-carol-82-2022-12-19/2023-05-15/
CATEGORIES:Lunch
END:VEVENT
BEGIN:VEVENT
DTSTART;TZID=America/New_York:20230516T084500
DTEND;TZID=America/New_York:20230516T094500
DTSTAMP:20260425T233702
CREATED:20220721T121242Z
LAST-MODIFIED:20230426T143850Z
UID:40044-1684226700-1684230300@tcshighschool.org
SUMMARY:Physical Education
DESCRIPTION:
URL:https://tcshighschool.org/event/physical-education-tentative-2023-05-17/
CATEGORIES:Seminar - Regular
END:VEVENT
BEGIN:VEVENT
DTSTART;TZID=America/New_York:20230516T103000
DTEND;TZID=America/New_York:20230516T113000
DTSTAMP:20260425T233702
CREATED:20220721T120653Z
LAST-MODIFIED:20220721T120653Z
UID:39927-1684233000-1684236600@tcshighschool.org
SUMMARY:ASL I
DESCRIPTION:
URL:https://tcshighschool.org/event/asl-i/2023-05-16/
CATEGORIES:Seminar - Regular
END:VEVENT
BEGIN:VEVENT
DTSTART;TZID=America/New_York:20230516T120000
DTEND;TZID=America/New_York:20230516T123000
DTSTAMP:20260425T233702
CREATED:20220803T211351Z
LAST-MODIFIED:20230220T010302Z
UID:40503-1684238400-1684240200@tcshighschool.org
SUMMARY:Lunch: Ms. Peggy
DESCRIPTION:
URL:https://tcshighschool.org/event/lunch-ms-peggy-2-2023-05-09/2023-05-16/
CATEGORIES:Lunch
END:VEVENT
BEGIN:VEVENT
DTSTART;TZID=America/New_York:20230516T123000
DTEND;TZID=America/New_York:20230516T133000
DTSTAMP:20260425T233702
CREATED:20220721T120858Z
LAST-MODIFIED:20220721T120858Z
UID:39965-1684240200-1684243800@tcshighschool.org
SUMMARY:ASL II
DESCRIPTION:
URL:https://tcshighschool.org/event/asl-ii/2023-05-16/
CATEGORIES:Seminar - Regular
END:VEVENT
BEGIN:VEVENT
DTSTART;TZID=America/New_York:20230517T120000
DTEND;TZID=America/New_York:20230517T123000
DTSTAMP:20260425T233702
CREATED:20220815T180911Z
LAST-MODIFIED:20230116T005437Z
UID:40602-1684324800-1684326600@tcshighschool.org
SUMMARY:Lunch: Ms. Mary Louise
DESCRIPTION:Italian Cold Cuts from Eddie’s Market
URL:https://tcshighschool.org/event/lunch-ms-mary-louise-12/2023-05-17/
CATEGORIES:Lunch
END:VEVENT
BEGIN:VEVENT
DTSTART;TZID=America/New_York:20230517T123000
DTEND;TZID=America/New_York:20230517T140000
DTSTAMP:20260425T233702
CREATED:20230412T212630Z
LAST-MODIFIED:20230501T104801Z
UID:42504-1684326600-1684332000@tcshighschool.org
SUMMARY:Baltimore Museum of Art - Hip Hop Exhibit
DESCRIPTION:https://artbma.org/exhibition/the-culture-hip-hop-and-contemporary-art-in-the-21st-century
URL:https://tcshighschool.org/event/baltimore-museum-of-art-hip-hop-exhibit/
CATEGORIES:Field Trips
END:VEVENT
END:VCALENDAR