BEGIN:VCALENDAR
VERSION:2.0
PRODID:-//TCS High School - ECPv6.15.11//NONSGML v1.0//EN
CALSCALE:GREGORIAN
METHOD:PUBLISH
X-WR-CALNAME:TCS High School
X-ORIGINAL-URL:https://tcshighschool.org
X-WR-CALDESC:Events for TCS High School
REFRESH-INTERVAL;VALUE=DURATION:PT1H
X-Robots-Tag:noindex
X-PUBLISHED-TTL:PT1H
BEGIN:VTIMEZONE
TZID:America/New_York
BEGIN:DAYLIGHT
TZOFFSETFROM:-0500
TZOFFSETTO:-0400
TZNAME:EDT
DTSTART:20220313T070000
END:DAYLIGHT
BEGIN:STANDARD
TZOFFSETFROM:-0400
TZOFFSETTO:-0500
TZNAME:EST
DTSTART:20221106T060000
END:STANDARD
BEGIN:DAYLIGHT
TZOFFSETFROM:-0500
TZOFFSETTO:-0400
TZNAME:EDT
DTSTART:20230312T070000
END:DAYLIGHT
BEGIN:STANDARD
TZOFFSETFROM:-0400
TZOFFSETTO:-0500
TZNAME:EST
DTSTART:20231105T060000
END:STANDARD
BEGIN:DAYLIGHT
TZOFFSETFROM:-0500
TZOFFSETTO:-0400
TZNAME:EDT
DTSTART:20240310T070000
END:DAYLIGHT
BEGIN:STANDARD
TZOFFSETFROM:-0400
TZOFFSETTO:-0500
TZNAME:EST
DTSTART:20241103T060000
END:STANDARD
END:VTIMEZONE
BEGIN:VEVENT
DTSTART;TZID=America/New_York:20231120T121500
DTEND;TZID=America/New_York:20231120T124500
DTSTAMP:20260425T123544
CREATED:20230817T155911Z
LAST-MODIFIED:20231120T011417Z
UID:43487-1700482500-1700484300@tcshighschool.org
SUMMARY:Lunch: Berman McAleer
DESCRIPTION:Pulled pork and pulled chicken sandwiches \nCaesar salad \nBags of chips/snacks \nBrownies
URL:https://tcshighschool.org/event/lunch-berman-mcaleer-15-2023-11-20/
CATEGORIES:Lunch
END:VEVENT
BEGIN:VEVENT
DTSTART;TZID=America/New_York:20231120T124500
DTEND;TZID=America/New_York:20231120T134500
DTSTAMP:20260425T123544
CREATED:20230817T155800Z
LAST-MODIFIED:20230817T180624Z
UID:43478-1700484300-1700487900@tcshighschool.org
SUMMARY:Financial Literacy
DESCRIPTION:
URL:https://tcshighschool.org/event/financial-literacy-5-2023-11-20/
CATEGORIES:Seminar - Regular
END:VEVENT
BEGIN:VEVENT
DTSTART;TZID=America/New_York:20231121T090000
DTEND;TZID=America/New_York:20231121T100000
DTSTAMP:20260425T123544
CREATED:20231024T170115Z
LAST-MODIFIED:20231024T170115Z
UID:44365-1700557200-1700560800@tcshighschool.org
SUMMARY:Young Playwrights Seminar
DESCRIPTION:
URL:https://tcshighschool.org/event/young-playwrights-seminar-8/2023-11-21/
CATEGORIES:Seminars - Special
END:VEVENT
BEGIN:VEVENT
DTSTART;TZID=America/New_York:20231121T100000
DTEND;TZID=America/New_York:20231121T110000
DTSTAMP:20260425T123544
CREATED:20231102T133133Z
LAST-MODIFIED:20231102T133133Z
UID:44440-1700560800-1700564400@tcshighschool.org
SUMMARY:ASL I
DESCRIPTION:
URL:https://tcshighschool.org/event/asl-i-5/2023-11-21/
CATEGORIES:Seminar - Regular
END:VEVENT
BEGIN:VEVENT
DTSTART;TZID=America/New_York:20231121T121500
DTEND;TZID=America/New_York:20231121T124500
DTSTAMP:20260425T123544
CREATED:20230810T201746Z
LAST-MODIFIED:20231102T110601Z
UID:42855-1700568900-1700570700@tcshighschool.org
SUMMARY:Lunch: Ms. Peggy
DESCRIPTION:Thanksgiving-Turkey club/sweet potato fries/fruit/dessert
URL:https://tcshighschool.org/event/lunch-ms-peggy-3-2023-11-21/
CATEGORIES:Lunch
END:VEVENT
BEGIN:VEVENT
DTSTART;TZID=America/New_York:20231121T124500
DTEND;TZID=America/New_York:20231121T134500
DTSTAMP:20260425T123544
CREATED:20230814T215700Z
LAST-MODIFIED:20230816T184730Z
UID:43097-1700570700-1700574300@tcshighschool.org
SUMMARY:ASL II
DESCRIPTION:
URL:https://tcshighschool.org/event/asl-ii-2-2023-09-19/2023-11-21/
CATEGORIES:Seminar - Regular
END:VEVENT
BEGIN:VEVENT
DTSTART;TZID=America/New_York:20231122T121500
DTEND;TZID=America/New_York:20231122T124500
DTSTAMP:20260425T123544
CREATED:20230905T133211Z
LAST-MODIFIED:20231121T115819Z
UID:43860-1700655300-1700657100@tcshighschool.org
SUMMARY:Lunch: Ms. Rita (Ethan's Mom)
DESCRIPTION:chicken and dumpling soup
URL:https://tcshighschool.org/event/lunch-ms-rita-ethans-mom-11/
CATEGORIES:Lunch
END:VEVENT
BEGIN:VEVENT
DTSTART;TZID=America/New_York:20231122T124500
DTEND;TZID=America/New_York:20231122T134500
DTSTAMP:20260425T123544
CREATED:20230814T215311Z
LAST-MODIFIED:20230821T134628Z
UID:43447-1700657100-1700660700@tcshighschool.org
SUMMARY:Visual Arts
DESCRIPTION:
URL:https://tcshighschool.org/event/visual-arts-2023-09-13/2023-11-22/
CATEGORIES:Seminar - Regular
END:VEVENT
BEGIN:VEVENT
DTSTART;VALUE=DATE:20231123
DTEND;VALUE=DATE:20231125
DTSTAMP:20260425T123544
CREATED:20230326T211754Z
LAST-MODIFIED:20230817T181258Z
UID:42410-1700697600-1700870399@tcshighschool.org
SUMMARY:Thanksgiving Holiday
DESCRIPTION:
URL:https://tcshighschool.org/event/thanksgiving-break-2/
CATEGORIES:Holidays
END:VEVENT
BEGIN:VEVENT
DTSTART;TZID=America/New_York:20231127T114500
DTEND;TZID=America/New_York:20231127T121500
DTSTAMP:20260425T123544
CREATED:20231022T190201Z
LAST-MODIFIED:20231127T114315Z
UID:44353-1701085500-1701087300@tcshighschool.org
SUMMARY:Lunch: Ms. Leslie (Kennedy's Mom)
DESCRIPTION:baked chicken and possibly a salad.
URL:https://tcshighschool.org/event/lunch-ms-leslie-kennedys-mom-11/
CATEGORIES:Lunch
END:VEVENT
BEGIN:VEVENT
DTSTART;VALUE=DATE:20231128
DTEND;VALUE=DATE:20231129
DTSTAMP:20260425T123544
CREATED:20231015T174025Z
LAST-MODIFIED:20231015T174025Z
UID:44296-1701129600-1701215999@tcshighschool.org
SUMMARY:Shadow Day
DESCRIPTION:
URL:https://tcshighschool.org/event/shadow-day-42/
CATEGORIES:Shadow Days
END:VEVENT
BEGIN:VEVENT
DTSTART;TZID=America/New_York:20231128T090000
DTEND;TZID=America/New_York:20231128T100000
DTSTAMP:20260425T123544
CREATED:20231024T170115Z
LAST-MODIFIED:20231024T170115Z
UID:44366-1701162000-1701165600@tcshighschool.org
SUMMARY:Young Playwrights Seminar
DESCRIPTION:
URL:https://tcshighschool.org/event/young-playwrights-seminar-8/2023-11-28/
CATEGORIES:Seminars - Special
END:VEVENT
BEGIN:VEVENT
DTSTART;TZID=America/New_York:20231128T100000
DTEND;TZID=America/New_York:20231128T110000
DTSTAMP:20260425T123544
CREATED:20231102T133133Z
LAST-MODIFIED:20231102T133133Z
UID:44441-1701165600-1701169200@tcshighschool.org
SUMMARY:ASL I
DESCRIPTION:
URL:https://tcshighschool.org/event/asl-i-5/2023-11-28/
CATEGORIES:Seminar - Regular
END:VEVENT
BEGIN:VEVENT
DTSTART;TZID=America/New_York:20231128T121500
DTEND;TZID=America/New_York:20231128T124500
DTSTAMP:20260425T123544
CREATED:20230810T201746Z
LAST-MODIFIED:20231102T110756Z
UID:42856-1701173700-1701175500@tcshighschool.org
SUMMARY:Lunch: Ms. Peggy
DESCRIPTION:egg/cheese/sausage ( turkey sausage)casserole\, tater tots\, fruit
URL:https://tcshighschool.org/event/lunch-ms-peggy-3-2023-11-28/
CATEGORIES:Lunch
END:VEVENT
BEGIN:VEVENT
DTSTART;TZID=America/New_York:20231128T124500
DTEND;TZID=America/New_York:20231128T134500
DTSTAMP:20260425T123544
CREATED:20230814T215700Z
LAST-MODIFIED:20230816T184730Z
UID:43098-1701175500-1701179100@tcshighschool.org
SUMMARY:ASL II
DESCRIPTION:
URL:https://tcshighschool.org/event/asl-ii-2-2023-09-19/2023-11-28/
CATEGORIES:Seminar - Regular
END:VEVENT
BEGIN:VEVENT
DTSTART;VALUE=DATE:20231129
DTEND;VALUE=DATE:20231130
DTSTAMP:20260425T123544
CREATED:20210814T000300Z
LAST-MODIFIED:20210814T000300Z
UID:38496-1701216000-1701302399@tcshighschool.org
SUMMARY:Mr. Justin's B-day
DESCRIPTION:
URL:https://tcshighschool.org/event/mr-justins-b-day/2023-11-29/
CATEGORIES:Special Days
END:VEVENT
BEGIN:VEVENT
DTSTART;TZID=America/New_York:20231129T084500
DTEND;TZID=America/New_York:20231129T084500
DTSTAMP:20260425T123544
CREATED:20230814T214915Z
LAST-MODIFIED:20230814T214915Z
UID:42924-1701247500-1701247500@tcshighschool.org
SUMMARY:Physical Education
DESCRIPTION:
URL:https://tcshighschool.org/event/physical-education-3/2023-11-29/
CATEGORIES:Seminar - Regular
END:VEVENT
BEGIN:VEVENT
DTSTART;TZID=America/New_York:20231129T121500
DTEND;TZID=America/New_York:20231129T124500
DTSTAMP:20260425T123544
CREATED:20231128T153315Z
LAST-MODIFIED:20231128T213407Z
UID:44575-1701260100-1701261900@tcshighschool.org
SUMMARY:Lunch: Ms. Neyvy (Fatima's Mom)
DESCRIPTION:Panera Bread
URL:https://tcshighschool.org/event/lunch-ms-neyvy-fatimas-mom-2/
CATEGORIES:Lunch
END:VEVENT
BEGIN:VEVENT
DTSTART;TZID=America/New_York:20231129T124500
DTEND;TZID=America/New_York:20231129T134500
DTSTAMP:20260425T123544
CREATED:20230814T215311Z
LAST-MODIFIED:20230821T134628Z
UID:43448-1701261900-1701265500@tcshighschool.org
SUMMARY:Visual Arts
DESCRIPTION:
URL:https://tcshighschool.org/event/visual-arts-2023-09-13/2023-11-29/
CATEGORIES:Seminar - Regular
END:VEVENT
BEGIN:VEVENT
DTSTART;TZID=America/New_York:20231130T090000
DTEND;TZID=America/New_York:20231130T100000
DTSTAMP:20260425T123544
CREATED:20231031T105104Z
LAST-MODIFIED:20231123T155245Z
UID:44398-1701334800-1701338400@tcshighschool.org
SUMMARY:B4YT Liberia/TCS Baltimore Student Exchange
DESCRIPTION:
URL:https://tcshighschool.org/event/b4yt-liberia-tcs-baltimore-student-exchange/
CATEGORIES:Seminars - Special
ATTACH;FMTTYPE=image/jpeg:https://tcshighschool.org/wp-content/uploads/2023/10/b4yt3.jpeg
END:VEVENT
BEGIN:VEVENT
DTSTART;TZID=America/New_York:20231130T121500
DTEND;TZID=America/New_York:20231130T124500
DTSTAMP:20260425T123544
CREATED:20230810T202241Z
LAST-MODIFIED:20230816T185628Z
UID:42887-1701346500-1701348300@tcshighschool.org
SUMMARY:Lunch: The Lyric
DESCRIPTION:
URL:https://tcshighschool.org/event/lunchlyric-3/
CATEGORIES:Lunch
END:VEVENT
BEGIN:VEVENT
DTSTART;TZID=America/New_York:20231130T121500
DTEND;TZID=America/New_York:20231130T140000
DTSTAMP:20260425T123544
CREATED:20230814T215215Z
LAST-MODIFIED:20231214T022827Z
UID:42996-1701346500-1701352800@tcshighschool.org
SUMMARY:Somatic Workshop at The Lyric
DESCRIPTION:
URL:https://tcshighschool.org/event/theatre-with-the-lyric-2023-11-30/
CATEGORIES:Field Trips
END:VEVENT
BEGIN:VEVENT
DTSTART;VALUE=DATE:20231201
DTEND;VALUE=DATE:20231202
DTSTAMP:20260425T123544
CREATED:20230326T211531Z
LAST-MODIFIED:20230326T211531Z
UID:42401-1701388800-1701475199@tcshighschool.org
SUMMARY:2nd Trimester Begins
DESCRIPTION:
URL:https://tcshighschool.org/event/2nd-trimester-begins-6/
CATEGORIES:Special Days
END:VEVENT
BEGIN:VEVENT
DTSTART;TZID=America/New_York:20231201T090000
DTEND;TZID=America/New_York:20231201T110000
DTSTAMP:20260425T123544
CREATED:20230814T215012Z
LAST-MODIFIED:20230814T215012Z
UID:42964-1701421200-1701428400@tcshighschool.org
SUMMARY:Creative Writing
DESCRIPTION:
URL:https://tcshighschool.org/event/creative-writing-8/2023-12-01/
CATEGORIES:Seminar - Regular
END:VEVENT
BEGIN:VEVENT
DTSTART;TZID=America/New_York:20231201T110000
DTEND;TZID=America/New_York:20231201T113000
DTSTAMP:20260425T123544
CREATED:20231003T193616Z
LAST-MODIFIED:20231127T002733Z
UID:44183-1701428400-1701430200@tcshighschool.org
SUMMARY:Lunch: Ms. Jenae (Rhys & Quinn's Mom)
DESCRIPTION:pasta with lemon and chicken and broccoli
URL:https://tcshighschool.org/event/lunch-ms-jenae-rhys-quinns-mom-7/
CATEGORIES:Lunch
END:VEVENT
BEGIN:VEVENT
DTSTART;TZID=America/New_York:20231201T113000
DTEND;TZID=America/New_York:20231201T130000
DTSTAMP:20260425T123544
CREATED:20231101T114523Z
LAST-MODIFIED:20231214T210911Z
UID:44407-1701430200-1701435600@tcshighschool.org
SUMMARY:Conversation with Paul Coates & Obari Cartman
DESCRIPTION:https://en.wikipedia.org/wiki/Paul_Coates_(publisher) \n  \nhttps://www.baltimoremagazine.com/section/historypolitics/paul-coates-ta-nehisi-coates-father-on-black-classic-press/ \nhttps://aalbc.com/authors/author.php?author_name=W.+Paul+Coates
URL:https://tcshighschool.org/event/conversation-with-paul-coates-2/
CATEGORIES:Conversation
ATTACH;FMTTYPE=image/jpeg:https://tcshighschool.org/wp-content/uploads/2023/11/paul-coates-2.jpg
END:VEVENT
BEGIN:VEVENT
DTSTART;TZID=America/New_York:20231204T100000
DTEND;TZID=America/New_York:20231204T130000
DTSTAMP:20260425T123544
CREATED:20230817T183839Z
LAST-MODIFIED:20231009T110942Z
UID:43527-1701684000-1701694800@tcshighschool.org
SUMMARY:Pipeline: Play at The Lyric
DESCRIPTION:Pipeline is the work of acclaimed playwright and actor Dominique Morisseau\, who has written numerous plays including Skeleton Crew\, Paradise Blue\, Detroit ’67\, and more. Morisseau received a Tony Award nomination as the book writer on the new Broadway musical Ain’t Too Proud – The Life and Times of the Temptations\, and she recently served as Co-Producer on the Showtime series Shameless.  Ms. Morisseau development of the play was inspired by Michelle Alexander’s acclaimed book The New Jim Crow\, which focuses on the alarming numbers of young African American youth mass incarcerated in the United States\, and how that process often begins in the public school system.
URL:https://tcshighschool.org/event/pipeline-play-at-the-lyric/
CATEGORIES:Field Trips
END:VEVENT
BEGIN:VEVENT
DTSTART;TZID=America/New_York:20231204T121500
DTEND;TZID=America/New_York:20231204T124500
DTSTAMP:20260425T123544
CREATED:20230904T143847Z
LAST-MODIFIED:20231203T194613Z
UID:43808-1701692100-1701693900@tcshighschool.org
SUMMARY:Lunch: Ms. Carol
DESCRIPTION:sloppy joes\, mac’n cheese\, salad
URL:https://tcshighschool.org/event/lunch-ms-carol-86/
CATEGORIES:Lunch
END:VEVENT
BEGIN:VEVENT
DTSTART;TZID=America/New_York:20231205T090000
DTEND;TZID=America/New_York:20231205T100000
DTSTAMP:20260425T123544
CREATED:20231024T170115Z
LAST-MODIFIED:20231024T170115Z
UID:44367-1701766800-1701770400@tcshighschool.org
SUMMARY:Young Playwrights Seminar
DESCRIPTION:
URL:https://tcshighschool.org/event/young-playwrights-seminar-8/2023-12-05/
CATEGORIES:Seminars - Special
END:VEVENT
BEGIN:VEVENT
DTSTART;TZID=America/New_York:20231205T100000
DTEND;TZID=America/New_York:20231205T110000
DTSTAMP:20260425T123544
CREATED:20231102T133133Z
LAST-MODIFIED:20231102T133133Z
UID:44442-1701770400-1701774000@tcshighschool.org
SUMMARY:ASL I
DESCRIPTION:
URL:https://tcshighschool.org/event/asl-i-5/2023-12-05/
CATEGORIES:Seminar - Regular
END:VEVENT
END:VCALENDAR