BEGIN:VCALENDAR
VERSION:2.0
PRODID:-//TCS High School - ECPv6.15.11//NONSGML v1.0//EN
CALSCALE:GREGORIAN
METHOD:PUBLISH
X-WR-CALNAME:TCS High School
X-ORIGINAL-URL:https://tcshighschool.org
X-WR-CALDESC:Events for TCS High School
REFRESH-INTERVAL;VALUE=DURATION:PT1H
X-Robots-Tag:noindex
X-PUBLISHED-TTL:PT1H
BEGIN:VTIMEZONE
TZID:America/New_York
BEGIN:DAYLIGHT
TZOFFSETFROM:-0500
TZOFFSETTO:-0400
TZNAME:EDT
DTSTART:20250309T070000
END:DAYLIGHT
BEGIN:STANDARD
TZOFFSETFROM:-0400
TZOFFSETTO:-0500
TZNAME:EST
DTSTART:20251102T060000
END:STANDARD
BEGIN:DAYLIGHT
TZOFFSETFROM:-0500
TZOFFSETTO:-0400
TZNAME:EDT
DTSTART:20260308T070000
END:DAYLIGHT
BEGIN:STANDARD
TZOFFSETFROM:-0400
TZOFFSETTO:-0500
TZNAME:EST
DTSTART:20261101T060000
END:STANDARD
BEGIN:DAYLIGHT
TZOFFSETFROM:-0500
TZOFFSETTO:-0400
TZNAME:EDT
DTSTART:20270314T070000
END:DAYLIGHT
BEGIN:STANDARD
TZOFFSETFROM:-0400
TZOFFSETTO:-0500
TZNAME:EST
DTSTART:20271107T060000
END:STANDARD
END:VTIMEZONE
BEGIN:VEVENT
DTSTART;TZID=America/New_York:20260317T121500
DTEND;TZID=America/New_York:20260317T124500
DTSTAMP:20260423T121622
CREATED:20251229T184417Z
LAST-MODIFIED:20260318T112106Z
UID:49999-1773749700-1773751500@tcshighschool.org
SUMMARY:Lunch: Ms. Rina (Hector's Mom)
DESCRIPTION:pane con pollo
URL:https://tcshighschool.org/event/lunch-ms-alisha-mr-scott/
CATEGORIES:Lunch
END:VEVENT
BEGIN:VEVENT
DTSTART;TZID=America/New_York:20260317T124500
DTEND;TZID=America/New_York:20260317T134500
DTSTAMP:20260423T121622
CREATED:20251206T150147Z
LAST-MODIFIED:20260128T000928Z
UID:49922-1773751500-1773755100@tcshighschool.org
SUMMARY:Art Seminar with George Hagegeorge
DESCRIPTION:
URL:https://tcshighschool.org/event/art-seminar-with-george-hagegeorge/
CATEGORIES:Seminars - Special
ATTACH;FMTTYPE=image/jpeg:https://tcshighschool.org/wp-content/uploads/2025/12/George-11.25-2.jpg
END:VEVENT
BEGIN:VEVENT
DTSTART;TZID=America/New_York:20260318T085500
DTEND;TZID=America/New_York:20260318T095500
DTSTAMP:20260423T121622
CREATED:20250708T133601Z
LAST-MODIFIED:20250708T133601Z
UID:48797-1773824100-1773827700@tcshighschool.org
SUMMARY:Physical Education
DESCRIPTION:
URL:https://tcshighschool.org/event/physical-education-8/2026-03-18/
CATEGORIES:Seminar - Regular
END:VEVENT
BEGIN:VEVENT
DTSTART;TZID=America/New_York:20260318T121500
DTEND;TZID=America/New_York:20260318T124500
DTSTAMP:20260423T121622
CREATED:20260306T123303Z
LAST-MODIFIED:20260315T204249Z
UID:50515-1773836100-1773837900@tcshighschool.org
SUMMARY:Lunch: Ms. Rita (Ethan's Mom)
DESCRIPTION:chicken dumpling soup
URL:https://tcshighschool.org/event/lunch-ms-rita-ethans-mom-35/
CATEGORIES:Lunch
END:VEVENT
BEGIN:VEVENT
DTSTART;TZID=America/New_York:20260319T121500
DTEND;TZID=America/New_York:20260319T124500
DTSTAMP:20260423T121622
CREATED:20250830T012133Z
LAST-MODIFIED:20250830T012133Z
UID:49232-1773922500-1773924300@tcshighschool.org
SUMMARY:Lunch: Ms. Jacqueline (Khori's Grandmother)
DESCRIPTION:
URL:https://tcshighschool.org/event/lunch-ms-jacqueline-khoris-grandmother-6/
CATEGORIES:Lunch
END:VEVENT
BEGIN:VEVENT
DTSTART;TZID=America/New_York:20260319T124500
DTEND;TZID=America/New_York:20260319T134500
DTSTAMP:20260423T121622
CREATED:20260318T143029Z
LAST-MODIFIED:20260318T143029Z
UID:50593-1773924300-1773927900@tcshighschool.org
SUMMARY:All the Empty Rooms Documentary
DESCRIPTION:
URL:https://tcshighschool.org/event/all-the-empty-rooms-documentary/
CATEGORIES:Movies
END:VEVENT
BEGIN:VEVENT
DTSTART;TZID=America/New_York:20260320T090000
DTEND;TZID=America/New_York:20260320T110000
DTSTAMP:20260423T121622
CREATED:20250708T133732Z
LAST-MODIFIED:20250708T133732Z
UID:48750-1773997200-1774004400@tcshighschool.org
SUMMARY:Creative Writing Seminar
DESCRIPTION:
URL:https://tcshighschool.org/event/creative-writing-seminar-12-2025-11-28-2026-03-20/
CATEGORIES:Seminar - Regular
END:VEVENT
BEGIN:VEVENT
DTSTART;TZID=America/New_York:20260320T110000
DTEND;TZID=America/New_York:20260320T113000
DTSTAMP:20260423T121622
CREATED:20250828T205330Z
LAST-MODIFIED:20250828T205330Z
UID:49186-1774004400-1774006200@tcshighschool.org
SUMMARY:Lunch: Ms. Kyna (Danny's Mom)
DESCRIPTION:
URL:https://tcshighschool.org/event/lunch-ms-kyna-dannys-mom-14/
CATEGORIES:Lunch
END:VEVENT
BEGIN:VEVENT
DTSTART;TZID=America/New_York:20260320T113000
DTEND;TZID=America/New_York:20260320T130000
DTSTAMP:20260423T121622
CREATED:20260120T120928Z
LAST-MODIFIED:20260316T132828Z
UID:50234-1774006200-1774011600@tcshighschool.org
SUMMARY:Conversation with Dan Rodricks
DESCRIPTION:https://danrodricks.com/ \nhttps://en.wikipedia.org/wiki/Dan_Rodricks
URL:https://tcshighschool.org/event/conversation-with-dana-rodricks/
CATEGORIES:Conversation
ATTACH;FMTTYPE=image/jpeg:https://tcshighschool.org/wp-content/uploads/2026/01/download-1-3.jpg
END:VEVENT
BEGIN:VEVENT
DTSTART;TZID=America/New_York:20260323T121500
DTEND;TZID=America/New_York:20260323T124500
DTSTAMP:20260423T121622
CREATED:20250829T164125Z
LAST-MODIFIED:20260323T161016Z
UID:49215-1774268100-1774269900@tcshighschool.org
SUMMARY:Lunch: Ms. Shakiara (Khori's Mom)
DESCRIPTION:pizza
URL:https://tcshighschool.org/event/lunch-ms-shakiara-khoris-mom-15/
CATEGORIES:Lunch
END:VEVENT
BEGIN:VEVENT
DTSTART;TZID=America/New_York:20260324T080000
DTEND;TZID=America/New_York:20260324T170000
DTSTAMP:20260423T121622
CREATED:20260324T194622Z
LAST-MODIFIED:20260324T194622Z
UID:50633-1774339200-1774371600@tcshighschool.org
SUMMARY:"Iran War: How Did We Get Here?" Documentary
DESCRIPTION:
URL:https://tcshighschool.org/event/iran-war-how-did-we-get-here-documentary/
CATEGORIES:Movies
END:VEVENT
BEGIN:VEVENT
DTSTART;TZID=America/New_York:20260324T080000
DTEND;TZID=America/New_York:20260324T170000
DTSTAMP:20260423T121622
CREATED:20260324T194656Z
LAST-MODIFIED:20260324T194656Z
UID:50635-1774339200-1774371600@tcshighschool.org
SUMMARY:"History Behind the US-Iran Conflict" Documentary
DESCRIPTION:
URL:https://tcshighschool.org/event/history-behind-the-us-iran-conflict-documentary/
CATEGORIES:Movies
END:VEVENT
BEGIN:VEVENT
DTSTART;TZID=America/New_York:20260324T121500
DTEND;TZID=America/New_York:20260324T124500
DTSTAMP:20260423T121622
CREATED:20260116T114506Z
LAST-MODIFIED:20260323T111644Z
UID:50206-1774354500-1774356300@tcshighschool.org
SUMMARY:Lunch: Ms. Charlotte (Rylee's Mom)
DESCRIPTION:chicken quesadillas
URL:https://tcshighschool.org/event/lunch-ms-charlotte-rylees-mom-8/
CATEGORIES:Lunch
END:VEVENT
BEGIN:VEVENT
DTSTART;TZID=America/New_York:20260324T140000
DTEND;TZID=America/New_York:20260324T150000
DTSTAMP:20260423T121622
CREATED:20251206T012347Z
LAST-MODIFIED:20260104T175559Z
UID:49914-1774360800-1774364400@tcshighschool.org
SUMMARY:MICA Art Seminar
DESCRIPTION:Vanessa will teach
URL:https://tcshighschool.org/event/mica-art-seminar-2026-03-24/
CATEGORIES:Seminar - Regular
END:VEVENT
BEGIN:VEVENT
DTSTART;TZID=America/New_York:20260325T085500
DTEND;TZID=America/New_York:20260325T095500
DTSTAMP:20260423T121622
CREATED:20250708T133601Z
LAST-MODIFIED:20250708T133601Z
UID:48798-1774428900-1774432500@tcshighschool.org
SUMMARY:Physical Education
DESCRIPTION:
URL:https://tcshighschool.org/event/physical-education-8/2026-03-25/
CATEGORIES:Seminar - Regular
END:VEVENT
BEGIN:VEVENT
DTSTART;TZID=America/New_York:20260325T121500
DTEND;TZID=America/New_York:20260325T124500
DTSTAMP:20260423T121622
CREATED:20251229T190357Z
LAST-MODIFIED:20260323T110052Z
UID:50006-1774440900-1774442700@tcshighschool.org
SUMMARY:Lunch: Ms. Leslie B (Kennedy's Mom)
DESCRIPTION:chicken  and roasted potatoes.
URL:https://tcshighschool.org/event/lunch-ms-leslie-b-kennedys-mom-2/
CATEGORIES:Lunch
END:VEVENT
BEGIN:VEVENT
DTSTART;TZID=America/New_York:20260325T130000
DTEND;TZID=America/New_York:20260325T170000
DTSTAMP:20260423T121622
CREATED:20260326T200356Z
LAST-MODIFIED:20260327T115308Z
UID:50637-1774443600-1774458000@tcshighschool.org
SUMMARY:"Lead Me Home" Documentary
DESCRIPTION:
URL:https://tcshighschool.org/event/lead-me-home-documentary/
CATEGORIES:Movies
END:VEVENT
BEGIN:VEVENT
DTSTART;TZID=America/New_York:20260326T111500
DTEND;TZID=America/New_York:20260326T121500
DTSTAMP:20260423T121622
CREATED:20260213T115831Z
LAST-MODIFIED:20260213T115831Z
UID:50383-1774523700-1774527300@tcshighschool.org
SUMMARY:Health Seminar with UMB Nursing Students
DESCRIPTION:
URL:https://tcshighschool.org/event/health-seminar-with-umb-nursing-students-2/
CATEGORIES:Seminars - Special
END:VEVENT
BEGIN:VEVENT
DTSTART;TZID=America/New_York:20260326T121500
DTEND;TZID=America/New_York:20260326T124500
DTSTAMP:20260423T121622
CREATED:20251229T192932Z
LAST-MODIFIED:20260324T103548Z
UID:50012-1774527300-1774529100@tcshighschool.org
SUMMARY:Lunch: Ms. Lisa B
DESCRIPTION:chicken fried rice and miso soup
URL:https://tcshighschool.org/event/lunch-ms-lisa-b-3/
CATEGORIES:Lunch
END:VEVENT
BEGIN:VEVENT
DTSTART;TZID=America/New_York:20260326T123000
DTEND;TZID=America/New_York:20260326T170000
DTSTAMP:20260423T121622
CREATED:20260326T174332Z
LAST-MODIFIED:20260327T114949Z
UID:50646-1774528200-1774544400@tcshighschool.org
SUMMARY:Movie: Through a Child's Eyes: Genocide of the Palestinian People in Gaza
DESCRIPTION:
URL:https://tcshighschool.org/event/movie-through-a-childs-eyes-genocide-of-the-palestinian-people-in-gaza/
CATEGORIES:Movies
END:VEVENT
BEGIN:VEVENT
DTSTART;TZID=America/New_York:20260326T130000
DTEND;TZID=America/New_York:20260326T170000
DTSTAMP:20260423T121622
CREATED:20260326T184033Z
LAST-MODIFIED:20260327T114733Z
UID:50644-1774530000-1774544400@tcshighschool.org
SUMMARY:Movie:  'Our Genocide': How do Israelis feel about the war in Gaza?
DESCRIPTION:
URL:https://tcshighschool.org/event/movie-our-genocide-how-do-israelis-feel-about-the-war-in-gaza/
CATEGORIES:Movies
END:VEVENT
BEGIN:VEVENT
DTSTART;TZID=America/New_York:20260326T190000
DTEND;TZID=America/New_York:20260326T190000
DTSTAMP:20260423T121622
CREATED:20260326T213833Z
LAST-MODIFIED:20260327T115037Z
UID:50639-1774551600-1774551600@tcshighschool.org
SUMMARY:Movie: Palestine 36 at The Parkway
DESCRIPTION:
URL:https://tcshighschool.org/event/movie-palestine-36-at-the-parkway/
CATEGORIES:Movies
END:VEVENT
BEGIN:VEVENT
DTSTART;VALUE=DATE:20260327
DTEND;VALUE=DATE:20260328
DTSTAMP:20260423T121622
CREATED:20210814T004212Z
LAST-MODIFIED:20210814T004212Z
UID:45412-1774569600-1774655999@tcshighschool.org
SUMMARY:Mr. Ken's B-day
DESCRIPTION:
URL:https://tcshighschool.org/event/mr-kens-b-day/2026-03-27/
CATEGORIES:Special Days
END:VEVENT
BEGIN:VEVENT
DTSTART;TZID=America/New_York:20260327T090000
DTEND;TZID=America/New_York:20260327T110000
DTSTAMP:20260423T121622
CREATED:20250708T133732Z
LAST-MODIFIED:20250708T133732Z
UID:48751-1774602000-1774609200@tcshighschool.org
SUMMARY:Creative Writing Seminar
DESCRIPTION:
URL:https://tcshighschool.org/event/creative-writing-seminar-12-2025-11-28-2026-03-27/
CATEGORIES:Seminar - Regular
END:VEVENT
BEGIN:VEVENT
DTSTART;TZID=America/New_York:20260327T110000
DTEND;TZID=America/New_York:20260327T113000
DTSTAMP:20260423T121622
CREATED:20251229T192359Z
LAST-MODIFIED:20260324T103648Z
UID:50008-1774609200-1774611000@tcshighschool.org
SUMMARY:Lunch: Martha Marani
DESCRIPTION:
URL:https://tcshighschool.org/event/lunch-ms-lisa-b-2/
CATEGORIES:Lunch
END:VEVENT
BEGIN:VEVENT
DTSTART;TZID=America/New_York:20260327T113000
DTEND;TZID=America/New_York:20260327T123000
DTSTAMP:20260423T121622
CREATED:20260120T163104Z
LAST-MODIFIED:20260316T133111Z
UID:50238-1774611000-1774614600@tcshighschool.org
SUMMARY:Conversation with Saadia Faruqi
DESCRIPTION:
URL:https://tcshighschool.org/event/conversation-with-saadia-faruqi-tentative/
CATEGORIES:Conversation
ATTACH;FMTTYPE=image/jpeg:https://tcshighschool.org/wp-content/uploads/2026/01/download-3-2.jpg
END:VEVENT
BEGIN:VEVENT
DTSTART;VALUE=DATE:20260328
DTEND;VALUE=DATE:20260406
DTSTAMP:20260423T121622
CREATED:20250327T114204Z
LAST-MODIFIED:20250327T114204Z
UID:48161-1774656000-1775433599@tcshighschool.org
SUMMARY:Spring Break
DESCRIPTION:S
URL:https://tcshighschool.org/event/spring-break-13/
CATEGORIES:Holidays
END:VEVENT
BEGIN:VEVENT
DTSTART;TZID=America/New_York:20260406T114500
DTEND;TZID=America/New_York:20260406T121500
DTSTAMP:20260423T121622
CREATED:20251208T123840Z
LAST-MODIFIED:20260414T152815Z
UID:49936-1775475900-1775477700@tcshighschool.org
SUMMARY:Lunch: Ms. Carla (Karla & Ruth's Mom)
DESCRIPTION:panes con pollo
URL:https://tcshighschool.org/event/lunch-ms-carla-karla-ruths-mom-15/
CATEGORIES:Lunch
END:VEVENT
BEGIN:VEVENT
DTSTART;TZID=America/New_York:20260407T121500
DTEND;TZID=America/New_York:20260407T124500
DTSTAMP:20260423T121622
CREATED:20251229T193959Z
LAST-MODIFIED:20260405T180447Z
UID:50015-1775564100-1775565900@tcshighschool.org
SUMMARY:Lunch: Ms. Linda (Ethan's Sponsor)
DESCRIPTION:mac and cheese\, fruit\, and a dessert
URL:https://tcshighschool.org/event/lunch-ms-linda-ethans-sponsor-3/
CATEGORIES:Lunch
END:VEVENT
BEGIN:VEVENT
DTSTART;TZID=America/New_York:20260407T140000
DTEND;TZID=America/New_York:20260407T150000
DTSTAMP:20260423T121622
CREATED:20251206T012347Z
LAST-MODIFIED:20251206T012347Z
UID:49916-1775570400-1775574000@tcshighschool.org
SUMMARY:MICA Art Seminar
DESCRIPTION:
URL:https://tcshighschool.org/event/mica-art-seminar/2026-04-07/
CATEGORIES:Seminar - Regular
END:VEVENT
END:VCALENDAR