BEGIN:VCALENDAR
VERSION:2.0
PRODID:-//TCS High School - ECPv6.15.11//NONSGML v1.0//EN
CALSCALE:GREGORIAN
METHOD:PUBLISH
X-WR-CALNAME:TCS High School
X-ORIGINAL-URL:https://tcshighschool.org
X-WR-CALDESC:Events for TCS High School
REFRESH-INTERVAL;VALUE=DURATION:PT1H
X-Robots-Tag:noindex
X-PUBLISHED-TTL:PT1H
BEGIN:VTIMEZONE
TZID:America/New_York
BEGIN:DAYLIGHT
TZOFFSETFROM:-0500
TZOFFSETTO:-0400
TZNAME:EDT
DTSTART:20220313T070000
END:DAYLIGHT
BEGIN:STANDARD
TZOFFSETFROM:-0400
TZOFFSETTO:-0500
TZNAME:EST
DTSTART:20221106T060000
END:STANDARD
BEGIN:DAYLIGHT
TZOFFSETFROM:-0500
TZOFFSETTO:-0400
TZNAME:EDT
DTSTART:20230312T070000
END:DAYLIGHT
BEGIN:STANDARD
TZOFFSETFROM:-0400
TZOFFSETTO:-0500
TZNAME:EST
DTSTART:20231105T060000
END:STANDARD
BEGIN:DAYLIGHT
TZOFFSETFROM:-0500
TZOFFSETTO:-0400
TZNAME:EDT
DTSTART:20240310T070000
END:DAYLIGHT
BEGIN:STANDARD
TZOFFSETFROM:-0400
TZOFFSETTO:-0500
TZNAME:EST
DTSTART:20241103T060000
END:STANDARD
END:VTIMEZONE
BEGIN:VEVENT
DTSTART;TZID=America/New_York:20230525T123000
DTEND;TZID=America/New_York:20230525T134500
DTSTAMP:20260425T205959
CREATED:20220721T115015Z
LAST-MODIFIED:20220831T182428Z
UID:40431-1685017800-1685022300@tcshighschool.org
SUMMARY:Theatre Arts with The Lyric
DESCRIPTION:
URL:https://tcshighschool.org/event/theatre-arts-with-the-lyric-2023-05-18/
CATEGORIES:Seminar - Regular
END:VEVENT
BEGIN:VEVENT
DTSTART;TZID=America/New_York:20230525T120000
DTEND;TZID=America/New_York:20230525T123000
DTSTAMP:20260425T205959
CREATED:20230109T200845Z
LAST-MODIFIED:20230504T110722Z
UID:41730-1685016000-1685017800@tcshighschool.org
SUMMARY:Lunch: Garrett Anderson
DESCRIPTION:King’s Pizza & Dessert
URL:https://tcshighschool.org/event/lunch-garrett-anderson-4/
CATEGORIES:Lunch
END:VEVENT
BEGIN:VEVENT
DTSTART;TZID=America/New_York:20230525T081500
DTEND;TZID=America/New_York:20230525T100000
DTSTAMP:20260425T205959
CREATED:20230327T124620Z
LAST-MODIFIED:20230327T135433Z
UID:42431-1685002500-1685008800@tcshighschool.org
SUMMARY:Breakfast at University of Baltimore
DESCRIPTION:
URL:https://tcshighschool.org/event/breakfast-at-university-of-baltimore/
CATEGORIES:Field Trips
END:VEVENT
BEGIN:VEVENT
DTSTART;TZID=America/New_York:20230524T183000
DTEND;TZID=America/New_York:20230524T200000
DTSTAMP:20260425T205959
CREATED:20220607T124639Z
LAST-MODIFIED:20220904T161536Z
UID:39596-1684953000-1684958400@tcshighschool.org
SUMMARY:Sponsor Meeting
DESCRIPTION:
URL:https://tcshighschool.org/event/sponsor-meeting-43/
CATEGORIES:Meetings
END:VEVENT
BEGIN:VEVENT
DTSTART;TZID=America/New_York:20230524T123000
DTEND;TZID=America/New_York:20230524T133000
DTSTAMP:20260425T205959
CREATED:20230419T161903Z
LAST-MODIFIED:20230427T175201Z
UID:42559-1684931400-1684935000@tcshighschool.org
SUMMARY:Art Class
DESCRIPTION:
URL:https://tcshighschool.org/event/art-class-3/
CATEGORIES:Seminar - Regular
END:VEVENT
BEGIN:VEVENT
DTSTART;TZID=America/New_York:20230524T120000
DTEND;TZID=America/New_York:20230524T123000
DTSTAMP:20260425T205959
CREATED:20230501T210724Z
LAST-MODIFIED:20230501T210724Z
UID:42642-1684929600-1684931400@tcshighschool.org
SUMMARY:Lunch: Ms. Tracy (Ethan & Chase's Mom)
DESCRIPTION:
URL:https://tcshighschool.org/event/lunch-ms-tracy-ethan-chases-mom-11/
CATEGORIES:Lunch
END:VEVENT
BEGIN:VEVENT
DTSTART;TZID=America/New_York:20230524T103000
DTEND;TZID=America/New_York:20230524T120000
DTSTAMP:20260425T205959
CREATED:20230220T144736Z
LAST-MODIFIED:20230511T214310Z
UID:42048-1684924200-1684929600@tcshighschool.org
SUMMARY:Conversation with David DeBoy
DESCRIPTION:https://www.daviddeboy.com/writer.html
URL:https://tcshighschool.org/event/conversation-with-david-deboy-2/
CATEGORIES:Conversation
ATTACH;FMTTYPE=image/jpeg:https://tcshighschool.org/wp-content/uploads/2023/02/download.jpg
END:VEVENT
BEGIN:VEVENT
DTSTART;TZID=America/New_York:20230524T084500
DTEND;TZID=America/New_York:20230524T094500
DTSTAMP:20260425T205959
CREATED:20220721T121242Z
LAST-MODIFIED:20220803T211226Z
UID:40045-1684917900-1684921500@tcshighschool.org
SUMMARY:Physical Education
DESCRIPTION:
URL:https://tcshighschool.org/event/physical-education-tentative/2023-05-24/
CATEGORIES:Seminar - Regular
END:VEVENT
BEGIN:VEVENT
DTSTART;TZID=America/New_York:20230523T123000
DTEND;TZID=America/New_York:20230523T133000
DTSTAMP:20260425T205959
CREATED:20220721T120858Z
LAST-MODIFIED:20220721T120858Z
UID:39966-1684845000-1684848600@tcshighschool.org
SUMMARY:ASL II
DESCRIPTION:
URL:https://tcshighschool.org/event/asl-ii/2023-05-23/
CATEGORIES:Seminar - Regular
END:VEVENT
BEGIN:VEVENT
DTSTART;TZID=America/New_York:20230523T120000
DTEND;TZID=America/New_York:20230523T123000
DTSTAMP:20260425T205959
CREATED:20220803T211351Z
LAST-MODIFIED:20230220T010302Z
UID:40504-1684843200-1684845000@tcshighschool.org
SUMMARY:Lunch: Ms. Peggy
DESCRIPTION:
URL:https://tcshighschool.org/event/lunch-ms-peggy-2-2023-05-09/2023-05-23/
CATEGORIES:Lunch
END:VEVENT
BEGIN:VEVENT
DTSTART;TZID=America/New_York:20230523T103000
DTEND;TZID=America/New_York:20230523T113000
DTSTAMP:20260425T205959
CREATED:20220721T120653Z
LAST-MODIFIED:20220721T120653Z
UID:39928-1684837800-1684841400@tcshighschool.org
SUMMARY:ASL I
DESCRIPTION:
URL:https://tcshighschool.org/event/asl-i/2023-05-23/
CATEGORIES:Seminar - Regular
END:VEVENT
BEGIN:VEVENT
DTSTART;TZID=America/New_York:20230522T120100
DTEND;TZID=America/New_York:20230522T120100
DTSTAMP:20260425T205959
CREATED:20230109T212852Z
LAST-MODIFIED:20230910T234531Z
UID:41732-1684756860-1684756860@tcshighschool.org
SUMMARY:Conversation with author Thanhhà Lai
DESCRIPTION:
URL:https://tcshighschool.org/event/conversation-with-author-thanhha-lai/
CATEGORIES:Home
ATTACH;FMTTYPE=image/jpeg:https://tcshighschool.org/wp-content/uploads/2023/01/download-6.jpg
END:VEVENT
BEGIN:VEVENT
DTSTART;TZID=America/New_York:20230522T120000
DTEND;TZID=America/New_York:20230522T123000
DTSTAMP:20260425T205959
CREATED:20230331T004058Z
LAST-MODIFIED:20230331T004058Z
UID:42463-1684756800-1684758600@tcshighschool.org
SUMMARY:Lunch: Martha Marani
DESCRIPTION:
URL:https://tcshighschool.org/event/lunch-martha-marani/
CATEGORIES:Lunch
END:VEVENT
BEGIN:VEVENT
DTSTART;TZID=America/New_York:20230520T180000
DTEND;TZID=America/New_York:20230520T200000
DTSTAMP:20260425T205959
CREATED:20230326T230559Z
LAST-MODIFIED:20230326T230559Z
UID:42415-1684605600-1684612800@tcshighschool.org
SUMMARY:YPF at Center Stage: Hector's Play
DESCRIPTION:
URL:https://tcshighschool.org/event/ypf-at-center-stage-hectors-play/
CATEGORIES:Social Events
END:VEVENT
BEGIN:VEVENT
DTSTART;TZID=America/New_York:20230519T113000
DTEND;TZID=America/New_York:20230519T130000
DTSTAMP:20260425T205959
CREATED:20230413T154612Z
LAST-MODIFIED:20230519T215850Z
UID:42515-1684495800-1684501200@tcshighschool.org
SUMMARY:Conversation with The Abell foundation
DESCRIPTION:Joe Manko\, Kashanae Simpson and Liz Tung
URL:https://tcshighschool.org/event/conversaation-with-joe-manko/
CATEGORIES:Conversation
ATTACH;FMTTYPE=image/jpeg:https://tcshighschool.org/wp-content/uploads/2023/04/Joe-768x768-1.jpg
END:VEVENT
BEGIN:VEVENT
DTSTART;TZID=America/New_York:20230519T090000
DTEND;TZID=America/New_York:20230519T110000
DTSTAMP:20260425T205959
CREATED:20220721T121129Z
LAST-MODIFIED:20220721T121129Z
UID:40007-1684486800-1684494000@tcshighschool.org
SUMMARY:Creative Writing
DESCRIPTION:
URL:https://tcshighschool.org/event/creative-writing-7/2023-05-19/
CATEGORIES:Seminar - Regular
END:VEVENT
BEGIN:VEVENT
DTSTART;TZID=America/New_York:20230518T140000
DTEND;TZID=America/New_York:20230518T150000
DTSTAMP:20260425T205959
CREATED:20220721T121548Z
LAST-MODIFIED:20230427T174935Z
UID:40369-1684418400-1684422000@tcshighschool.org
SUMMARY:Art Class
DESCRIPTION:With Leandra Laird
URL:https://tcshighschool.org/event/art-class-tentative-2023-05-17/
CATEGORIES:Seminar - Regular
END:VEVENT
BEGIN:VEVENT
DTSTART;TZID=America/New_York:20230518T120000
DTEND;TZID=America/New_York:20230518T123000
DTSTAMP:20260425T205959
CREATED:20221222T011537Z
LAST-MODIFIED:20230419T191002Z
UID:41557-1684411200-1684413000@tcshighschool.org
SUMMARY:Lunch: Sam (Jayla's Sponsor)
DESCRIPTION:
URL:https://tcshighschool.org/event/lunch-sam-jaylas-sponsor-4/
CATEGORIES:Lunch
END:VEVENT
BEGIN:VEVENT
DTSTART;TZID=America/New_York:20230518T100000
DTEND;TZID=America/New_York:20230518T123000
DTSTAMP:20260425T205959
CREATED:20220831T180000Z
LAST-MODIFIED:20220831T182328Z
UID:40749-1684404000-1684413000@tcshighschool.org
SUMMARY:Center Stage: Life is a Dream
DESCRIPTION:
URL:https://tcshighschool.org/event/center-stage-life-is-a-dream/
CATEGORIES:Field Trips
END:VEVENT
BEGIN:VEVENT
DTSTART;TZID=America/New_York:20230517T123000
DTEND;TZID=America/New_York:20230517T140000
DTSTAMP:20260425T205959
CREATED:20230412T212630Z
LAST-MODIFIED:20230501T104801Z
UID:42504-1684326600-1684332000@tcshighschool.org
SUMMARY:Baltimore Museum of Art - Hip Hop Exhibit
DESCRIPTION:https://artbma.org/exhibition/the-culture-hip-hop-and-contemporary-art-in-the-21st-century
URL:https://tcshighschool.org/event/baltimore-museum-of-art-hip-hop-exhibit/
CATEGORIES:Field Trips
END:VEVENT
BEGIN:VEVENT
DTSTART;TZID=America/New_York:20230517T120000
DTEND;TZID=America/New_York:20230517T123000
DTSTAMP:20260425T205959
CREATED:20220815T180911Z
LAST-MODIFIED:20230116T005437Z
UID:40602-1684324800-1684326600@tcshighschool.org
SUMMARY:Lunch: Ms. Mary Louise
DESCRIPTION:Italian Cold Cuts from Eddie’s Market
URL:https://tcshighschool.org/event/lunch-ms-mary-louise-12/2023-05-17/
CATEGORIES:Lunch
END:VEVENT
BEGIN:VEVENT
DTSTART;TZID=America/New_York:20230516T123000
DTEND;TZID=America/New_York:20230516T133000
DTSTAMP:20260425T205959
CREATED:20220721T120858Z
LAST-MODIFIED:20220721T120858Z
UID:39965-1684240200-1684243800@tcshighschool.org
SUMMARY:ASL II
DESCRIPTION:
URL:https://tcshighschool.org/event/asl-ii/2023-05-16/
CATEGORIES:Seminar - Regular
END:VEVENT
BEGIN:VEVENT
DTSTART;TZID=America/New_York:20230516T120000
DTEND;TZID=America/New_York:20230516T123000
DTSTAMP:20260425T205959
CREATED:20220803T211351Z
LAST-MODIFIED:20230220T010302Z
UID:40503-1684238400-1684240200@tcshighschool.org
SUMMARY:Lunch: Ms. Peggy
DESCRIPTION:
URL:https://tcshighschool.org/event/lunch-ms-peggy-2-2023-05-09/2023-05-16/
CATEGORIES:Lunch
END:VEVENT
BEGIN:VEVENT
DTSTART;TZID=America/New_York:20230516T103000
DTEND;TZID=America/New_York:20230516T113000
DTSTAMP:20260425T205959
CREATED:20220721T120653Z
LAST-MODIFIED:20220721T120653Z
UID:39927-1684233000-1684236600@tcshighschool.org
SUMMARY:ASL I
DESCRIPTION:
URL:https://tcshighschool.org/event/asl-i/2023-05-16/
CATEGORIES:Seminar - Regular
END:VEVENT
BEGIN:VEVENT
DTSTART;TZID=America/New_York:20230516T084500
DTEND;TZID=America/New_York:20230516T094500
DTSTAMP:20260425T205959
CREATED:20220721T121242Z
LAST-MODIFIED:20230426T143850Z
UID:40044-1684226700-1684230300@tcshighschool.org
SUMMARY:Physical Education
DESCRIPTION:
URL:https://tcshighschool.org/event/physical-education-tentative-2023-05-17/
CATEGORIES:Seminar - Regular
END:VEVENT
BEGIN:VEVENT
DTSTART;TZID=America/New_York:20230515T120000
DTEND;TZID=America/New_York:20230515T123000
DTSTAMP:20260425T205959
CREATED:20220815T142539Z
LAST-MODIFIED:20220816T202554Z
UID:40579-1684152000-1684153800@tcshighschool.org
SUMMARY:Lunch: Ms. Carol
DESCRIPTION:
URL:https://tcshighschool.org/event/lunch-ms-carol-82-2022-12-19/2023-05-15/
CATEGORIES:Lunch
END:VEVENT
BEGIN:VEVENT
DTSTART;TZID=America/New_York:20230512T113000
DTEND;TZID=America/New_York:20230512T134500
DTSTAMP:20260425T205959
CREATED:20230511T213231Z
LAST-MODIFIED:20230511T213231Z
UID:42712-1683891000-1683899100@tcshighschool.org
SUMMARY:Movie: Till
DESCRIPTION:
URL:https://tcshighschool.org/event/movie-till/
CATEGORIES:Movies
END:VEVENT
BEGIN:VEVENT
DTSTART;TZID=America/New_York:20230512T110000
DTEND;TZID=America/New_York:20230512T113000
DTSTAMP:20260425T205959
CREATED:20230205T214948Z
LAST-MODIFIED:20230205T215245Z
UID:41925-1683889200-1683891000@tcshighschool.org
SUMMARY:Lunch: Ms. Jenae (Rhys's mom)
DESCRIPTION:
URL:https://tcshighschool.org/event/lunch-ms-jeane-rhyss-mom-2/
CATEGORIES:Lunch
END:VEVENT
BEGIN:VEVENT
DTSTART;TZID=America/New_York:20230512T090000
DTEND;TZID=America/New_York:20230512T110000
DTSTAMP:20260425T205959
CREATED:20220721T121129Z
LAST-MODIFIED:20220721T121129Z
UID:40006-1683882000-1683889200@tcshighschool.org
SUMMARY:Creative Writing
DESCRIPTION:
URL:https://tcshighschool.org/event/creative-writing-7/2023-05-12/
CATEGORIES:Seminar - Regular
END:VEVENT
BEGIN:VEVENT
DTSTART;TZID=America/New_York:20230511T130000
DTEND;TZID=America/New_York:20230511T150000
DTSTAMP:20260425T205959
CREATED:20221013T212939Z
LAST-MODIFIED:20221013T213023Z
UID:41126-1683810000-1683817200@tcshighschool.org
SUMMARY:Done Construction Seminar
DESCRIPTION:
URL:https://tcshighschool.org/event/done-construction-seminar-7/
CATEGORIES:Seminars - Special
END:VEVENT
END:VCALENDAR