BEGIN:VCALENDAR
VERSION:2.0
PRODID:-//TCS High School - ECPv6.15.11//NONSGML v1.0//EN
CALSCALE:GREGORIAN
METHOD:PUBLISH
X-WR-CALNAME:TCS High School
X-ORIGINAL-URL:https://tcshighschool.org
X-WR-CALDESC:Events for TCS High School
REFRESH-INTERVAL;VALUE=DURATION:PT1H
X-Robots-Tag:noindex
X-PUBLISHED-TTL:PT1H
BEGIN:VTIMEZONE
TZID:America/New_York
BEGIN:DAYLIGHT
TZOFFSETFROM:-0500
TZOFFSETTO:-0400
TZNAME:EDT
DTSTART:20230312T070000
END:DAYLIGHT
BEGIN:STANDARD
TZOFFSETFROM:-0400
TZOFFSETTO:-0500
TZNAME:EST
DTSTART:20231105T060000
END:STANDARD
BEGIN:DAYLIGHT
TZOFFSETFROM:-0500
TZOFFSETTO:-0400
TZNAME:EDT
DTSTART:20240310T070000
END:DAYLIGHT
BEGIN:STANDARD
TZOFFSETFROM:-0400
TZOFFSETTO:-0500
TZNAME:EST
DTSTART:20241103T060000
END:STANDARD
BEGIN:DAYLIGHT
TZOFFSETFROM:-0500
TZOFFSETTO:-0400
TZNAME:EDT
DTSTART:20250309T070000
END:DAYLIGHT
BEGIN:STANDARD
TZOFFSETFROM:-0400
TZOFFSETTO:-0500
TZNAME:EST
DTSTART:20251102T060000
END:STANDARD
END:VTIMEZONE
BEGIN:VEVENT
DTSTART;TZID=America/New_York:20240507T124500
DTEND;TZID=America/New_York:20240507T134500
DTSTAMP:20260425T124027
CREATED:20230814T215700Z
LAST-MODIFIED:20230816T191434Z
UID:43121-1715085900-1715089500@tcshighschool.org
SUMMARY:ASL II
DESCRIPTION:
URL:https://tcshighschool.org/event/asl-ii-2-2023-09-19/2024-05-07/
CATEGORIES:Seminar - Regular
END:VEVENT
BEGIN:VEVENT
DTSTART;TZID=America/New_York:20240507T121500
DTEND;TZID=America/New_York:20240507T124500
DTSTAMP:20260425T124027
CREATED:20230810T201746Z
LAST-MODIFIED:20240316T184630Z
UID:42879-1715084100-1715085900@tcshighschool.org
SUMMARY:Lunch: Ms. Peggy
DESCRIPTION:egg/sausage/cheese casserole/tater tots/fruit
URL:https://tcshighschool.org/event/lunch-ms-peggy-3-2024-05-07/
CATEGORIES:Lunch
END:VEVENT
BEGIN:VEVENT
DTSTART;TZID=America/New_York:20240507T100000
DTEND;TZID=America/New_York:20240507T110000
DTSTAMP:20260425T124027
CREATED:20230820T152901Z
LAST-MODIFIED:20230820T152901Z
UID:43631-1715076000-1715079600@tcshighschool.org
SUMMARY:ASL I
DESCRIPTION:
URL:https://tcshighschool.org/event/asl-i-4/2024-05-07/
CATEGORIES:Seminar - Regular
END:VEVENT
BEGIN:VEVENT
DTSTART;TZID=America/New_York:20240507T084500
DTEND;TZID=America/New_York:20240507T100000
DTSTAMP:20260425T124027
CREATED:20240220T000719Z
LAST-MODIFIED:20240220T000719Z
UID:45119-1715071500-1715076000@tcshighschool.org
SUMMARY:Digital Story Telling Seminar
DESCRIPTION:
URL:https://tcshighschool.org/event/digital-story-telling-seminar/2024-05-07/
CATEGORIES:Seminar - Regular
END:VEVENT
BEGIN:VEVENT
DTSTART;VALUE=DATE:20240507
DTEND;VALUE=DATE:20240508
DTSTAMP:20260425T124027
CREATED:20240423T191238Z
LAST-MODIFIED:20240423T191238Z
UID:45524-1715040000-1715126399@tcshighschool.org
SUMMARY:Shadow Day
DESCRIPTION:
URL:https://tcshighschool.org/event/shadow-day-47/
CATEGORIES:Shadow Days
END:VEVENT
BEGIN:VEVENT
DTSTART;TZID=America/New_York:20240506T150000
DTEND;TZID=America/New_York:20240506T160000
DTSTAMP:20260425T124027
CREATED:20240415T123903Z
LAST-MODIFIED:20240430T112911Z
UID:45492-1715007600-1715011200@tcshighschool.org
SUMMARY:Student Portrait Photos
DESCRIPTION:
URL:https://tcshighschool.org/event/student-portrait-photos/
CATEGORIES:Special Days
END:VEVENT
BEGIN:VEVENT
DTSTART;TZID=America/New_York:20240506T130000
DTEND;TZID=America/New_York:20240506T143000
DTSTAMP:20260425T124027
CREATED:20240423T212946Z
LAST-MODIFIED:20240425T140641Z
UID:45526-1715000400-1715005800@tcshighschool.org
SUMMARY:Conversation with Dr. Sack
DESCRIPTION:
URL:https://tcshighschool.org/event/conversation-with-dr-sack/
CATEGORIES:Seminars - Special
ATTACH;FMTTYPE=image/jpeg:https://tcshighschool.org/wp-content/uploads/2024/04/download-2.jpg
END:VEVENT
BEGIN:VEVENT
DTSTART;TZID=America/New_York:20240506T121500
DTEND;TZID=America/New_York:20240506T124500
DTSTAMP:20260425T124027
CREATED:20230904T144142Z
LAST-MODIFIED:20230904T144142Z
UID:43818-1714997700-1714999500@tcshighschool.org
SUMMARY:Lunch: Ms. Carol
DESCRIPTION:
URL:https://tcshighschool.org/event/lunch-ms-carol-91/
CATEGORIES:Lunch
END:VEVENT
BEGIN:VEVENT
DTSTART;VALUE=DATE:20240506
DTEND;VALUE=DATE:20240507
DTSTAMP:20260425T124027
CREATED:20220705T212821Z
LAST-MODIFIED:20230817T175921Z
UID:39805-1714953600-1715039999@tcshighschool.org
SUMMARY:Ethan's B-day
DESCRIPTION:
URL:https://tcshighschool.org/event/e-ethans-b-day/2024-05-06/
CATEGORIES:Special Days
END:VEVENT
BEGIN:VEVENT
DTSTART;VALUE=DATE:20240504
DTEND;VALUE=DATE:20240505
DTSTAMP:20260425T124027
CREATED:20210814T004450Z
LAST-MODIFIED:20230501T163459Z
UID:42636-1714780800-1714867199@tcshighschool.org
SUMMARY:Ms. Carol's B-day
DESCRIPTION:
URL:https://tcshighschool.org/event/ms-carols-b-day/2024-05-04/
CATEGORIES:Special Days
END:VEVENT
BEGIN:VEVENT
DTSTART;TZID=America/New_York:20240503T113000
DTEND;TZID=America/New_York:20240503T130000
DTSTAMP:20260425T124027
CREATED:20240309T221625Z
LAST-MODIFIED:20240412T200524Z
UID:45309-1714735800-1714741200@tcshighschool.org
SUMMARY:Conversation with Minister Bryan Bordley
DESCRIPTION:
URL:https://tcshighschool.org/event/conversation-with-minister-bryan-bordley/
CATEGORIES:Conversation
ATTACH;FMTTYPE=image/jpeg:https://tcshighschool.org/wp-content/uploads/2024/03/download-2-1.jpg
END:VEVENT
BEGIN:VEVENT
DTSTART;TZID=America/New_York:20240503T110000
DTEND;TZID=America/New_York:20240503T113000
DTSTAMP:20260425T124027
CREATED:20240308T121642Z
LAST-MODIFIED:20240308T122026Z
UID:45265-1714734000-1714735800@tcshighschool.org
SUMMARY:Lunch: Mr. Bryan (Kendall's Dad)
DESCRIPTION:
URL:https://tcshighschool.org/event/lunch-mr-bryan-kendalls-dad/
CATEGORIES:Lunch
END:VEVENT
BEGIN:VEVENT
DTSTART;TZID=America/New_York:20240503T090000
DTEND;TZID=America/New_York:20240503T110000
DTSTAMP:20260425T124027
CREATED:20230814T215012Z
LAST-MODIFIED:20230814T215012Z
UID:43189-1714726800-1714734000@tcshighschool.org
SUMMARY:Creative Writing
DESCRIPTION:
URL:https://tcshighschool.org/event/creative-writing-8-2023-12-29-2024-05-03/
CATEGORIES:Seminar - Regular
END:VEVENT
BEGIN:VEVENT
DTSTART;TZID=America/New_York:20240502T010000
DTEND;TZID=America/New_York:20240502T143000
DTSTAMP:20260425T124027
CREATED:20240502T181029Z
LAST-MODIFIED:20240502T181048Z
UID:45571-1714611600-1714660200@tcshighschool.org
SUMMARY:Movie: Roadmap to Apartheid
DESCRIPTION:
URL:https://tcshighschool.org/event/movie-roadmap-to-apartheid/
CATEGORIES:Movies
END:VEVENT
BEGIN:VEVENT
DTSTART;TZID=America/New_York:20240501T134500
DTEND;TZID=America/New_York:20240501T150000
DTSTAMP:20260425T124027
CREATED:20240327T184613Z
LAST-MODIFIED:20240407T160119Z
UID:45402-1714571100-1714575600@tcshighschool.org
SUMMARY:Law Day Seminar
DESCRIPTION:Presentation on Gideon v Wainwright.  Gideon extended the 6th amendment constitutional right to a lawyer in criminal cases to all regardless of the ability to pay.\n\nMaryland Office of the Public Defender
URL:https://tcshighschool.org/event/law-day-seminar/
CATEGORIES:Seminars - Special
END:VEVENT
BEGIN:VEVENT
DTSTART;TZID=America/New_York:20240501T124500
DTEND;TZID=America/New_York:20240501T134500
DTSTAMP:20260425T124027
CREATED:20230814T215311Z
LAST-MODIFIED:20230821T134628Z
UID:43468-1714567500-1714571100@tcshighschool.org
SUMMARY:Visual Arts
DESCRIPTION:
URL:https://tcshighschool.org/event/visual-arts-2023-09-13/2024-05-01/
CATEGORIES:Seminar - Regular
END:VEVENT
BEGIN:VEVENT
DTSTART;TZID=America/New_York:20240501T121500
DTEND;TZID=America/New_York:20240501T124500
DTSTAMP:20260425T124027
CREATED:20240308T120219Z
LAST-MODIFIED:20240429T211911Z
UID:45259-1714565700-1714567500@tcshighschool.org
SUMMARY:Lunch: Ms. Rina (Hector's Mom)
DESCRIPTION:
URL:https://tcshighschool.org/event/lunch-ms-carla-karla-ruths-mom-4/
CATEGORIES:Lunch
END:VEVENT
BEGIN:VEVENT
DTSTART;TZID=America/New_York:20240501T084500
DTEND;TZID=America/New_York:20240501T084500
DTSTAMP:20260425T124027
CREATED:20230814T214915Z
LAST-MODIFIED:20230814T214915Z
UID:42947-1714553100-1714553100@tcshighschool.org
SUMMARY:Physical Education
DESCRIPTION:
URL:https://tcshighschool.org/event/physical-education-3/2024-05-01/
CATEGORIES:Seminar - Regular
END:VEVENT
BEGIN:VEVENT
DTSTART;TZID=America/New_York:20240430T124500
DTEND;TZID=America/New_York:20240430T134500
DTSTAMP:20260425T124027
CREATED:20240421T181731Z
LAST-MODIFIED:20240421T181731Z
UID:45521-1714481100-1714484700@tcshighschool.org
SUMMARY:ASL II
DESCRIPTION:
URL:https://tcshighschool.org/event/asl-ii-4/
CATEGORIES:Seminar - Regular
END:VEVENT
BEGIN:VEVENT
DTSTART;TZID=America/New_York:20240430T121500
DTEND;TZID=America/New_York:20240430T124500
DTSTAMP:20260425T124027
CREATED:20240308T120112Z
LAST-MODIFIED:20240308T120112Z
UID:45257-1714479300-1714481100@tcshighschool.org
SUMMARY:Lunch: Ms. Kyna (Danny's Mom)
DESCRIPTION:
URL:https://tcshighschool.org/event/lunch-ms-kyna-dannys-mom-4/
CATEGORIES:Lunch
END:VEVENT
BEGIN:VEVENT
DTSTART;TZID=America/New_York:20240430T100000
DTEND;TZID=America/New_York:20240430T110000
DTSTAMP:20260425T124027
CREATED:20240421T181626Z
LAST-MODIFIED:20240421T181626Z
UID:45519-1714471200-1714474800@tcshighschool.org
SUMMARY:ASL I
DESCRIPTION:
URL:https://tcshighschool.org/event/asl-i-7/
CATEGORIES:Seminar - Regular
END:VEVENT
BEGIN:VEVENT
DTSTART;TZID=America/New_York:20240430T084500
DTEND;TZID=America/New_York:20240430T100000
DTSTAMP:20260425T124027
CREATED:20240220T000719Z
LAST-MODIFIED:20240220T000719Z
UID:45118-1714466700-1714471200@tcshighschool.org
SUMMARY:Digital Story Telling Seminar
DESCRIPTION:
URL:https://tcshighschool.org/event/digital-story-telling-seminar/2024-04-30/
CATEGORIES:Seminar - Regular
END:VEVENT
BEGIN:VEVENT
DTSTART;TZID=America/New_York:20240429T124500
DTEND;TZID=America/New_York:20240429T134500
DTSTAMP:20260425T124027
CREATED:20230817T155800Z
LAST-MODIFIED:20240403T114057Z
UID:43483-1714394700-1714398300@tcshighschool.org
SUMMARY:Financial Literacy
DESCRIPTION:
URL:https://tcshighschool.org/event/financial-literacy-5-2024-04-08/
CATEGORIES:Seminar - Regular
END:VEVENT
BEGIN:VEVENT
DTSTART;TZID=America/New_York:20240429T121500
DTEND;TZID=America/New_York:20240429T124500
DTSTAMP:20260425T124027
CREATED:20230817T155911Z
LAST-MODIFIED:20240429T104527Z
UID:43492-1714392900-1714394700@tcshighschool.org
SUMMARY:Lunch: Berman McAleer
DESCRIPTION:Chick Fila\, salad and mac/cheese. Brownies
URL:https://tcshighschool.org/event/lunch-berman-mcaleer-15-2024-04-08/
CATEGORIES:Lunch
END:VEVENT
BEGIN:VEVENT
DTSTART;TZID=America/New_York:20240426T190000
DTEND;TZID=America/New_York:20240426T200000
DTSTAMP:20260425T124027
CREATED:20231214T014156Z
LAST-MODIFIED:20240321T123723Z
UID:44698-1714158000-1714161600@tcshighschool.org
SUMMARY:Dream Big
DESCRIPTION:
URL:https://tcshighschool.org/event/dream-big/
CATEGORIES:Field Trips
END:VEVENT
BEGIN:VEVENT
DTSTART;TZID=America/New_York:20240426T113000
DTEND;TZID=America/New_York:20240426T130000
DTSTAMP:20260425T124027
CREATED:20240309T220749Z
LAST-MODIFIED:20240420T192417Z
UID:45305-1714131000-1714136400@tcshighschool.org
SUMMARY:Conversation with Antonio Garcia & Michael Rose
DESCRIPTION:
URL:https://tcshighschool.org/event/conversation-with-antonio-garcia-tentative/
CATEGORIES:Conversation
END:VEVENT
BEGIN:VEVENT
DTSTART;TZID=America/New_York:20240426T110000
DTEND;TZID=America/New_York:20240426T113000
DTSTAMP:20260425T124027
CREATED:20240308T115917Z
LAST-MODIFIED:20240308T115917Z
UID:45253-1714129200-1714131000@tcshighschool.org
SUMMARY:Lunch: Ms. Knickmeyer
DESCRIPTION:
URL:https://tcshighschool.org/event/lunch-ms-knickmeyer/
CATEGORIES:Lunch
END:VEVENT
BEGIN:VEVENT
DTSTART;TZID=America/New_York:20240426T090000
DTEND;TZID=America/New_York:20240426T110000
DTSTAMP:20260425T124027
CREATED:20230814T215012Z
LAST-MODIFIED:20230814T215012Z
UID:43188-1714122000-1714129200@tcshighschool.org
SUMMARY:Creative Writing
DESCRIPTION:
URL:https://tcshighschool.org/event/creative-writing-8-2023-12-29-2024-04-26/
CATEGORIES:Seminar - Regular
END:VEVENT
BEGIN:VEVENT
DTSTART;VALUE=DATE:20240426
DTEND;VALUE=DATE:20240427
DTSTAMP:20260425T124027
CREATED:20210814T004348Z
LAST-MODIFIED:20210814T004348Z
UID:39473-1714089600-1714175999@tcshighschool.org
SUMMARY:Mr. Dave's B-day
DESCRIPTION:
URL:https://tcshighschool.org/event/mr-daves-b-day/2024-04-26/
CATEGORIES:Special Days
END:VEVENT
BEGIN:VEVENT
DTSTART;TZID=America/New_York:20240425T084500
DTEND;TZID=America/New_York:20240425T094500
DTSTAMP:20260425T124027
CREATED:20240409T223437Z
LAST-MODIFIED:20240412T200149Z
UID:45460-1714034700-1714038300@tcshighschool.org
SUMMARY:Conversation with B4YT in Liberia
DESCRIPTION:
URL:https://tcshighschool.org/event/conversation-with-b4yt-in-liberia/
CATEGORIES:Conversation
ATTACH;FMTTYPE=image/png:https://tcshighschool.org/wp-content/uploads/2024/04/images.png
END:VEVENT
END:VCALENDAR