BEGIN:VCALENDAR
VERSION:2.0
PRODID:-//TCS High School - ECPv6.15.11//NONSGML v1.0//EN
CALSCALE:GREGORIAN
METHOD:PUBLISH
X-WR-CALNAME:TCS High School
X-ORIGINAL-URL:https://tcshighschool.org
X-WR-CALDESC:Events for TCS High School
REFRESH-INTERVAL;VALUE=DURATION:PT1H
X-Robots-Tag:noindex
X-PUBLISHED-TTL:PT1H
BEGIN:VTIMEZONE
TZID:America/New_York
BEGIN:DAYLIGHT
TZOFFSETFROM:-0500
TZOFFSETTO:-0400
TZNAME:EDT
DTSTART:20230312T070000
END:DAYLIGHT
BEGIN:STANDARD
TZOFFSETFROM:-0400
TZOFFSETTO:-0500
TZNAME:EST
DTSTART:20231105T060000
END:STANDARD
BEGIN:DAYLIGHT
TZOFFSETFROM:-0500
TZOFFSETTO:-0400
TZNAME:EDT
DTSTART:20240310T070000
END:DAYLIGHT
BEGIN:STANDARD
TZOFFSETFROM:-0400
TZOFFSETTO:-0500
TZNAME:EST
DTSTART:20241103T060000
END:STANDARD
BEGIN:DAYLIGHT
TZOFFSETFROM:-0500
TZOFFSETTO:-0400
TZNAME:EDT
DTSTART:20250309T070000
END:DAYLIGHT
BEGIN:STANDARD
TZOFFSETFROM:-0400
TZOFFSETTO:-0500
TZNAME:EST
DTSTART:20251102T060000
END:STANDARD
END:VTIMEZONE
BEGIN:VEVENT
DTSTART;TZID=America/New_York:20240131T084500
DTEND;TZID=America/New_York:20240131T084500
DTSTAMP:20260425T092045
CREATED:20230814T214915Z
LAST-MODIFIED:20230814T214915Z
UID:42933-1706690700-1706690700@tcshighschool.org
SUMMARY:Physical Education
DESCRIPTION:
URL:https://tcshighschool.org/event/physical-education-3/2024-01-31/
CATEGORIES:Seminar - Regular
END:VEVENT
BEGIN:VEVENT
DTSTART;TZID=America/New_York:20240201T120000
DTEND;TZID=America/New_York:20240201T140000
DTSTAMP:20260425T092045
CREATED:20230814T215215Z
LAST-MODIFIED:20231214T022708Z
UID:43005-1706788800-1706796000@tcshighschool.org
SUMMARY:Somatic Workshop at The Lyric
DESCRIPTION:
URL:https://tcshighschool.org/event/theatre-with-the-lyric-2024-02-01/
CATEGORIES:Field Trips
END:VEVENT
BEGIN:VEVENT
DTSTART;TZID=America/New_York:20240201T121500
DTEND;TZID=America/New_York:20240201T123000
DTSTAMP:20260425T092045
CREATED:20230816T190126Z
LAST-MODIFIED:20230816T190126Z
UID:43431-1706789700-1706790600@tcshighschool.org
SUMMARY:Lunch: The Lyric
DESCRIPTION:
URL:https://tcshighschool.org/event/lunch-the-lyric/
CATEGORIES:Lunch
END:VEVENT
BEGIN:VEVENT
DTSTART;TZID=America/New_York:20240202T090000
DTEND;TZID=America/New_York:20240202T110000
DTSTAMP:20260425T092045
CREATED:20230814T215012Z
LAST-MODIFIED:20230814T215012Z
UID:42973-1706864400-1706871600@tcshighschool.org
SUMMARY:Creative Writing
DESCRIPTION:
URL:https://tcshighschool.org/event/creative-writing-8/2024-02-02/
CATEGORIES:Seminar - Regular
END:VEVENT
BEGIN:VEVENT
DTSTART;TZID=America/New_York:20240202T110000
DTEND;TZID=America/New_York:20240202T113000
DTSTAMP:20260425T092045
CREATED:20231215T121844Z
LAST-MODIFIED:20231215T121844Z
UID:44735-1706871600-1706873400@tcshighschool.org
SUMMARY:Lunch: Ms. Leslie (Kennedy's Mom)
DESCRIPTION:
URL:https://tcshighschool.org/event/lunch-ms-leslie-kennedys-mom-16/
CATEGORIES:Lunch
END:VEVENT
BEGIN:VEVENT
DTSTART;TZID=America/New_York:20240202T113000
DTEND;TZID=America/New_York:20240202T130000
DTSTAMP:20260425T092045
CREATED:20231219T214914Z
LAST-MODIFIED:20240122T002037Z
UID:44817-1706873400-1706878800@tcshighschool.org
SUMMARY:Conversation with Ted Giovanis
DESCRIPTION:https://tedgiovanis.com/
URL:https://tcshighschool.org/event/conversation-with-ted-giovanis/
CATEGORIES:Conversation
ATTACH;FMTTYPE=image/jpeg:https://tcshighschool.org/wp-content/uploads/2023/12/download-2.jpg
END:VEVENT
BEGIN:VEVENT
DTSTART;TZID=America/New_York:20240205T121500
DTEND;TZID=America/New_York:20240205T124500
DTSTAMP:20260425T092045
CREATED:20230904T144002Z
LAST-MODIFIED:20230904T144002Z
UID:43812-1707135300-1707137100@tcshighschool.org
SUMMARY:Lunch: Ms. Carol
DESCRIPTION:
URL:https://tcshighschool.org/event/lunch-ms-carol-88/
CATEGORIES:Lunch
END:VEVENT
BEGIN:VEVENT
DTSTART;TZID=America/New_York:20240206T100000
DTEND;TZID=America/New_York:20240206T110000
DTSTAMP:20260425T092045
CREATED:20231102T133133Z
LAST-MODIFIED:20231102T133133Z
UID:44451-1707213600-1707217200@tcshighschool.org
SUMMARY:ASL I
DESCRIPTION:
URL:https://tcshighschool.org/event/asl-i-5/2024-02-06/
CATEGORIES:Seminar - Regular
END:VEVENT
BEGIN:VEVENT
DTSTART;TZID=America/New_York:20240206T121500
DTEND;TZID=America/New_York:20240206T124500
DTSTAMP:20260425T092045
CREATED:20230810T201746Z
LAST-MODIFIED:20240107T125555Z
UID:42866-1707221700-1707223500@tcshighschool.org
SUMMARY:Lunch: Ms. Peggy
DESCRIPTION:Chicken Pot pie/ fruit/ dessert
URL:https://tcshighschool.org/event/lunch-ms-peggy-3-2024-02-06/
CATEGORIES:Lunch
END:VEVENT
BEGIN:VEVENT
DTSTART;TZID=America/New_York:20240206T124500
DTEND;TZID=America/New_York:20240206T134500
DTSTAMP:20260425T092045
CREATED:20230814T215700Z
LAST-MODIFIED:20230816T184735Z
UID:43108-1707223500-1707227100@tcshighschool.org
SUMMARY:ASL II
DESCRIPTION:
URL:https://tcshighschool.org/event/asl-ii-2-2023-09-19/2024-02-06/
CATEGORIES:Seminar - Regular
END:VEVENT
BEGIN:VEVENT
DTSTART;TZID=America/New_York:20240207T084500
DTEND;TZID=America/New_York:20240207T084500
DTSTAMP:20260425T092045
CREATED:20230814T214915Z
LAST-MODIFIED:20230814T214915Z
UID:42934-1707295500-1707295500@tcshighschool.org
SUMMARY:Physical Education
DESCRIPTION:
URL:https://tcshighschool.org/event/physical-education-3/2024-02-07/
CATEGORIES:Seminar - Regular
END:VEVENT
BEGIN:VEVENT
DTSTART;TZID=America/New_York:20240207T121500
DTEND;TZID=America/New_York:20240207T124500
DTSTAMP:20260425T092045
CREATED:20231215T121933Z
LAST-MODIFIED:20231215T121933Z
UID:44737-1707308100-1707309900@tcshighschool.org
SUMMARY:Lunch: Ms. Linda (Madison's Mom)
DESCRIPTION:
URL:https://tcshighschool.org/event/lunch-ms-linda-madisons-mom-20/
CATEGORIES:Lunch
END:VEVENT
BEGIN:VEVENT
DTSTART;TZID=America/New_York:20240207T124500
DTEND;TZID=America/New_York:20240207T134500
DTSTAMP:20260425T092045
CREATED:20230814T215311Z
LAST-MODIFIED:20230821T134628Z
UID:43457-1707309900-1707313500@tcshighschool.org
SUMMARY:Visual Arts
DESCRIPTION:
URL:https://tcshighschool.org/event/visual-arts-2023-09-13/2024-02-07/
CATEGORIES:Seminar - Regular
END:VEVENT
BEGIN:VEVENT
DTSTART;TZID=America/New_York:20240208T121500
DTEND;TZID=America/New_York:20240208T124500
DTSTAMP:20260425T092045
CREATED:20230905T133411Z
LAST-MODIFIED:20240205T014538Z
UID:43866-1707394500-1707396300@tcshighschool.org
SUMMARY:Lunch: Ms. Rita (Ethan's Mom)
DESCRIPTION:soup and some biscuits.
URL:https://tcshighschool.org/event/lunch-ms-rita-ethans-mom-14/
CATEGORIES:Lunch
END:VEVENT
BEGIN:VEVENT
DTSTART;TZID=America/New_York:20240208T124500
DTEND;TZID=America/New_York:20240208T134500
DTSTAMP:20260425T092045
CREATED:20231010T104507Z
LAST-MODIFIED:20231010T104507Z
UID:44240-1707396300-1707399900@tcshighschool.org
SUMMARY:Theatre with The Lyric
DESCRIPTION:
URL:https://tcshighschool.org/event/theatre-with-the-lyric-3/2024-02-08/
CATEGORIES:Seminar - Regular
END:VEVENT
BEGIN:VEVENT
DTSTART;TZID=America/New_York:20240208T170000
DTEND;TZID=America/New_York:20240208T210000
DTSTAMP:20260425T092045
CREATED:20240201T010039Z
LAST-MODIFIED:20240201T010039Z
UID:45022-1707411600-1707426000@tcshighschool.org
SUMMARY:Lunar New Year at the Symphony
DESCRIPTION:
URL:https://tcshighschool.org/event/lunar-new-year-at-the-symphony/
CATEGORIES:Field Trips
END:VEVENT
BEGIN:VEVENT
DTSTART;TZID=America/New_York:20240209T090000
DTEND;TZID=America/New_York:20240209T110000
DTSTAMP:20260425T092045
CREATED:20230814T215012Z
LAST-MODIFIED:20230814T215012Z
UID:42975-1707469200-1707476400@tcshighschool.org
SUMMARY:Creative Writing
DESCRIPTION:
URL:https://tcshighschool.org/event/creative-writing-8/2024-02-09/
CATEGORIES:Seminar - Regular
END:VEVENT
BEGIN:VEVENT
DTSTART;TZID=America/New_York:20240209T120000
DTEND;TZID=America/New_York:20240209T140000
DTSTAMP:20260425T092045
CREATED:20231214T012737Z
LAST-MODIFIED:20240122T001716Z
UID:44686-1707480000-1707487200@tcshighschool.org
SUMMARY:Conversation with Jeff Elkin/Advance Business System
DESCRIPTION:
URL:https://tcshighschool.org/event/conversation-with-jeff-elkin-advance-business-system/
CATEGORIES:Field Trips
ATTACH;FMTTYPE=image/jpeg:https://tcshighschool.org/wp-content/uploads/2023/12/download-1-1.jpg
END:VEVENT
BEGIN:VEVENT
DTSTART;TZID=America/New_York:20240212T121500
DTEND;TZID=America/New_York:20240212T124500
DTSTAMP:20260425T092045
CREATED:20231215T122113Z
LAST-MODIFIED:20240211T203947Z
UID:44741-1707740100-1707741900@tcshighschool.org
SUMMARY:Lunch: Ms. Jenae (Rhys & Quinn's Mom)
DESCRIPTION:chicken rigatoni with spinach and sun dried tomatoes.
URL:https://tcshighschool.org/event/lunch-ms-jenae-rhys-quinns-mom-9/
CATEGORIES:Lunch
END:VEVENT
BEGIN:VEVENT
DTSTART;TZID=America/New_York:20240212T130000
DTEND;TZID=America/New_York:20240212T150000
DTSTAMP:20260425T092045
CREATED:20230822T191659Z
LAST-MODIFIED:20230822T191659Z
UID:43691-1707742800-1707750000@tcshighschool.org
SUMMARY:Done Construction Seminar
DESCRIPTION:
URL:https://tcshighschool.org/event/done-construction-seminar-5/2024-02-12/
CATEGORIES:Seminar - Regular
END:VEVENT
BEGIN:VEVENT
DTSTART;VALUE=DATE:20240213
DTEND;VALUE=DATE:20240214
DTSTAMP:20260425T092045
CREATED:20240207T115056Z
LAST-MODIFIED:20240207T115238Z
UID:45053-1707782400-1707868799@tcshighschool.org
SUMMARY:ASL Speaker: Kathi Riley
DESCRIPTION:
URL:https://tcshighschool.org/event/asl-guest-speaker-kathi-riley/
CATEGORIES:Seminars - Special
END:VEVENT
BEGIN:VEVENT
DTSTART;TZID=America/New_York:20240213T100000
DTEND;TZID=America/New_York:20240213T110000
DTSTAMP:20260425T092045
CREATED:20230814T215601Z
LAST-MODIFIED:20230814T230401Z
UID:43230-1707818400-1707822000@tcshighschool.org
SUMMARY:ASL I
DESCRIPTION:
URL:https://tcshighschool.org/event/asl-i-2-2024-01-02-2024-02-13/
CATEGORIES:Seminar - Regular
END:VEVENT
BEGIN:VEVENT
DTSTART;TZID=America/New_York:20240213T121500
DTEND;TZID=America/New_York:20240213T124500
DTSTAMP:20260425T092045
CREATED:20230810T201746Z
LAST-MODIFIED:20240207T115003Z
UID:42867-1707826500-1707828300@tcshighschool.org
SUMMARY:Lunch: Ms. Peggy
DESCRIPTION:pasta with shrimp with butter & Parmesan \, bread\, salad\, dessert
URL:https://tcshighschool.org/event/lunch-ms-peggy-3-2024-02-13/
CATEGORIES:Lunch
END:VEVENT
BEGIN:VEVENT
DTSTART;TZID=America/New_York:20240213T124500
DTEND;TZID=America/New_York:20240213T134500
DTSTAMP:20260425T092045
CREATED:20230814T215700Z
LAST-MODIFIED:20230816T184735Z
UID:43109-1707828300-1707831900@tcshighschool.org
SUMMARY:ASL II
DESCRIPTION:
URL:https://tcshighschool.org/event/asl-ii-2-2023-09-19/2024-02-13/
CATEGORIES:Seminar - Regular
END:VEVENT
BEGIN:VEVENT
DTSTART;TZID=America/New_York:20240214T084500
DTEND;TZID=America/New_York:20240214T084500
DTSTAMP:20260425T092045
CREATED:20230814T214915Z
LAST-MODIFIED:20230814T214915Z
UID:42935-1707900300-1707900300@tcshighschool.org
SUMMARY:Physical Education
DESCRIPTION:
URL:https://tcshighschool.org/event/physical-education-3/2024-02-14/
CATEGORIES:Seminar - Regular
END:VEVENT
BEGIN:VEVENT
DTSTART;TZID=America/New_York:20240214T121500
DTEND;TZID=America/New_York:20240214T124500
DTSTAMP:20260425T092045
CREATED:20231215T122201Z
LAST-MODIFIED:20240213T180615Z
UID:44743-1707912900-1707914700@tcshighschool.org
SUMMARY:Lunch: Mr. Kevin (Sam's Dad)
DESCRIPTION:chicken\, mixed vegetables\, and stuffing casserole
URL:https://tcshighschool.org/event/lunch-mr-kevin-sams-dad-3/
CATEGORIES:Lunch
END:VEVENT
BEGIN:VEVENT
DTSTART;TZID=America/New_York:20240214T124500
DTEND;TZID=America/New_York:20240214T134500
DTSTAMP:20260425T092045
CREATED:20230814T215311Z
LAST-MODIFIED:20230821T134628Z
UID:43458-1707914700-1707918300@tcshighschool.org
SUMMARY:Visual Arts
DESCRIPTION:
URL:https://tcshighschool.org/event/visual-arts-2023-09-13/2024-02-14/
CATEGORIES:Seminar - Regular
END:VEVENT
BEGIN:VEVENT
DTSTART;TZID=America/New_York:20240215T090000
DTEND;TZID=America/New_York:20240215T100000
DTSTAMP:20260425T092045
CREATED:20240130T215248Z
LAST-MODIFIED:20240204T150940Z
UID:45011-1707987600-1707991200@tcshighschool.org
SUMMARY:B4YT: Liberia & TCS Student Zoom
DESCRIPTION:
URL:https://tcshighschool.org/event/liberia-zoom/
CATEGORIES:Seminars - Special
ATTACH;FMTTYPE=image/jpeg:https://tcshighschool.org/wp-content/uploads/2024/01/b4yt3-copy.jpg
END:VEVENT
BEGIN:VEVENT
DTSTART;TZID=America/New_York:20240215T121500
DTEND;TZID=America/New_York:20240215T124500
DTSTAMP:20260425T092045
CREATED:20230904T143332Z
LAST-MODIFIED:20240210T221940Z
UID:43796-1707999300-1708001100@tcshighschool.org
SUMMARY:Lunch: Ms. Mary Louise
DESCRIPTION:Italian cold cut subs
URL:https://tcshighschool.org/event/lunch-ms-mary-louise-18/
CATEGORIES:Lunch
END:VEVENT
BEGIN:VEVENT
DTSTART;TZID=America/New_York:20240215T124500
DTEND;TZID=America/New_York:20240215T134500
DTSTAMP:20260425T092045
CREATED:20231010T104507Z
LAST-MODIFIED:20231010T104507Z
UID:44241-1708001100-1708004700@tcshighschool.org
SUMMARY:Theatre with The Lyric
DESCRIPTION:
URL:https://tcshighschool.org/event/theatre-with-the-lyric-3/2024-02-15/
CATEGORIES:Seminar - Regular
END:VEVENT
END:VCALENDAR