BEGIN:VCALENDAR
VERSION:2.0
PRODID:-//TCS High School - ECPv6.15.11//NONSGML v1.0//EN
CALSCALE:GREGORIAN
METHOD:PUBLISH
X-ORIGINAL-URL:https://tcshighschool.org
X-WR-CALDESC:Events for TCS High School
REFRESH-INTERVAL;VALUE=DURATION:PT1H
X-Robots-Tag:noindex
X-PUBLISHED-TTL:PT1H
BEGIN:VTIMEZONE
TZID:America/New_York
BEGIN:DAYLIGHT
TZOFFSETFROM:-0500
TZOFFSETTO:-0400
TZNAME:EDT
DTSTART:20240310T070000
END:DAYLIGHT
BEGIN:STANDARD
TZOFFSETFROM:-0400
TZOFFSETTO:-0500
TZNAME:EST
DTSTART:20241103T060000
END:STANDARD
BEGIN:DAYLIGHT
TZOFFSETFROM:-0500
TZOFFSETTO:-0400
TZNAME:EDT
DTSTART:20250309T070000
END:DAYLIGHT
BEGIN:STANDARD
TZOFFSETFROM:-0400
TZOFFSETTO:-0500
TZNAME:EST
DTSTART:20251102T060000
END:STANDARD
BEGIN:DAYLIGHT
TZOFFSETFROM:-0500
TZOFFSETTO:-0400
TZNAME:EDT
DTSTART:20260308T070000
END:DAYLIGHT
BEGIN:STANDARD
TZOFFSETFROM:-0400
TZOFFSETTO:-0500
TZNAME:EST
DTSTART:20261101T060000
END:STANDARD
END:VTIMEZONE
BEGIN:VEVENT
DTSTART;TZID=America/New_York:20251105T121500
DTEND;TZID=America/New_York:20251105T124500
DTSTAMP:20260423T194744
CREATED:20250830T120831Z
LAST-MODIFIED:20251103T214605Z
UID:49242-1762344900-1762346700@tcshighschool.org
SUMMARY:Lunch: Ms. Rita (Ethan's Mom)
DESCRIPTION:lunch meat(ham\, turkey\, and salami) lettuce\, onion\, tomatoes\, and cucumber\, with bread
URL:https://tcshighschool.org/event/lunch-ms-rita-ethans-mom-29/
CATEGORIES:Lunch
END:VEVENT
BEGIN:VEVENT
DTSTART;TZID=America/New_York:20251106T110000
DTEND;TZID=America/New_York:20251106T123000
DTSTAMP:20260423T194744
CREATED:20250811T191459Z
LAST-MODIFIED:20251020T185250Z
UID:48860-1762426800-1762432200@tcshighschool.org
SUMMARY:Conversation with Maria Broom
DESCRIPTION:Although nationally known as an actress for her recurring roles in HBO’s The Wire and The Corner\, Maria Broom is also a storyteller and dancer with more than 40 years of experience performing and teaching in the United States and across the globe. \nhttps://www.youtube.com/watch?v=71qh-GRKTPY \nhttps://mariabroom.com/
URL:https://tcshighschool.org/event/conversation-with-maria-broom/
CATEGORIES:Conversation
ATTACH;FMTTYPE=image/jpeg:https://tcshighschool.org/wp-content/uploads/2025/08/images-copy.jpg
END:VEVENT
BEGIN:VEVENT
DTSTART;TZID=America/New_York:20251106T121500
DTEND;TZID=America/New_York:20251106T124500
DTSTAMP:20260423T194744
CREATED:20250826T171106Z
LAST-MODIFIED:20251105T191140Z
UID:49155-1762431300-1762433100@tcshighschool.org
SUMMARY:Lunch: Ms. Leslie (Jordan's Mom)
DESCRIPTION:lasagna
URL:https://tcshighschool.org/event/lunch-ms-leslie-jordans-mom/
CATEGORIES:Lunch
END:VEVENT
BEGIN:VEVENT
DTSTART;TZID=America/New_York:20251107T090000
DTEND;TZID=America/New_York:20251107T110000
DTSTAMP:20260423T194744
CREATED:20250708T133732Z
LAST-MODIFIED:20250708T133732Z
UID:48711-1762506000-1762513200@tcshighschool.org
SUMMARY:Creative Writing Seminar
DESCRIPTION:
URL:https://tcshighschool.org/event/creative-writing-seminar-12/2025-11-07/
CATEGORIES:Seminar - Regular
END:VEVENT
BEGIN:VEVENT
DTSTART;TZID=America/New_York:20251107T110000
DTEND;TZID=America/New_York:20251107T113000
DTSTAMP:20260423T194744
CREATED:20250821T190056Z
LAST-MODIFIED:20251104T133544Z
UID:49014-1762513200-1762515000@tcshighschool.org
SUMMARY:Lunch: Ms. Leslie (Kennedy's Mom)
DESCRIPTION:Pasta noodles w garlic bread
URL:https://tcshighschool.org/event/lunch-ms-leslie-kennedys-mom-33/
CATEGORIES:Lunch
END:VEVENT
BEGIN:VEVENT
DTSTART;TZID=America/New_York:20251107T113000
DTEND;TZID=America/New_York:20251107T130000
DTSTAMP:20260423T194744
CREATED:20250826T154021Z
LAST-MODIFIED:20251004T201905Z
UID:49145-1762515000-1762520400@tcshighschool.org
SUMMARY:Conversation with Whitney Palmer/BCYF
DESCRIPTION:BCYF
URL:https://tcshighschool.org/event/conversation-with-mario-armstrong-tentative/
CATEGORIES:Conversation
END:VEVENT
BEGIN:VEVENT
DTSTART;TZID=America/New_York:20251108T180000
DTEND;TZID=America/New_York:20251108T200000
DTSTAMP:20260423T194744
CREATED:20251006T193315Z
LAST-MODIFIED:20251109T233129Z
UID:49669-1762624800-1762632000@tcshighschool.org
SUMMARY:Family Fun Game Night
DESCRIPTION:
URL:https://tcshighschool.org/event/family-fun-night-tentative-2/
CATEGORIES:Social Events
END:VEVENT
BEGIN:VEVENT
DTSTART;TZID=America/New_York:20251110T121500
DTEND;TZID=America/New_York:20251110T124500
DTSTAMP:20260423T194744
CREATED:20250914T141051Z
LAST-MODIFIED:20251106T215016Z
UID:49459-1762776900-1762778700@tcshighschool.org
SUMMARY:Lunch: Ms. Ruth (Jordan's Sponsor)
DESCRIPTION:chili and cornbread
URL:https://tcshighschool.org/event/lunch-ms-ruth-jordans-sponsor-4/
CATEGORIES:Lunch
END:VEVENT
BEGIN:VEVENT
DTSTART;TZID=America/New_York:20251110T124500
DTEND;TZID=America/New_York:20251110T134500
DTSTAMP:20260423T194744
CREATED:20250821T203926Z
LAST-MODIFIED:20251012T160752Z
UID:49020-1762778700-1762782300@tcshighschool.org
SUMMARY:Young Playwrights Seminar
DESCRIPTION:
URL:https://tcshighschool.org/event/young-playwrights-tentative-2025-10-20/2025-11-10/
CATEGORIES:Seminars - Special
END:VEVENT
BEGIN:VEVENT
DTSTART;TZID=America/New_York:20251111T121500
DTEND;TZID=America/New_York:20251111T124500
DTSTAMP:20260423T194744
CREATED:20250910T105627Z
LAST-MODIFIED:20251106T215109Z
UID:49399-1762863300-1762865100@tcshighschool.org
SUMMARY:Lunch: Ms. Alisha (Judah's Mom)
DESCRIPTION:honey BBQ wings\, salad and a sweet treat
URL:https://tcshighschool.org/event/lunch-ms-alisha-judahs-mom/
CATEGORIES:Lunch
END:VEVENT
BEGIN:VEVENT
DTSTART;TZID=America/New_York:20251111T124500
DTEND;TZID=America/New_York:20251111T134500
DTSTAMP:20260423T194744
CREATED:20250822T000528Z
LAST-MODIFIED:20250915T230352Z
UID:49037-1762865100-1762868700@tcshighschool.org
SUMMARY:Guest Artist: Chris Ciattei
DESCRIPTION:Bio\nChris Ciattei\, also known as “Batworth\,” is a Baltimore native\, drummer\, poet\, and creator of\nvisual art. Chris’s visual art is mostly mixed media photography-blending abstract and\nexpressionist augmentation—both analog and digital. His work has been shown at Katsea\nGallery\, Overlea Arts Fest\, and 1919\, and appeared in the May 2023 issue of The Light\nEkphrastic. Chris has read his poetry at a variety of venues over the last 35 years. His recent\nbook of poetry Nothing Doing was published by Apathy Press in 2022. \nI will be presenting samples of my visual art\, and discussing the various processes involved in\ntheir creation. I Will also discuss how my visual art\, poetry\, and music have had a beneficial\neffect on one another. I will also discuss my experience in the local music and literary scene. I\nwill also have time for questions and general discussion with students regarding their creativity\nand perspectives. \n\nhttps://www.instagram.com/chrisciattei23/
URL:https://tcshighschool.org/event/guest-artist-chris-ciattei/
CATEGORIES:Seminar - Regular
ATTACH;FMTTYPE=image/jpeg:https://tcshighschool.org/wp-content/uploads/2025/08/batty600x600.jpg
END:VEVENT
BEGIN:VEVENT
DTSTART;TZID=America/New_York:20251112T103000
DTEND;TZID=America/New_York:20251112T120000
DTSTAMP:20260423T194744
CREATED:20250828T135941Z
LAST-MODIFIED:20251105T143936Z
UID:49171-1762943400-1762948800@tcshighschool.org
SUMMARY:Art Field Trip to The Walter's
DESCRIPTION:
URL:https://tcshighschool.org/event/art-field-trip-to-the-walters/
CATEGORIES:Field Trips
END:VEVENT
BEGIN:VEVENT
DTSTART;TZID=America/New_York:20251112T121500
DTEND;TZID=America/New_York:20251112T124500
DTSTAMP:20260423T194744
CREATED:20250814T174903Z
LAST-MODIFIED:20251112T011631Z
UID:48903-1762949700-1762951500@tcshighschool.org
SUMMARY:Lunch: Ms. Miriam (Mohamed's Mom)
DESCRIPTION:Zame( Malian fried rice dish with meat and vegetables
URL:https://tcshighschool.org/event/lunch-ms-miriam-mohameds-mom-10/
CATEGORIES:Lunch
END:VEVENT
BEGIN:VEVENT
DTSTART;TZID=America/New_York:20251113T123000
DTEND;TZID=America/New_York:20251113T130000
DTSTAMP:20260423T194744
CREATED:20250813T135909Z
LAST-MODIFIED:20250813T135909Z
UID:48887-1763037000-1763038800@tcshighschool.org
SUMMARY:Lunch: The Lyric
DESCRIPTION:
URL:https://tcshighschool.org/event/lunch-the-lyric-11/
CATEGORIES:Lunch
END:VEVENT
BEGIN:VEVENT
DTSTART;TZID=America/New_York:20251113T123000
DTEND;TZID=America/New_York:20251113T140000
DTSTAMP:20260423T194744
CREATED:20250708T132912Z
LAST-MODIFIED:20250708T132912Z
UID:48678-1763037000-1763042400@tcshighschool.org
SUMMARY:Theatre at The Lyric
DESCRIPTION:
URL:https://tcshighschool.org/event/theatre-at-the-lyric-4/
CATEGORIES:Seminar - Regular
END:VEVENT
BEGIN:VEVENT
DTSTART;TZID=America/New_York:20251114T090000
DTEND;TZID=America/New_York:20251114T110000
DTSTAMP:20260423T194744
CREATED:20250708T133732Z
LAST-MODIFIED:20250708T133732Z
UID:48712-1763110800-1763118000@tcshighschool.org
SUMMARY:Creative Writing Seminar
DESCRIPTION:
URL:https://tcshighschool.org/event/creative-writing-seminar-12/2025-11-14/
CATEGORIES:Seminar - Regular
END:VEVENT
BEGIN:VEVENT
DTSTART;TZID=America/New_York:20251114T110000
DTEND;TZID=America/New_York:20251114T113000
DTSTAMP:20260423T194744
CREATED:20250908T134521Z
LAST-MODIFIED:20251112T120803Z
UID:49337-1763118000-1763119800@tcshighschool.org
SUMMARY:Lunch: Ms. Lisa (Jason's Mom)
DESCRIPTION:chicken tenders and Mac n cheese
URL:https://tcshighschool.org/event/lunch-ms-lisa-jasons-mom-5/
CATEGORIES:Lunch
END:VEVENT
BEGIN:VEVENT
DTSTART;TZID=America/New_York:20251114T113000
DTEND;TZID=America/New_York:20251114T130000
DTSTAMP:20260423T194744
CREATED:20250815T150207Z
LAST-MODIFIED:20250930T213326Z
UID:48957-1763119800-1763125200@tcshighschool.org
SUMMARY:Conversation with JHU-CSC
DESCRIPTION:
URL:https://tcshighschool.org/event/conversation-with-jhu-csc-tentative-2/
CATEGORIES:Conversation
END:VEVENT
BEGIN:VEVENT
DTSTART;TZID=America/New_York:20251117T121500
DTEND;TZID=America/New_York:20251117T124500
DTSTAMP:20260423T194744
CREATED:20250829T163748Z
LAST-MODIFIED:20251114T184926Z
UID:49207-1763381700-1763383500@tcshighschool.org
SUMMARY:Lunch: Ms. Shakiara (Khori's Mom)
DESCRIPTION:pizzas
URL:https://tcshighschool.org/event/lunch-ms-shakiara-khoris-mom-11/
CATEGORIES:Lunch
END:VEVENT
BEGIN:VEVENT
DTSTART;TZID=America/New_York:20251117T124500
DTEND;TZID=America/New_York:20251117T134500
DTSTAMP:20260423T194744
CREATED:20250821T203926Z
LAST-MODIFIED:20251012T160755Z
UID:49021-1763383500-1763387100@tcshighschool.org
SUMMARY:Young Playwrights Seminar
DESCRIPTION:
URL:https://tcshighschool.org/event/young-playwrights-tentative-2025-10-20/2025-11-17/
CATEGORIES:Seminars - Special
END:VEVENT
BEGIN:VEVENT
DTSTART;TZID=America/New_York:20251118T100000
DTEND;TZID=America/New_York:20251118T113000
DTSTAMP:20260423T194744
CREATED:20260102T194531Z
LAST-MODIFIED:20260104T181212Z
UID:50084-1763460000-1763465400@tcshighschool.org
SUMMARY:An Inconvenient Truth
DESCRIPTION:
URL:https://tcshighschool.org/event/an-inconvenient-truth/
CATEGORIES:Movies
END:VEVENT
BEGIN:VEVENT
DTSTART;TZID=America/New_York:20251118T121500
DTEND;TZID=America/New_York:20251118T124500
DTSTAMP:20260423T194744
CREATED:20250830T011718Z
LAST-MODIFIED:20250830T011718Z
UID:49224-1763468100-1763469900@tcshighschool.org
SUMMARY:Lunch: Ms. Jacqueline (Khori's Grandmother)
DESCRIPTION:
URL:https://tcshighschool.org/event/lunch-ms-jacqueline-khoris-grandmother-2/
CATEGORIES:Lunch
END:VEVENT
BEGIN:VEVENT
DTSTART;TZID=America/New_York:20251118T124500
DTEND;TZID=America/New_York:20251118T134500
DTSTAMP:20260423T194744
CREATED:20250822T134810Z
LAST-MODIFIED:20250909T004822Z
UID:49071-1763469900-1763473500@tcshighschool.org
SUMMARY:Guest Artist: Chris LaMartina
DESCRIPTION:Raised by a pack of VCRs\, filmmaker Chris LaMartina has channelled his analog upbringing into weird horror comedies. To date\, he’s directed nine feature films including WNUF Halloween Special\, its sequel\, the Out There Halloween Mega Tape\, and the H.P. Lovecraft satire\, Call Girl of Cthulhu. \nHe previously ran the Baltimore oddities museum\, Dr. Gloom’s Crypt of Curiosities\, and alongside his wife\, Melissa\, he co-directed and co-produced the live action sequences for the analog horror video game\, Amanda the Adventurer.  \nWhen not fiddling with VHS tapes\, he plays drums in the surf punk band\, Beach Creeper.  You can find him on Instagram at @Chris.LaMartina and support his Halloween novelty record addiction by buying his stuff at WNUFhalloweenspecial.com\n  \nhttps://en.wikipedia.org/wiki/Chris_LaMartina \nhttps://www.imdb.com/name/nm1958351/
URL:https://tcshighschool.org/event/guest-artist-chris-lamartina/
CATEGORIES:Seminar - Regular
ATTACH;FMTTYPE=image/jpeg:https://tcshighschool.org/wp-content/uploads/2025/08/LaMartina_Headshot_2024______.jpg
END:VEVENT
BEGIN:VEVENT
DTSTART;TZID=America/New_York:20251119T100000
DTEND;TZID=America/New_York:20251119T113000
DTSTAMP:20260423T194744
CREATED:20260102T194621Z
LAST-MODIFIED:20260104T181303Z
UID:50086-1763546400-1763551800@tcshighschool.org
SUMMARY:An Inconvenient Sequel: Truth to Power
DESCRIPTION:
URL:https://tcshighschool.org/event/an-inconvenient-sequel-truth-to-power/
CATEGORIES:Movies
END:VEVENT
BEGIN:VEVENT
DTSTART;TZID=America/New_York:20251119T121500
DTEND;TZID=America/New_York:20251119T124500
DTSTAMP:20260423T194744
CREATED:20250821T210916Z
LAST-MODIFIED:20250821T210916Z
UID:49029-1763554500-1763556300@tcshighschool.org
SUMMARY:Lunch: Ms. Shereia (Madisyn's Mom)
DESCRIPTION:Salad\, lunchmeat sandwiches & fresh fruit
URL:https://tcshighschool.org/event/lunch-ms-shereia-madisyns-mom-3/
CATEGORIES:Lunch
END:VEVENT
BEGIN:VEVENT
DTSTART;TZID=America/New_York:20251120T100000
DTEND;TZID=America/New_York:20251120T113000
DTSTAMP:20260423T194744
CREATED:20260104T182550Z
LAST-MODIFIED:20260104T182550Z
UID:50122-1763632800-1763638200@tcshighschool.org
SUMMARY:Trump's Power: Rule of Law
DESCRIPTION:
URL:https://tcshighschool.org/event/trumps-power-rule-of-law/
CATEGORIES:Movies
END:VEVENT
BEGIN:VEVENT
DTSTART;TZID=America/New_York:20251120T121500
DTEND;TZID=America/New_York:20251120T124500
DTSTAMP:20260423T194744
CREATED:20250815T143813Z
LAST-MODIFIED:20251117T153900Z
UID:48941-1763640900-1763642700@tcshighschool.org
SUMMARY:Lunch: Berman McAleer
DESCRIPTION:Chick Fil A with salad and mac/cheese. Dessert
URL:https://tcshighschool.org/event/lunch-berman-mcaleer-21/
CATEGORIES:Lunch
END:VEVENT
BEGIN:VEVENT
DTSTART;TZID=America/New_York:20251120T124500
DTEND;TZID=America/New_York:20251120T134500
DTSTAMP:20260423T194744
CREATED:20250815T141916Z
LAST-MODIFIED:20250815T141916Z
UID:48923-1763642700-1763646300@tcshighschool.org
SUMMARY:Financial Literacy Seminar
DESCRIPTION:
URL:https://tcshighschool.org/event/financial-literacy-seminar-31/
CATEGORIES:Seminar - Regular
END:VEVENT
BEGIN:VEVENT
DTSTART;TZID=America/New_York:20251121T090000
DTEND;TZID=America/New_York:20251121T110000
DTSTAMP:20260423T194744
CREATED:20250708T133732Z
LAST-MODIFIED:20250708T133732Z
UID:48714-1763715600-1763722800@tcshighschool.org
SUMMARY:Creative Writing Seminar
DESCRIPTION:
URL:https://tcshighschool.org/event/creative-writing-seminar-12/2025-11-21/
CATEGORIES:Seminar - Regular
END:VEVENT
BEGIN:VEVENT
DTSTART;TZID=America/New_York:20251121T110000
DTEND;TZID=America/New_York:20251121T113000
DTSTAMP:20260423T194744
CREATED:20250822T125913Z
LAST-MODIFIED:20251117T140620Z
UID:49048-1763722800-1763724600@tcshighschool.org
SUMMARY:Lunch: Mr. John (Mingo's Dad)
DESCRIPTION:broccoli cheddar soup (gluten free)\nwhite chicken chili (gluten free)\nbaguette\nsalad (gluten free)
URL:https://tcshighschool.org/event/lunch-john-kelly-cord-mingos-parents-3/
CATEGORIES:Lunch
END:VEVENT
END:VCALENDAR