BEGIN:VCALENDAR
VERSION:2.0
PRODID:-//TCS High School - ECPv6.15.11//NONSGML v1.0//EN
CALSCALE:GREGORIAN
METHOD:PUBLISH
X-ORIGINAL-URL:https://tcshighschool.org
X-WR-CALDESC:Events for TCS High School
REFRESH-INTERVAL;VALUE=DURATION:PT1H
X-Robots-Tag:noindex
X-PUBLISHED-TTL:PT1H
BEGIN:VTIMEZONE
TZID:America/New_York
BEGIN:DAYLIGHT
TZOFFSETFROM:-0500
TZOFFSETTO:-0400
TZNAME:EDT
DTSTART:20240310T070000
END:DAYLIGHT
BEGIN:STANDARD
TZOFFSETFROM:-0400
TZOFFSETTO:-0500
TZNAME:EST
DTSTART:20241103T060000
END:STANDARD
BEGIN:DAYLIGHT
TZOFFSETFROM:-0500
TZOFFSETTO:-0400
TZNAME:EDT
DTSTART:20250309T070000
END:DAYLIGHT
BEGIN:STANDARD
TZOFFSETFROM:-0400
TZOFFSETTO:-0500
TZNAME:EST
DTSTART:20251102T060000
END:STANDARD
BEGIN:DAYLIGHT
TZOFFSETFROM:-0500
TZOFFSETTO:-0400
TZNAME:EDT
DTSTART:20260308T070000
END:DAYLIGHT
BEGIN:STANDARD
TZOFFSETFROM:-0400
TZOFFSETTO:-0500
TZNAME:EST
DTSTART:20261101T060000
END:STANDARD
BEGIN:DAYLIGHT
TZOFFSETFROM:-0500
TZOFFSETTO:-0400
TZNAME:EDT
DTSTART:20270314T070000
END:DAYLIGHT
BEGIN:STANDARD
TZOFFSETFROM:-0400
TZOFFSETTO:-0500
TZNAME:EST
DTSTART:20271107T060000
END:STANDARD
END:VTIMEZONE
BEGIN:VEVENT
DTSTART;TZID=America/New_York:20251211T121500
DTEND;TZID=America/New_York:20251211T124500
DTSTAMP:20260423T171910
CREATED:20250815T143906Z
LAST-MODIFIED:20250815T143906Z
UID:48943-1765455300-1765457100@tcshighschool.org
SUMMARY:Lunch: Berman McAleer
DESCRIPTION:
URL:https://tcshighschool.org/event/lunch-berman-mcaleer-22/
CATEGORIES:Lunch
END:VEVENT
BEGIN:VEVENT
DTSTART;TZID=America/New_York:20251211T124500
DTEND;TZID=America/New_York:20251211T134500
DTSTAMP:20260423T171910
CREATED:20250815T142008Z
LAST-MODIFIED:20250815T142008Z
UID:48925-1765457100-1765460700@tcshighschool.org
SUMMARY:Financial Literacy Seminar
DESCRIPTION:
URL:https://tcshighschool.org/event/financial-literacy-seminar-32/
CATEGORIES:Seminar - Regular
END:VEVENT
BEGIN:VEVENT
DTSTART;TZID=America/New_York:20251212T090000
DTEND;TZID=America/New_York:20251212T110000
DTSTAMP:20260423T171910
CREATED:20250708T133732Z
LAST-MODIFIED:20250708T133732Z
UID:48717-1765530000-1765537200@tcshighschool.org
SUMMARY:Creative Writing Seminar
DESCRIPTION:
URL:https://tcshighschool.org/event/creative-writing-seminar-12/2025-12-12/
CATEGORIES:Seminar - Regular
END:VEVENT
BEGIN:VEVENT
DTSTART;TZID=America/New_York:20251212T110000
DTEND;TZID=America/New_York:20251212T113000
DTSTAMP:20260423T171910
CREATED:20250922T130517Z
LAST-MODIFIED:20250922T130517Z
UID:49546-1765537200-1765539000@tcshighschool.org
SUMMARY:Lunch: Ms. Leslie (Kennedy's Mom)
DESCRIPTION:
URL:https://tcshighschool.org/event/lunch-ms-leslie-kennedys-mom-35/
CATEGORIES:Lunch
END:VEVENT
BEGIN:VEVENT
DTSTART;TZID=America/New_York:20251212T113000
DTEND;TZID=America/New_York:20251212T133000
DTSTAMP:20260423T171910
CREATED:20251220T154810Z
LAST-MODIFIED:20260104T180834Z
UID:49972-1765539000-1765546200@tcshighschool.org
SUMMARY:Movie: Do the Right Thing
DESCRIPTION:
URL:https://tcshighschool.org/event/movie-do-the-right-thing/
CATEGORIES:Movies
END:VEVENT
BEGIN:VEVENT
DTSTART;TZID=America/New_York:20251213T170000
DTEND;TZID=America/New_York:20251213T200000
DTSTAMP:20260423T171910
CREATED:20250910T224248Z
LAST-MODIFIED:20250910T224248Z
UID:49404-1765645200-1765656000@tcshighschool.org
SUMMARY:Holiday Open House
DESCRIPTION:
URL:https://tcshighschool.org/event/holiday-open-house-5/
CATEGORIES:Social Events
END:VEVENT
BEGIN:VEVENT
DTSTART;TZID=America/New_York:20251215T121500
DTEND;TZID=America/New_York:20251215T124500
DTSTAMP:20260423T171910
CREATED:20250813T134121Z
LAST-MODIFIED:20250813T134121Z
UID:48868-1765800900-1765802700@tcshighschool.org
SUMMARY:Lunch: Mary Louise
DESCRIPTION:
URL:https://tcshighschool.org/event/lunch-mary-louise-4/
CATEGORIES:Lunch
END:VEVENT
BEGIN:VEVENT
DTSTART;TZID=America/New_York:20251216T104500
DTEND;TZID=America/New_York:20251216T121500
DTSTAMP:20260423T171910
CREATED:20251114T154456Z
LAST-MODIFIED:20251220T152031Z
UID:49804-1765881900-1765887300@tcshighschool.org
SUMMARY:Conversation with Dr. Brian Metcalf
DESCRIPTION:
URL:https://tcshighschool.org/event/conversation-with-brian-metcalf/
CATEGORIES:Conversation
END:VEVENT
BEGIN:VEVENT
DTSTART;TZID=America/New_York:20251216T121500
DTEND;TZID=America/New_York:20251216T124500
DTSTAMP:20260423T171910
CREATED:20250814T175038Z
LAST-MODIFIED:20250814T175038Z
UID:48905-1765887300-1765889100@tcshighschool.org
SUMMARY:Lunch: Ms. Miriam (Mohamed's Mom)
DESCRIPTION:
URL:https://tcshighschool.org/event/lunch-ms-miriam-mohameds-mom-11/
CATEGORIES:Lunch
END:VEVENT
BEGIN:VEVENT
DTSTART;TZID=America/New_York:20251216T124500
DTEND;TZID=America/New_York:20251216T134500
DTSTAMP:20260423T171910
CREATED:20250826T154338Z
LAST-MODIFIED:20250919T171427Z
UID:49147-1765889100-1765892700@tcshighschool.org
SUMMARY:Guest Artist: Cheryl Fair
DESCRIPTION:Cheryl is a multi-disciplinary artist\, author\, and art &amp; culture researcher. Her work has been\npublished and exhibited in various books\, magazines\, newspapers\, galleries and websites. In\naddition to painting\, filmmaking\, writing and photography\, Cheryl has at various times been a\ncostume designer\, jewelry designer\, band and recording studio manager\, professional\nastrologer and tarot reader. She also has worked extensively with intellectual property issues\nrelated to art\, writing and music. Her formal education includes a BA from UMBC in Visual Arts\n(filmmaking/video) and a Juris Doctorate from the University of Baltimore School of Law\n(intellectual property emphasis). \nhttps://cherylfair.com/
URL:https://tcshighschool.org/event/guest-artist-cheryl-fair/
CATEGORIES:Seminar - Regular
ATTACH;FMTTYPE=image/jpeg:https://tcshighschool.org/wp-content/uploads/2025/08/Cheryl-Fair-scarfsq.jpg
END:VEVENT
BEGIN:VEVENT
DTSTART;VALUE=DATE:20251217
DTEND;VALUE=DATE:20251218
DTSTAMP:20260423T171910
CREATED:20220705T212632Z
LAST-MODIFIED:20220705T212632Z
UID:44794-1765929600-1766015999@tcshighschool.org
SUMMARY:Danny's B-day
DESCRIPTION:
URL:https://tcshighschool.org/event/dannys-b-day/2025-12-17/
CATEGORIES:Special Days
END:VEVENT
BEGIN:VEVENT
DTSTART;TZID=America/New_York:20251217T085500
DTEND;TZID=America/New_York:20251217T095500
DTSTAMP:20260423T171910
CREATED:20250708T133601Z
LAST-MODIFIED:20250708T133601Z
UID:48784-1765961700-1765965300@tcshighschool.org
SUMMARY:Physical Education
DESCRIPTION:
URL:https://tcshighschool.org/event/physical-education-8/2025-12-17/
CATEGORIES:Seminar - Regular
END:VEVENT
BEGIN:VEVENT
DTSTART;TZID=America/New_York:20251217T120000
DTEND;TZID=America/New_York:20251217T143000
DTSTAMP:20260423T171910
CREATED:20250820T101805Z
LAST-MODIFIED:20251031T113012Z
UID:48973-1765972800-1765981800@tcshighschool.org
SUMMARY:Santa Claus is Comin': A Motown Christmas Review
DESCRIPTION:
URL:https://tcshighschool.org/event/santa-claus-is-comin-a-motown-christmas-review/
CATEGORIES:Social Events
END:VEVENT
BEGIN:VEVENT
DTSTART;TZID=America/New_York:20251217T121500
DTEND;TZID=America/New_York:20251217T124500
DTSTAMP:20260423T171910
CREATED:20250821T211033Z
LAST-MODIFIED:20250821T211033Z
UID:49031-1765973700-1765975500@tcshighschool.org
SUMMARY:Lunch: Ms. Shereia (Madisyn's Mom)
DESCRIPTION:Salad\, lunchmeat sandwiches & fresh fruit
URL:https://tcshighschool.org/event/lunch-ms-shereia-madisyns-mom-4/
CATEGORIES:Lunch
END:VEVENT
BEGIN:VEVENT
DTSTART;TZID=America/New_York:20251218T093000
DTEND;TZID=America/New_York:20251218T113000
DTSTAMP:20260423T171910
CREATED:20251220T151748Z
LAST-MODIFIED:20260104T180739Z
UID:49967-1766050200-1766057400@tcshighschool.org
SUMMARY:Movie: Purple Rain
DESCRIPTION:
URL:https://tcshighschool.org/event/movie-purple-rain-2/
CATEGORIES:Movies
END:VEVENT
BEGIN:VEVENT
DTSTART;TZID=America/New_York:20251218T123000
DTEND;TZID=America/New_York:20251218T130000
DTSTAMP:20260423T171910
CREATED:20250813T135957Z
LAST-MODIFIED:20250813T135957Z
UID:48889-1766061000-1766062800@tcshighschool.org
SUMMARY:Lunch: The Lyric
DESCRIPTION:
URL:https://tcshighschool.org/event/lunch-the-lyric-12/
CATEGORIES:Lunch
END:VEVENT
BEGIN:VEVENT
DTSTART;TZID=America/New_York:20251218T123000
DTEND;TZID=America/New_York:20251218T140000
DTSTAMP:20260423T171910
CREATED:20250708T133019Z
LAST-MODIFIED:20251116T215120Z
UID:48680-1766061000-1766066400@tcshighschool.org
SUMMARY:Theatre at The Lyric w/Maria Broom
DESCRIPTION:
URL:https://tcshighschool.org/event/theatre-at-the-lyric-5/
CATEGORIES:Seminar - Regular
END:VEVENT
BEGIN:VEVENT
DTSTART;TZID=America/New_York:20251219T090000
DTEND;TZID=America/New_York:20251219T110000
DTSTAMP:20260423T171910
CREATED:20250708T133732Z
LAST-MODIFIED:20250708T133732Z
UID:48718-1766134800-1766142000@tcshighschool.org
SUMMARY:Creative Writing Seminar
DESCRIPTION:
URL:https://tcshighschool.org/event/creative-writing-seminar-12/2025-12-19/
CATEGORIES:Seminar - Regular
END:VEVENT
BEGIN:VEVENT
DTSTART;TZID=America/New_York:20251219T110000
DTEND;TZID=America/New_York:20251219T113000
DTSTAMP:20260423T171910
CREATED:20250829T163835Z
LAST-MODIFIED:20250829T163835Z
UID:49209-1766142000-1766143800@tcshighschool.org
SUMMARY:Lunch: Ms. Shakiara (Khori's Mom)
DESCRIPTION:
URL:https://tcshighschool.org/event/lunch-ms-shakiara-khoris-mom-12/
CATEGORIES:Lunch
END:VEVENT
BEGIN:VEVENT
DTSTART;TZID=America/New_York:20251219T113000
DTEND;TZID=America/New_York:20251219T130000
DTSTAMP:20260423T171910
CREATED:20250820T102327Z
LAST-MODIFIED:20251220T155014Z
UID:48981-1766143800-1766149200@tcshighschool.org
SUMMARY:Conversation with Nygel Robinson\, Greeyo & Hope Hynson
DESCRIPTION:
URL:https://tcshighschool.org/event/conversation-with-center-stage-tentative-7/
CATEGORIES:Conversation
END:VEVENT
BEGIN:VEVENT
DTSTART;VALUE=DATE:20251220
DTEND;VALUE=DATE:20260105
DTSTAMP:20260423T171910
CREATED:20250327T114052Z
LAST-MODIFIED:20250327T114052Z
UID:48159-1766188800-1767571199@tcshighschool.org
SUMMARY:Winter Break
DESCRIPTION:
URL:https://tcshighschool.org/event/winter-break-12/
CATEGORIES:Holidays
END:VEVENT
BEGIN:VEVENT
DTSTART;TZID=America/New_York:20260105T093000
DTEND;TZID=America/New_York:20260105T110000
DTSTAMP:20260423T171910
CREATED:20260103T132646Z
LAST-MODIFIED:20260104T180236Z
UID:50088-1767605400-1767610800@tcshighschool.org
SUMMARY:Eyes on the Prize: Awakenings
DESCRIPTION:
URL:https://tcshighschool.org/event/eyes-on-the-prize-awakenings/
CATEGORIES:Movies
END:VEVENT
BEGIN:VEVENT
DTSTART;TZID=America/New_York:20260105T121500
DTEND;TZID=America/New_York:20260105T124500
DTSTAMP:20260423T171910
CREATED:20251208T123029Z
LAST-MODIFIED:20260104T140651Z
UID:49930-1767615300-1767617100@tcshighschool.org
SUMMARY:Lunch: Ms. Carla (Karla & Ruth's Mom)
DESCRIPTION:pupusas
URL:https://tcshighschool.org/event/lunch-ms-carla-karla-ruths-mom-12/
CATEGORIES:Lunch
END:VEVENT
BEGIN:VEVENT
DTSTART;TZID=America/New_York:20260106T121500
DTEND;TZID=America/New_York:20260106T124500
DTSTAMP:20260423T171910
CREATED:20250824T145032Z
LAST-MODIFIED:20260102T120301Z
UID:49097-1767701700-1767703500@tcshighschool.org
SUMMARY:Lunch: Ms. Peg
DESCRIPTION:Chicken pot pie/ fruit/ dessert
URL:https://tcshighschool.org/event/lunch-ms-peg-70/
CATEGORIES:Lunch
END:VEVENT
BEGIN:VEVENT
DTSTART;TZID=America/New_York:20260106T124500
DTEND;TZID=America/New_York:20260106T134500
DTSTAMP:20260423T171910
CREATED:20251206T145947Z
LAST-MODIFIED:20251210T151811Z
UID:49920-1767703500-1767707100@tcshighschool.org
SUMMARY:Art Seminar with Skizz Cyzyk
DESCRIPTION:https://skizz.net/ \n 
URL:https://tcshighschool.org/event/art-seminar-with-skizz-cyzyk/
CATEGORIES:Seminars - Special
ATTACH;FMTTYPE=image/jpeg:https://tcshighschool.org/wp-content/uploads/2025/12/Skizz_Cyzyk-1-2-1.jpg
END:VEVENT
BEGIN:VEVENT
DTSTART;TZID=America/New_York:20260107T085500
DTEND;TZID=America/New_York:20260107T095500
DTSTAMP:20260423T171910
CREATED:20250708T133601Z
LAST-MODIFIED:20250708T133601Z
UID:48787-1767776100-1767779700@tcshighschool.org
SUMMARY:Physical Education
DESCRIPTION:
URL:https://tcshighschool.org/event/physical-education-8/2026-01-07/
CATEGORIES:Seminar - Regular
END:VEVENT
BEGIN:VEVENT
DTSTART;TZID=America/New_York:20260107T100000
DTEND;TZID=America/New_York:20260107T113000
DTSTAMP:20260423T171910
CREATED:20260103T132724Z
LAST-MODIFIED:20260104T180326Z
UID:50090-1767780000-1767785400@tcshighschool.org
SUMMARY:Eyes on the Prize: Fighting Back
DESCRIPTION:
URL:https://tcshighschool.org/event/eyes-on-the-prize-fighting-back/
CATEGORIES:Movies
END:VEVENT
BEGIN:VEVENT
DTSTART;TZID=America/New_York:20260107T121500
DTEND;TZID=America/New_York:20260107T124500
DTSTAMP:20260423T171910
CREATED:20251208T124659Z
LAST-MODIFIED:20260105T023154Z
UID:49940-1767788100-1767789900@tcshighschool.org
SUMMARY:Lunch: Ms. Lisa K. (Sponsor for many)
DESCRIPTION:Shrimp Tikka Masala with rice served with fresh fruit and ice cream bars for dessert
URL:https://tcshighschool.org/event/lunch-ms-lisa-k-sponsor-for-many/
CATEGORIES:Lunch
END:VEVENT
BEGIN:VEVENT
DTSTART;TZID=America/New_York:20260108T090000
DTEND;TZID=America/New_York:20260108T103000
DTSTAMP:20260423T171910
CREATED:20251220T165307Z
LAST-MODIFIED:20251220T165431Z
UID:49979-1767862800-1767868200@tcshighschool.org
SUMMARY:Co-Design Workshop with Dr. Greg Walsh
DESCRIPTION:
URL:https://tcshighschool.org/event/co-design-workshop-with-dr-greg-walsh/
CATEGORIES:Seminars - Special
ATTACH;FMTTYPE=image/jpeg:https://tcshighschool.org/wp-content/uploads/2025/05/download-1.jpg
END:VEVENT
BEGIN:VEVENT
DTSTART;TZID=America/New_York:20260108T121500
DTEND;TZID=America/New_York:20260108T124500
DTSTAMP:20260423T171910
CREATED:20250830T011944Z
LAST-MODIFIED:20260105T023107Z
UID:49228-1767874500-1767876300@tcshighschool.org
SUMMARY:Lunch: Ms. Jacqueline (Khori's Grandmother)
DESCRIPTION:pizza
URL:https://tcshighschool.org/event/lunch-ms-jacqueline-khoris-grandmother-4/
CATEGORIES:Lunch
END:VEVENT
END:VCALENDAR