BEGIN:VCALENDAR
VERSION:2.0
PRODID:-//TCS High School - ECPv6.15.11//NONSGML v1.0//EN
CALSCALE:GREGORIAN
METHOD:PUBLISH
X-WR-CALNAME:TCS High School
X-ORIGINAL-URL:https://tcshighschool.org
X-WR-CALDESC:Events for TCS High School
REFRESH-INTERVAL;VALUE=DURATION:PT1H
X-Robots-Tag:noindex
X-PUBLISHED-TTL:PT1H
BEGIN:VTIMEZONE
TZID:America/New_York
BEGIN:DAYLIGHT
TZOFFSETFROM:-0500
TZOFFSETTO:-0400
TZNAME:EDT
DTSTART:20250309T070000
END:DAYLIGHT
BEGIN:STANDARD
TZOFFSETFROM:-0400
TZOFFSETTO:-0500
TZNAME:EST
DTSTART:20251102T060000
END:STANDARD
BEGIN:DAYLIGHT
TZOFFSETFROM:-0500
TZOFFSETTO:-0400
TZNAME:EDT
DTSTART:20260308T070000
END:DAYLIGHT
BEGIN:STANDARD
TZOFFSETFROM:-0400
TZOFFSETTO:-0500
TZNAME:EST
DTSTART:20261101T060000
END:STANDARD
BEGIN:DAYLIGHT
TZOFFSETFROM:-0500
TZOFFSETTO:-0400
TZNAME:EDT
DTSTART:20270314T070000
END:DAYLIGHT
BEGIN:STANDARD
TZOFFSETFROM:-0400
TZOFFSETTO:-0500
TZNAME:EST
DTSTART:20271107T060000
END:STANDARD
END:VTIMEZONE
BEGIN:VEVENT
DTSTART;TZID=America/New_York:20260504T234500
DTEND;TZID=America/New_York:20260504T234500
DTSTAMP:20260423T120113
CREATED:20251208T124457Z
LAST-MODIFIED:20260414T153246Z
UID:49938-1777938300-1777938300@tcshighschool.org
SUMMARY:Lunch: Ms. Carla (Karla & Ruth's Mom)
DESCRIPTION:
URL:https://tcshighschool.org/event/lunch-ms-carla-karla-ruths-mom-16/
CATEGORIES:Lunch
END:VEVENT
BEGIN:VEVENT
DTSTART;TZID=America/New_York:20260505T110000
DTEND;TZID=America/New_York:20260505T123000
DTSTAMP:20260423T120113
CREATED:20260410T172148Z
LAST-MODIFIED:20260410T172204Z
UID:50710-1777978800-1777984200@tcshighschool.org
SUMMARY:Design Workshop with Greg Walsh (tentative)
DESCRIPTION:
URL:https://tcshighschool.org/event/design-workshop-with-greg-walsh-tentative-2/
CATEGORIES:Seminars - Special
END:VEVENT
BEGIN:VEVENT
DTSTART;TZID=America/New_York:20260505T123000
DTEND;TZID=America/New_York:20260505T130000
DTSTAMP:20260423T120113
CREATED:20251229T203627Z
LAST-MODIFIED:20260410T171744Z
UID:50029-1777984200-1777986000@tcshighschool.org
SUMMARY:Lunch: Ms. Rina (Hector's Mother)
DESCRIPTION:
URL:https://tcshighschool.org/event/lunch-ms-rina-hectors-mother/
CATEGORIES:Lunch
END:VEVENT
BEGIN:VEVENT
DTSTART;TZID=America/New_York:20260505T124500
DTEND;TZID=America/New_York:20260505T134500
DTSTAMP:20260423T120113
CREATED:20260331T151412Z
LAST-MODIFIED:20260331T151412Z
UID:50656-1777985100-1777988700@tcshighschool.org
SUMMARY:Experimental Film Seminar
DESCRIPTION:
URL:https://tcshighschool.org/event/experimental-film-seminar/2026-05-05/
CATEGORIES:Seminars - Special
END:VEVENT
BEGIN:VEVENT
DTSTART;VALUE=DATE:20260506
DTEND;VALUE=DATE:20260507
DTSTAMP:20260423T120113
CREATED:20220705T212821Z
LAST-MODIFIED:20220705T212821Z
UID:45599-1778025600-1778111999@tcshighschool.org
SUMMARY:Ethan's B-day
DESCRIPTION:
URL:https://tcshighschool.org/event/e-ethans-b-day/2026-05-06/
CATEGORIES:Special Days
END:VEVENT
BEGIN:VEVENT
DTSTART;TZID=America/New_York:20260506T085500
DTEND;TZID=America/New_York:20260506T095500
DTSTAMP:20260423T120113
CREATED:20250708T133601Z
LAST-MODIFIED:20250708T133601Z
UID:48804-1778057700-1778061300@tcshighschool.org
SUMMARY:Physical Education
DESCRIPTION:
URL:https://tcshighschool.org/event/physical-education-8/2026-05-06/
CATEGORIES:Seminar - Regular
END:VEVENT
BEGIN:VEVENT
DTSTART;TZID=America/New_York:20260506T113000
DTEND;TZID=America/New_York:20260506T150000
DTSTAMP:20260423T120113
CREATED:20250820T101957Z
LAST-MODIFIED:20260406T171611Z
UID:48977-1778067000-1778079600@tcshighschool.org
SUMMARY:Holes play at Center Stage
DESCRIPTION:
URL:https://tcshighschool.org/event/holes-play-at-center-stage/
CATEGORIES:Special Days
ATTACH;FMTTYPE=image/jpeg:https://tcshighschool.org/wp-content/uploads/2025/08/holes-web_900-x-490-2.jpg
END:VEVENT
BEGIN:VEVENT
DTSTART;TZID=America/New_York:20260506T121500
DTEND;TZID=America/New_York:20260506T124500
DTSTAMP:20260423T120113
CREATED:20250822T130501Z
LAST-MODIFIED:20250822T133641Z
UID:49060-1778069700-1778071500@tcshighschool.org
SUMMARY:Lunch: Mr. John (Mingo's Dad)
DESCRIPTION:
URL:https://tcshighschool.org/event/lunch-john-kelly-cord-mingos-parents-9/
CATEGORIES:Lunch
END:VEVENT
BEGIN:VEVENT
DTSTART;TZID=America/New_York:20260507T121500
DTEND;TZID=America/New_York:20260507T124500
DTSTAMP:20260423T120113
CREATED:20260116T114644Z
LAST-MODIFIED:20260116T114644Z
UID:50210-1778156100-1778157900@tcshighschool.org
SUMMARY:Lunch: Ms. Charlotte (Rylee's Mom)
DESCRIPTION:
URL:https://tcshighschool.org/event/lunch-ms-charlotte-rylees-mom-10/
CATEGORIES:Lunch
END:VEVENT
BEGIN:VEVENT
DTSTART;VALUE=DATE:20260508
DTEND;VALUE=DATE:20260509
DTSTAMP:20260423T120113
CREATED:20210814T004542Z
LAST-MODIFIED:20210814T004542Z
UID:45601-1778198400-1778284799@tcshighschool.org
SUMMARY:Ms. Peggy's B-day
DESCRIPTION:
URL:https://tcshighschool.org/event/ms-peggys-b-day/2026-05-08/
CATEGORIES:Special Days
END:VEVENT
BEGIN:VEVENT
DTSTART;TZID=America/New_York:20260508T090000
DTEND;TZID=America/New_York:20260508T110000
DTSTAMP:20260423T120113
CREATED:20250708T133732Z
LAST-MODIFIED:20250708T133732Z
UID:48757-1778230800-1778238000@tcshighschool.org
SUMMARY:Creative Writing Seminar
DESCRIPTION:
URL:https://tcshighschool.org/event/creative-writing-seminar-12-2025-11-28-2026-05-08/
CATEGORIES:Seminar - Regular
END:VEVENT
BEGIN:VEVENT
DTSTART;TZID=America/New_York:20260508T110000
DTEND;TZID=America/New_York:20260508T113000
DTSTAMP:20260423T120113
CREATED:20250830T121501Z
LAST-MODIFIED:20250830T121501Z
UID:49253-1778238000-1778239800@tcshighschool.org
SUMMARY:Lunch: Ms. Rita (Ethan's Mom)
DESCRIPTION:
URL:https://tcshighschool.org/event/lunch-ms-rita-ethans-mom-34/
CATEGORIES:Lunch
END:VEVENT
BEGIN:VEVENT
DTSTART;TZID=America/New_York:20260508T113000
DTEND;TZID=America/New_York:20260508T130000
DTSTAMP:20260423T120113
CREATED:20260409T141257Z
LAST-MODIFIED:20260409T141257Z
UID:50704-1778239800-1778245200@tcshighschool.org
SUMMARY:Conversation with Mike Gallo
DESCRIPTION:
URL:https://tcshighschool.org/event/conversation-with-mike-gallo-7/
CATEGORIES:Conversation
END:VEVENT
BEGIN:VEVENT
DTSTART;VALUE=DATE:20260509
DTEND;VALUE=DATE:20260510
DTSTAMP:20260423T120113
CREATED:20260205T114026Z
LAST-MODIFIED:20260205T114026Z
UID:50334-1778284800-1778371199@tcshighschool.org
SUMMARY:Young Playwrights Festival
DESCRIPTION:
URL:https://tcshighschool.org/event/young-playwrights-festival-3/
CATEGORIES:Social Events
END:VEVENT
BEGIN:VEVENT
DTSTART;VALUE=DATE:20260510
DTEND;VALUE=DATE:20260511
DTSTAMP:20260423T120113
CREATED:20251204T123351Z
LAST-MODIFIED:20251204T123351Z
UID:49905-1778371200-1778457599@tcshighschool.org
SUMMARY:Young Playwrights Festival at Center Stage
DESCRIPTION:
URL:https://tcshighschool.org/event/young-playwrights-festival-at-center-stage-2/
CATEGORIES:Social Events
END:VEVENT
BEGIN:VEVENT
DTSTART;TZID=America/New_York:20260511T113000
DTEND;TZID=America/New_York:20260511T143000
DTSTAMP:20260423T120113
CREATED:20250815T143448Z
LAST-MODIFIED:20260421T110237Z
UID:48935-1778499000-1778509800@tcshighschool.org
SUMMARY:Financial Literacy Seminar
DESCRIPTION:
URL:https://tcshighschool.org/event/financial-literacy-seminar-37/
CATEGORIES:Field Trips
END:VEVENT
BEGIN:VEVENT
DTSTART;TZID=America/New_York:20260511T120000
DTEND;TZID=America/New_York:20260511T123000
DTSTAMP:20260423T120113
CREATED:20250815T144329Z
LAST-MODIFIED:20250815T144329Z
UID:48953-1778500800-1778502600@tcshighschool.org
SUMMARY:Lunch: Berman McAleer
DESCRIPTION:
URL:https://tcshighschool.org/event/lunch-berman-mcaleer-27/
CATEGORIES:Lunch
END:VEVENT
BEGIN:VEVENT
DTSTART;TZID=America/New_York:20260512T103000
DTEND;TZID=America/New_York:20260512T120000
DTSTAMP:20260423T120113
CREATED:20250820T102459Z
LAST-MODIFIED:20260421T110310Z
UID:48985-1778581800-1778587200@tcshighschool.org
SUMMARY:Conversation with Center Stage
DESCRIPTION:
URL:https://tcshighschool.org/event/conversation-with-center-stage-tentative-9/
CATEGORIES:Conversation
END:VEVENT
BEGIN:VEVENT
DTSTART;TZID=America/New_York:20260512T120000
DTEND;TZID=America/New_York:20260512T123000
DTSTAMP:20260423T120113
CREATED:20250830T012313Z
LAST-MODIFIED:20260421T110334Z
UID:49236-1778587200-1778589000@tcshighschool.org
SUMMARY:Lunch: Ms. Jacqueline (Khori's Grandmother)
DESCRIPTION:
URL:https://tcshighschool.org/event/lunch-ms-jacqueline-khoris-grandmother-8/
CATEGORIES:Lunch
END:VEVENT
BEGIN:VEVENT
DTSTART;TZID=America/New_York:20260513T085500
DTEND;TZID=America/New_York:20260513T095500
DTSTAMP:20260423T120113
CREATED:20250708T133601Z
LAST-MODIFIED:20250708T133601Z
UID:48805-1778662500-1778666100@tcshighschool.org
SUMMARY:Physical Education
DESCRIPTION:
URL:https://tcshighschool.org/event/physical-education-8/2026-05-13/
CATEGORIES:Seminar - Regular
END:VEVENT
BEGIN:VEVENT
DTSTART;TZID=America/New_York:20260513T121500
DTEND;TZID=America/New_York:20260513T124500
DTSTAMP:20260423T120113
CREATED:20250814T175705Z
LAST-MODIFIED:20250814T175705Z
UID:48915-1778674500-1778676300@tcshighschool.org
SUMMARY:Lunch: Ms. Miriam (Mohamed's Mom)
DESCRIPTION:
URL:https://tcshighschool.org/event/lunch-ms-miriam-mohameds-mom-16/
CATEGORIES:Lunch
END:VEVENT
BEGIN:VEVENT
DTSTART;TZID=America/New_York:20260513T124500
DTEND;TZID=America/New_York:20260513T134500
DTSTAMP:20260423T120113
CREATED:20260331T151412Z
LAST-MODIFIED:20260331T151520Z
UID:50657-1778676300-1778679900@tcshighschool.org
SUMMARY:Experimental Film Seminar
DESCRIPTION:
URL:https://tcshighschool.org/event/experimental-film-seminar-2026-05-12/
CATEGORIES:Seminars - Special
END:VEVENT
BEGIN:VEVENT
DTSTART;TZID=America/New_York:20260514T123000
DTEND;TZID=America/New_York:20260514T130000
DTSTAMP:20260423T120113
CREATED:20250813T140400Z
LAST-MODIFIED:20250813T140400Z
UID:48897-1778761800-1778763600@tcshighschool.org
SUMMARY:Lunch: The Lyric
DESCRIPTION:
URL:https://tcshighschool.org/event/lunch-the-lyric-16/
CATEGORIES:Lunch
END:VEVENT
BEGIN:VEVENT
DTSTART;TZID=America/New_York:20260514T123000
DTEND;TZID=America/New_York:20260514T140000
DTSTAMP:20260423T120113
CREATED:20250708T133407Z
LAST-MODIFIED:20260421T110412Z
UID:48688-1778761800-1778767200@tcshighschool.org
SUMMARY:Theatre at The Lyric
DESCRIPTION:
URL:https://tcshighschool.org/event/theatre-at-the-lyric-9/
CATEGORIES:Field Trips,Seminar - Regular
END:VEVENT
BEGIN:VEVENT
DTSTART;TZID=America/New_York:20260515T090000
DTEND;TZID=America/New_York:20260515T110000
DTSTAMP:20260423T120113
CREATED:20250708T133732Z
LAST-MODIFIED:20250708T133732Z
UID:48758-1778835600-1778842800@tcshighschool.org
SUMMARY:Creative Writing Seminar
DESCRIPTION:
URL:https://tcshighschool.org/event/creative-writing-seminar-12-2025-11-28-2026-05-15/
CATEGORIES:Seminar - Regular
END:VEVENT
BEGIN:VEVENT
DTSTART;TZID=America/New_York:20260515T110000
DTEND;TZID=America/New_York:20260515T113000
DTSTAMP:20260423T120113
CREATED:20251229T203824Z
LAST-MODIFIED:20251229T203824Z
UID:50031-1778842800-1778844600@tcshighschool.org
SUMMARY:Lunch: Ms. Lisa B (Jason's Mom)
DESCRIPTION:
URL:https://tcshighschool.org/event/lunch-ms-lisa-b-jasons-mom-3/
CATEGORIES:Lunch
END:VEVENT
BEGIN:VEVENT
DTSTART;TZID=America/New_York:20260518T121500
DTEND;TZID=America/New_York:20260518T124500
DTSTAMP:20260423T120113
CREATED:20250813T134329Z
LAST-MODIFIED:20250815T144718Z
UID:48870-1779106500-1779108300@tcshighschool.org
SUMMARY:Lunch: Mary Louise
DESCRIPTION:
URL:https://tcshighschool.org/event/lunch-mary-louise-5/
CATEGORIES:Lunch
END:VEVENT
BEGIN:VEVENT
DTSTART;TZID=America/New_York:20260519T110000
DTEND;TZID=America/New_York:20260519T123000
DTSTAMP:20260423T120113
CREATED:20260410T172240Z
LAST-MODIFIED:20260421T110149Z
UID:50712-1779188400-1779193800@tcshighschool.org
SUMMARY:Design Workshop with Greg Walsh
DESCRIPTION:
URL:https://tcshighschool.org/event/design-workshop-with-greg-walsh-tentative-3/
CATEGORIES:Seminars - Special
END:VEVENT
BEGIN:VEVENT
DTSTART;TZID=America/New_York:20260519T121500
DTEND;TZID=America/New_York:20260519T124500
DTSTAMP:20260423T120113
CREATED:20250824T150046Z
LAST-MODIFIED:20250824T150046Z
UID:49114-1779192900-1779194700@tcshighschool.org
SUMMARY:Lunch: Ms. Peg
DESCRIPTION:
URL:https://tcshighschool.org/event/lunch-ms-peg-78/
CATEGORIES:Lunch
END:VEVENT
BEGIN:VEVENT
DTSTART;TZID=America/New_York:20260519T124500
DTEND;TZID=America/New_York:20260519T134500
DTSTAMP:20260423T120113
CREATED:20260331T151412Z
LAST-MODIFIED:20260331T151412Z
UID:50658-1779194700-1779198300@tcshighschool.org
SUMMARY:Experimental Film Seminar
DESCRIPTION:
URL:https://tcshighschool.org/event/experimental-film-seminar/2026-05-19/
CATEGORIES:Seminars - Special
END:VEVENT
END:VCALENDAR