BEGIN:VCALENDAR
VERSION:2.0
PRODID:-//TCS High School - ECPv6.15.11//NONSGML v1.0//EN
CALSCALE:GREGORIAN
METHOD:PUBLISH
X-WR-CALNAME:TCS High School
X-ORIGINAL-URL:https://tcshighschool.org
X-WR-CALDESC:Events for TCS High School
REFRESH-INTERVAL;VALUE=DURATION:PT1H
X-Robots-Tag:noindex
X-PUBLISHED-TTL:PT1H
BEGIN:VTIMEZONE
TZID:America/New_York
BEGIN:DAYLIGHT
TZOFFSETFROM:-0500
TZOFFSETTO:-0400
TZNAME:EDT
DTSTART:20240310T070000
END:DAYLIGHT
BEGIN:STANDARD
TZOFFSETFROM:-0400
TZOFFSETTO:-0500
TZNAME:EST
DTSTART:20241103T060000
END:STANDARD
BEGIN:DAYLIGHT
TZOFFSETFROM:-0500
TZOFFSETTO:-0400
TZNAME:EDT
DTSTART:20250309T070000
END:DAYLIGHT
BEGIN:STANDARD
TZOFFSETFROM:-0400
TZOFFSETTO:-0500
TZNAME:EST
DTSTART:20251102T060000
END:STANDARD
BEGIN:DAYLIGHT
TZOFFSETFROM:-0500
TZOFFSETTO:-0400
TZNAME:EDT
DTSTART:20260308T070000
END:DAYLIGHT
BEGIN:STANDARD
TZOFFSETFROM:-0400
TZOFFSETTO:-0500
TZNAME:EST
DTSTART:20261101T060000
END:STANDARD
END:VTIMEZONE
BEGIN:VEVENT
DTSTART;TZID=America/New_York:20250527T110000
DTEND;TZID=America/New_York:20250527T120000
DTSTAMP:20260424T072723
CREATED:20250119T234340Z
LAST-MODIFIED:20250119T234340Z
UID:47482-1748343600-1748347200@tcshighschool.org
SUMMARY:ASL II
DESCRIPTION:
URL:https://tcshighschool.org/event/asl-ii-7/2025-05-27/
CATEGORIES:Seminar - Regular
END:VEVENT
BEGIN:VEVENT
DTSTART;VALUE=DATE:20250526
DTEND;VALUE=DATE:20250527
DTSTAMP:20260424T072723
CREATED:20240722T192251Z
LAST-MODIFIED:20240722T192251Z
UID:45787-1748217600-1748303999@tcshighschool.org
SUMMARY:Memorial Day Holiday
DESCRIPTION:
URL:https://tcshighschool.org/event/memorial-day-holiday-7/
CATEGORIES:Holidays
END:VEVENT
BEGIN:VEVENT
DTSTART;TZID=America/New_York:20250523T113000
DTEND;TZID=America/New_York:20250523T130000
DTSTAMP:20260424T072723
CREATED:20250520T195149Z
LAST-MODIFIED:20250520T195149Z
UID:48599-1747999800-1748005200@tcshighschool.org
SUMMARY:Movie: La Bamba
DESCRIPTION:
URL:https://tcshighschool.org/event/movie-la-bamba-3/
CATEGORIES:Movies
END:VEVENT
BEGIN:VEVENT
DTSTART;TZID=America/New_York:20250523T110000
DTEND;TZID=America/New_York:20250523T113000
DTSTAMP:20260424T072723
CREATED:20240922T223950Z
LAST-MODIFIED:20250520T234132Z
UID:46564-1747998000-1747999800@tcshighschool.org
SUMMARY:Lunch: Ms. Leslie (Kennedy's Mom)
DESCRIPTION:spaghetti.
URL:https://tcshighschool.org/event/lunch-ms-leslie-kennedys-mom-25/
CATEGORIES:Lunch
END:VEVENT
BEGIN:VEVENT
DTSTART;TZID=America/New_York:20250523T090000
DTEND;TZID=America/New_York:20250523T110000
DTSTAMP:20260424T072723
CREATED:20250110T145117Z
LAST-MODIFIED:20250428T133026Z
UID:47411-1747990800-1747998000@tcshighschool.org
SUMMARY:Creative Writing
DESCRIPTION:
URL:https://tcshighschool.org/event/creative-writing-12/2025-05-23/
CATEGORIES:Seminar - Regular
END:VEVENT
BEGIN:VEVENT
DTSTART;VALUE=DATE:20250523
DTEND;VALUE=DATE:20250524
DTSTAMP:20260424T072723
CREATED:20210814T004758Z
LAST-MODIFIED:20210814T004758Z
UID:48624-1747958400-1748044799@tcshighschool.org
SUMMARY:Jordan's B-day
DESCRIPTION:
URL:https://tcshighschool.org/event/jordans-b-day-4/2025-05-23/
CATEGORIES:Special Days
END:VEVENT
BEGIN:VEVENT
DTSTART;TZID=America/New_York:20250522T124500
DTEND;TZID=America/New_York:20250522T140000
DTSTAMP:20260424T072723
CREATED:20250409T214143Z
LAST-MODIFIED:20250519T145838Z
UID:48327-1747917900-1747922400@tcshighschool.org
SUMMARY:Conversation with Imani Yasin
DESCRIPTION:
URL:https://tcshighschool.org/event/conversation-with-imani-yasin-5/
CATEGORIES:Conversation
ATTACH;FMTTYPE=image/jpeg:https://tcshighschool.org/wp-content/uploads/2025/04/download-2-1.jpg
END:VEVENT
BEGIN:VEVENT
DTSTART;TZID=America/New_York:20250522T121500
DTEND;TZID=America/New_York:20250522T124500
DTSTAMP:20260424T072723
CREATED:20250307T122929Z
LAST-MODIFIED:20250307T122929Z
UID:48030-1747916100-1747917900@tcshighschool.org
SUMMARY:Lunch: Ms. Jackie (Khori's Grandmother)
DESCRIPTION:
URL:https://tcshighschool.org/event/lunch-ms-jackie-khoris-grandmother/
CATEGORIES:Lunch
END:VEVENT
BEGIN:VEVENT
DTSTART;TZID=America/New_York:20250522T103000
DTEND;TZID=America/New_York:20250522T123000
DTSTAMP:20260424T072723
CREATED:20250523T002811Z
LAST-MODIFIED:20250523T002811Z
UID:48617-1747909800-1747917000@tcshighschool.org
SUMMARY:Conversation with Paul Coates
DESCRIPTION:
URL:https://tcshighschool.org/event/conversation-with-paul-coates-3/
CATEGORIES:Conversation
END:VEVENT
BEGIN:VEVENT
DTSTART;TZID=America/New_York:20250522T090000
DTEND;TZID=America/New_York:20250522T103000
DTSTAMP:20260424T072723
CREATED:20250515T172226Z
LAST-MODIFIED:20250523T002922Z
UID:48564-1747904400-1747909800@tcshighschool.org
SUMMARY:Documentary: 20 Days in Mariupol
DESCRIPTION:
URL:https://tcshighschool.org/event/documentary-29-days-in-mariupol/
CATEGORIES:Movies
ATTACH;FMTTYPE=image/jpeg:https://tcshighschool.org/wp-content/uploads/2025/05/images.jpg
END:VEVENT
BEGIN:VEVENT
DTSTART;TZID=America/New_York:20250521T134500
DTEND;TZID=America/New_York:20250521T150000
DTSTAMP:20260424T072723
CREATED:20250409T145858Z
LAST-MODIFIED:20250424T150446Z
UID:48322-1747835100-1747839600@tcshighschool.org
SUMMARY:Conversation with Baltimore City Comptroller Bill Henry
DESCRIPTION:
URL:https://tcshighschool.org/event/conversation-with-baltimore-city-comptroller-bill-henry-tentative/
CATEGORIES:Conversation
ATTACH;FMTTYPE=image/jpeg:https://tcshighschool.org/wp-content/uploads/2025/04/download.jpg
END:VEVENT
BEGIN:VEVENT
DTSTART;TZID=America/New_York:20250521T124500
DTEND;TZID=America/New_York:20250521T134500
DTSTAMP:20260424T072723
CREATED:20240925T111056Z
LAST-MODIFIED:20250303T173014Z
UID:47942-1747831500-1747835100@tcshighschool.org
SUMMARY:Art Seminar
DESCRIPTION:
URL:https://tcshighschool.org/event/art-seminar-7-2024-10-09-2025-02-26-2025-05-21/
CATEGORIES:Seminar - Regular
END:VEVENT
BEGIN:VEVENT
DTSTART;TZID=America/New_York:20250521T121500
DTEND;TZID=America/New_York:20250521T124500
DTSTAMP:20260424T072723
CREATED:20240814T172556Z
LAST-MODIFIED:20250520T234306Z
UID:46158-1747829700-1747831500@tcshighschool.org
SUMMARY:Lunch: The Avents (Lyric's Family)
DESCRIPTION:sandwiches
URL:https://tcshighschool.org/event/lunch-the-avents-lyrics-family-5/
CATEGORIES:Lunch
END:VEVENT
BEGIN:VEVENT
DTSTART;TZID=America/New_York:20250521T085500
DTEND;TZID=America/New_York:20250521T095500
DTSTAMP:20260424T072723
CREATED:20250409T132253Z
LAST-MODIFIED:20250409T132253Z
UID:48316-1747817700-1747821300@tcshighschool.org
SUMMARY:Physical Education
DESCRIPTION:
URL:https://tcshighschool.org/event/physical-education-7/2025-05-21/
CATEGORIES:Seminar - Regular
END:VEVENT
BEGIN:VEVENT
DTSTART;TZID=America/New_York:20250520T124500
DTEND;TZID=America/New_York:20250520T134500
DTSTAMP:20260424T072723
CREATED:20250119T234707Z
LAST-MODIFIED:20250211T000043Z
UID:47493-1747745100-1747748700@tcshighschool.org
SUMMARY:ASL I
DESCRIPTION:
URL:https://tcshighschool.org/event/asl-i-12-2025-04-08/2025-05-20/
CATEGORIES:Seminar - Regular
END:VEVENT
BEGIN:VEVENT
DTSTART;TZID=America/New_York:20250520T121500
DTEND;TZID=America/New_York:20250520T124500
DTSTAMP:20260424T072723
CREATED:20240801T213118Z
LAST-MODIFIED:20240801T213118Z
UID:45988-1747743300-1747745100@tcshighschool.org
SUMMARY:Lunch: Ms. Peg
DESCRIPTION:
URL:https://tcshighschool.org/event/lunch-ms-peg-62/2025-05-20/
CATEGORIES:Lunch
END:VEVENT
BEGIN:VEVENT
DTSTART;TZID=America/New_York:20250520T110000
DTEND;TZID=America/New_York:20250520T120000
DTSTAMP:20260424T072723
CREATED:20250119T234340Z
LAST-MODIFIED:20250119T234340Z
UID:47481-1747738800-1747742400@tcshighschool.org
SUMMARY:ASL II
DESCRIPTION:
URL:https://tcshighschool.org/event/asl-ii-7/2025-05-20/
CATEGORIES:Seminar - Regular
END:VEVENT
BEGIN:VEVENT
DTSTART;TZID=America/New_York:20250520T090000
DTEND;TZID=America/New_York:20250520T100000
DTSTAMP:20260424T072723
CREATED:20250520T194855Z
LAST-MODIFIED:20250520T194938Z
UID:48596-1747731600-1747735200@tcshighschool.org
SUMMARY:Documentary: Echoes of a Lost Gaza
DESCRIPTION:
URL:https://tcshighschool.org/event/movie-echoes-of-a-lost-gaza/
CATEGORIES:Movies
END:VEVENT
BEGIN:VEVENT
DTSTART;VALUE=DATE:20250520
DTEND;VALUE=DATE:20250521
DTSTAMP:20260424T072723
CREATED:20250603T121112Z
LAST-MODIFIED:20250603T121112Z
UID:48654-1747699200-1747785599@tcshighschool.org
SUMMARY:Shadow Day
DESCRIPTION:
URL:https://tcshighschool.org/event/shadow-day-61/
CATEGORIES:Shadow Days
END:VEVENT
BEGIN:VEVENT
DTSTART;TZID=America/New_York:20250519T120000
DTEND;TZID=America/New_York:20250519T123000
DTSTAMP:20260424T072723
CREATED:20250504T212738Z
LAST-MODIFIED:20250504T212738Z
UID:48512-1747656000-1747657800@tcshighschool.org
SUMMARY:Lunch: Berman McAleer
DESCRIPTION:
URL:https://tcshighschool.org/event/lunch-berman-mcaleer-18/
CATEGORIES:Lunch
END:VEVENT
BEGIN:VEVENT
DTSTART;TZID=America/New_York:20250519T113000
DTEND;TZID=America/New_York:20250519T143000
DTSTAMP:20260424T072723
CREATED:20240722T191232Z
LAST-MODIFIED:20250523T003030Z
UID:45776-1747654200-1747665000@tcshighschool.org
SUMMARY:Financial Literacy Field Trip to Berman McAleer
DESCRIPTION:
URL:https://tcshighschool.org/event/financial-literacy-9-2025-05-15/
CATEGORIES:Field Trips
END:VEVENT
BEGIN:VEVENT
DTSTART;TZID=America/New_York:20250516T113000
DTEND;TZID=America/New_York:20250516T130000
DTSTAMP:20260424T072723
CREATED:20250428T154552Z
LAST-MODIFIED:20250510T014336Z
UID:48476-1747395000-1747400400@tcshighschool.org
SUMMARY:BMA Tour: Heavy with History: Devin Allen and the Baltimore Uprising
DESCRIPTION:https://artbma.org/about/press/release/bma-presents-heavy-with-history-devin-allen-and-the-baltimore-uprising
URL:https://tcshighschool.org/event/bma-tour-heavy-with-history-devin-allen-and-the-baltimore-uprising/
CATEGORIES:Field Trips
ATTACH;FMTTYPE=image/jpeg:https://tcshighschool.org/wp-content/uploads/2025/04/download-3.jpg
END:VEVENT
BEGIN:VEVENT
DTSTART;TZID=America/New_York:20250516T110000
DTEND;TZID=America/New_York:20250516T113000
DTSTAMP:20260424T072723
CREATED:20250307T123346Z
LAST-MODIFIED:20250515T112007Z
UID:48034-1747393200-1747395000@tcshighschool.org
SUMMARY:Lunch: Ms. Kyna (Danny's Mom)
DESCRIPTION:chicken tacos
URL:https://tcshighschool.org/event/lunch-ms-kyna-dannys-mom-7/
CATEGORIES:Lunch
END:VEVENT
BEGIN:VEVENT
DTSTART;TZID=America/New_York:20250516T090000
DTEND;TZID=America/New_York:20250516T110000
DTSTAMP:20260424T072723
CREATED:20250110T145117Z
LAST-MODIFIED:20250428T133019Z
UID:47410-1747386000-1747393200@tcshighschool.org
SUMMARY:Creative Writing
DESCRIPTION:
URL:https://tcshighschool.org/event/creative-writing-12/2025-05-16/
CATEGORIES:Seminar - Regular
END:VEVENT
BEGIN:VEVENT
DTSTART;TZID=America/New_York:20250515T124500
DTEND;TZID=America/New_York:20250515T134500
DTSTAMP:20260424T072723
CREATED:20250515T170911Z
LAST-MODIFIED:20250515T170911Z
UID:48562-1747313100-1747316700@tcshighschool.org
SUMMARY:Documentary: Earth Emergency
DESCRIPTION:
URL:https://tcshighschool.org/event/documentary-earth-emergency/
CATEGORIES:Movies
END:VEVENT
BEGIN:VEVENT
DTSTART;TZID=America/New_York:20250515T100000
DTEND;TZID=America/New_York:20250515T113000
DTSTAMP:20260424T072723
CREATED:20250504T142806Z
LAST-MODIFIED:20250513T204420Z
UID:48509-1747303200-1747308600@tcshighschool.org
SUMMARY:Conversation with Dr. Greg Walsh
DESCRIPTION:
URL:https://tcshighschool.org/event/conversation-with-dr-greg-walsh-tentative/
CATEGORIES:Conversation
ATTACH;FMTTYPE=image/jpeg:https://tcshighschool.org/wp-content/uploads/2025/05/download-1.jpg
END:VEVENT
BEGIN:VEVENT
DTSTART;TZID=America/New_York:20250514T124500
DTEND;TZID=America/New_York:20250514T134500
DTSTAMP:20260424T072723
CREATED:20240925T111056Z
LAST-MODIFIED:20240925T111056Z
UID:48129-1747226700-1747230300@tcshighschool.org
SUMMARY:Art Seminar
DESCRIPTION:
URL:https://tcshighschool.org/event/art-seminar-7-2024-10-09-2025-03-26-2025-05-14/
CATEGORIES:Seminar - Regular
END:VEVENT
BEGIN:VEVENT
DTSTART;TZID=America/New_York:20250514T121500
DTEND;TZID=America/New_York:20250514T124500
DTSTAMP:20260424T072723
CREATED:20240814T180359Z
LAST-MODIFIED:20240814T180359Z
UID:46198-1747224900-1747226700@tcshighschool.org
SUMMARY:Lunch: The Bancrofts
DESCRIPTION:
URL:https://tcshighschool.org/event/lunch-the-bancrofts-7/
CATEGORIES:Lunch
END:VEVENT
BEGIN:VEVENT
DTSTART;TZID=America/New_York:20250514T085500
DTEND;TZID=America/New_York:20250514T095500
DTSTAMP:20260424T072723
CREATED:20250409T132253Z
LAST-MODIFIED:20250409T132253Z
UID:48315-1747212900-1747216500@tcshighschool.org
SUMMARY:Physical Education
DESCRIPTION:
URL:https://tcshighschool.org/event/physical-education-7/2025-05-14/
CATEGORIES:Seminar - Regular
END:VEVENT
BEGIN:VEVENT
DTSTART;TZID=America/New_York:20250513T124500
DTEND;TZID=America/New_York:20250513T134500
DTSTAMP:20260424T072723
CREATED:20250119T234707Z
LAST-MODIFIED:20250211T000035Z
UID:47492-1747140300-1747143900@tcshighschool.org
SUMMARY:ASL I
DESCRIPTION:
URL:https://tcshighschool.org/event/asl-i-12-2025-04-08/2025-05-13/
CATEGORIES:Seminar - Regular
END:VEVENT
END:VCALENDAR