BEGIN:VCALENDAR
VERSION:2.0
PRODID:-//TCS High School - ECPv6.15.11//NONSGML v1.0//EN
CALSCALE:GREGORIAN
METHOD:PUBLISH
X-WR-CALNAME:TCS High School
X-ORIGINAL-URL:https://tcshighschool.org
X-WR-CALDESC:Events for TCS High School
REFRESH-INTERVAL;VALUE=DURATION:PT1H
X-Robots-Tag:noindex
X-PUBLISHED-TTL:PT1H
BEGIN:VTIMEZONE
TZID:America/New_York
BEGIN:DAYLIGHT
TZOFFSETFROM:-0500
TZOFFSETTO:-0400
TZNAME:EDT
DTSTART:20230312T070000
END:DAYLIGHT
BEGIN:STANDARD
TZOFFSETFROM:-0400
TZOFFSETTO:-0500
TZNAME:EST
DTSTART:20231105T060000
END:STANDARD
BEGIN:DAYLIGHT
TZOFFSETFROM:-0500
TZOFFSETTO:-0400
TZNAME:EDT
DTSTART:20240310T070000
END:DAYLIGHT
BEGIN:STANDARD
TZOFFSETFROM:-0400
TZOFFSETTO:-0500
TZNAME:EST
DTSTART:20241103T060000
END:STANDARD
BEGIN:DAYLIGHT
TZOFFSETFROM:-0500
TZOFFSETTO:-0400
TZNAME:EDT
DTSTART:20250309T070000
END:DAYLIGHT
BEGIN:STANDARD
TZOFFSETFROM:-0400
TZOFFSETTO:-0500
TZNAME:EST
DTSTART:20251102T060000
END:STANDARD
END:VTIMEZONE
BEGIN:VEVENT
DTSTART;TZID=America/New_York:20240510T090000
DTEND;TZID=America/New_York:20240510T110000
DTSTAMP:20260425T110359
CREATED:20230814T215012Z
LAST-MODIFIED:20230814T215012Z
UID:43190-1715331600-1715338800@tcshighschool.org
SUMMARY:Creative Writing
DESCRIPTION:
URL:https://tcshighschool.org/event/creative-writing-8-2023-12-29-2024-05-10/
CATEGORIES:Seminar - Regular
END:VEVENT
BEGIN:VEVENT
DTSTART;TZID=America/New_York:20240510T110000
DTEND;TZID=America/New_York:20240510T113000
DTSTAMP:20260425T110359
CREATED:20240308T122742Z
LAST-MODIFIED:20240308T122800Z
UID:45272-1715338800-1715340600@tcshighschool.org
SUMMARY:Lunch: Ms. Penina (Ethan's Aunt)
DESCRIPTION:
URL:https://tcshighschool.org/event/lunch-ms-penina-ethans-aunt/
CATEGORIES:Lunch
END:VEVENT
BEGIN:VEVENT
DTSTART;TZID=America/New_York:20240510T113000
DTEND;TZID=America/New_York:20240510T130000
DTSTAMP:20260425T110359
CREATED:20240325T185939Z
LAST-MODIFIED:20240329T205204Z
UID:45395-1715340600-1715346000@tcshighschool.org
SUMMARY:Conversation with April Doherty
DESCRIPTION:April is a Paralegal in the Felony Review Unit at the State’s Attorney’s Office for Baltimore County. She became an integral asset in the preparation of animal cruelty cases in 2004 and later became the lead investigator of the Animal Abuse Unit. April has organized and led the Animal Abuse Training for Baltimore County Police\, which began in 2014\, as well as the Maryland State Police in 2015. April also has spoken to various audiences in reference to animal abuse; specifically\, how to effectively investigate\, report\, and document the abuse to assist in prosecution. Mrs. Doherty is the co-Chair of the National Coalition on Violence Against Animals and works closely with the National Sheriff’s Association\, also serving on their Domestic Violence Committee and Animal Cruelty Committees. She also serves on the Association of Prosecuting Attorneys’ Animal Cruelty Advisory Committee. April is also a Law Enforcement Trainer for the Humane Society of the United States\, presenting on animal cruelty to police\, animal control\, as well as prosecutors across the Country. Said April\, “It is important to educate about crimes against animals because there is a correlation\, oftentimes seen in domestic violence\, child abuse\, elder abuse\, sexual abuse\, and also more recently human trafficking. Agencies should communicate with each other to cross-report incidents\, collaborate on investigations\, and cooperate so that all of the victims can find safety. The entire family should be included in investigations because today animals are considered by many to be a part of their family. Animals can be a tool in the tool shed\, and do not require someone to be an animal lover; just the recognition of the victim’s family encompassing the pet.” \nhttps://www.soulkindpeople.co.uk/soulkind-blog/aprildoherty \nhttps://www.soulkindpeople.co.uk/soulkind-blog/aprildoherty
URL:https://tcshighschool.org/event/conversation-with-april-doherty/
CATEGORIES:Conversation
ATTACH;FMTTYPE=image/jpeg:https://tcshighschool.org/wp-content/uploads/2024/03/download-2.jpg
END:VEVENT
BEGIN:VEVENT
DTSTART;TZID=America/New_York:20240513T121500
DTEND;TZID=America/New_York:20240513T124500
DTSTAMP:20260425T110359
CREATED:20240401T212159Z
LAST-MODIFIED:20240401T212159Z
UID:45424-1715602500-1715604300@tcshighschool.org
SUMMARY:Lunch: Ms. Jenae (Rhys & Quinn's Mom)
DESCRIPTION:
URL:https://tcshighschool.org/event/lunch-ms-jenae-rhys-quinns-mom-12/
CATEGORIES:Lunch
END:VEVENT
BEGIN:VEVENT
DTSTART;TZID=America/New_York:20240513T130000
DTEND;TZID=America/New_York:20240513T150000
DTSTAMP:20260425T110359
CREATED:20230822T191659Z
LAST-MODIFIED:20230822T191659Z
UID:43694-1715605200-1715612400@tcshighschool.org
SUMMARY:Done Construction Seminar
DESCRIPTION:
URL:https://tcshighschool.org/event/done-construction-seminar-5/2024-05-13/
CATEGORIES:Seminar - Regular
END:VEVENT
BEGIN:VEVENT
DTSTART;TZID=America/New_York:20240514T084500
DTEND;TZID=America/New_York:20240514T100000
DTSTAMP:20260425T110359
CREATED:20240220T000719Z
LAST-MODIFIED:20240220T000719Z
UID:45120-1715676300-1715680800@tcshighschool.org
SUMMARY:Digital Story Telling Seminar
DESCRIPTION:
URL:https://tcshighschool.org/event/digital-story-telling-seminar/2024-05-14/
CATEGORIES:Seminar - Regular
END:VEVENT
BEGIN:VEVENT
DTSTART;TZID=America/New_York:20240514T100000
DTEND;TZID=America/New_York:20240514T110000
DTSTAMP:20260425T110359
CREATED:20230820T152901Z
LAST-MODIFIED:20230820T152901Z
UID:43633-1715680800-1715684400@tcshighschool.org
SUMMARY:ASL I
DESCRIPTION:
URL:https://tcshighschool.org/event/asl-i-4/2024-05-14/
CATEGORIES:Seminar - Regular
END:VEVENT
BEGIN:VEVENT
DTSTART;TZID=America/New_York:20240514T121500
DTEND;TZID=America/New_York:20240514T124500
DTSTAMP:20260425T110359
CREATED:20230810T201746Z
LAST-MODIFIED:20240316T184703Z
UID:42880-1715688900-1715690700@tcshighschool.org
SUMMARY:Lunch: Ms. Peggy
DESCRIPTION:chicken pot pie/fruit
URL:https://tcshighschool.org/event/lunch-ms-peggy-3-2024-05-14/
CATEGORIES:Lunch
END:VEVENT
BEGIN:VEVENT
DTSTART;TZID=America/New_York:20240514T124500
DTEND;TZID=America/New_York:20240514T134500
DTSTAMP:20260425T110359
CREATED:20230814T215700Z
LAST-MODIFIED:20230816T191435Z
UID:43122-1715690700-1715694300@tcshighschool.org
SUMMARY:ASL II
DESCRIPTION:
URL:https://tcshighschool.org/event/asl-ii-2-2023-09-19/2024-05-14/
CATEGORIES:Seminar - Regular
END:VEVENT
BEGIN:VEVENT
DTSTART;TZID=America/New_York:20240514T134500
DTEND;TZID=America/New_York:20240514T150000
DTSTAMP:20260425T110359
CREATED:20240507T161734Z
LAST-MODIFIED:20240507T161835Z
UID:45597-1715694300-1715698800@tcshighschool.org
SUMMARY:Conversation with Joe Manko
DESCRIPTION:
URL:https://tcshighschool.org/event/conversation-with-joe-manko-3/
CATEGORIES:Conversation
END:VEVENT
BEGIN:VEVENT
DTSTART;TZID=America/New_York:20240515T084500
DTEND;TZID=America/New_York:20240515T084500
DTSTAMP:20260425T110359
CREATED:20230814T214915Z
LAST-MODIFIED:20230814T214915Z
UID:42949-1715762700-1715762700@tcshighschool.org
SUMMARY:Physical Education
DESCRIPTION:
URL:https://tcshighschool.org/event/physical-education-3/2024-05-15/
CATEGORIES:Seminar - Regular
END:VEVENT
BEGIN:VEVENT
DTSTART;TZID=America/New_York:20240515T121500
DTEND;TZID=America/New_York:20240515T124500
DTSTAMP:20260425T110359
CREATED:20240515T104734Z
LAST-MODIFIED:20240515T104734Z
UID:45615-1715775300-1715777100@tcshighschool.org
SUMMARY:Lunch: Ms. Linda (Madison's Mom)
DESCRIPTION:
URL:https://tcshighschool.org/event/lunch-ms-linda-madisons-mom-23/
CATEGORIES:Lunch
END:VEVENT
BEGIN:VEVENT
DTSTART;TZID=America/New_York:20240515T124500
DTEND;TZID=America/New_York:20240515T134500
DTSTAMP:20260425T110359
CREATED:20230814T215311Z
LAST-MODIFIED:20230821T134628Z
UID:43470-1715777100-1715780700@tcshighschool.org
SUMMARY:Visual Arts
DESCRIPTION:
URL:https://tcshighschool.org/event/visual-arts-2023-09-13/2024-05-15/
CATEGORIES:Seminar - Regular
END:VEVENT
BEGIN:VEVENT
DTSTART;TZID=America/New_York:20240516T100000
DTEND;TZID=America/New_York:20240516T123000
DTSTAMP:20260425T110359
CREATED:20230714T175848Z
LAST-MODIFIED:20230714T175848Z
UID:42819-1715853600-1715862600@tcshighschool.org
SUMMARY:The Importance of Being Earnest at Center Stage
DESCRIPTION:
URL:https://tcshighschool.org/event/the-importance-of-being-earnest-at-center-stage/
CATEGORIES:Field Trips
END:VEVENT
BEGIN:VEVENT
DTSTART;TZID=America/New_York:20240516T130000
DTEND;TZID=America/New_York:20240516T133000
DTSTAMP:20260425T110359
CREATED:20240515T104825Z
LAST-MODIFIED:20240515T104825Z
UID:45617-1715864400-1715866200@tcshighschool.org
SUMMARY:Lunch: Mr. Dave Bayer
DESCRIPTION:
URL:https://tcshighschool.org/event/lunch-mr-dave-bayer/
CATEGORIES:Lunch
END:VEVENT
BEGIN:VEVENT
DTSTART;TZID=America/New_York:20240517T090000
DTEND;TZID=America/New_York:20240517T110000
DTSTAMP:20260425T110359
CREATED:20230814T215012Z
LAST-MODIFIED:20230814T215012Z
UID:43191-1715936400-1715943600@tcshighschool.org
SUMMARY:Creative Writing
DESCRIPTION:
URL:https://tcshighschool.org/event/creative-writing-8-2023-12-29-2024-05-17/
CATEGORIES:Seminar - Regular
END:VEVENT
BEGIN:VEVENT
DTSTART;TZID=America/New_York:20240517T110000
DTEND;TZID=America/New_York:20240517T113000
DTSTAMP:20260425T110359
CREATED:20240308T123906Z
LAST-MODIFIED:20240516T185401Z
UID:45284-1715943600-1715945400@tcshighschool.org
SUMMARY:Lunch: Ms. Knickmeyer
DESCRIPTION:Chik’n* Nuggets \nMac & Cheese \nCole slaw \nDessert – not sure what.
URL:https://tcshighschool.org/event/lunch-ms-knickmeyer-2/
CATEGORIES:Lunch
END:VEVENT
BEGIN:VEVENT
DTSTART;TZID=America/New_York:20240517T113000
DTEND;TZID=America/New_York:20240517T133000
DTSTAMP:20260425T110359
CREATED:20240309T221759Z
LAST-MODIFIED:20240515T105023Z
UID:45311-1715945400-1715952600@tcshighschool.org
SUMMARY:Movie: Can You See Us
DESCRIPTION:
URL:https://tcshighschool.org/event/conversation-with-center-stage-tentative-2/
CATEGORIES:Movies
END:VEVENT
BEGIN:VEVENT
DTSTART;VALUE=DATE:20240518
DTEND;VALUE=DATE:20240519
DTSTAMP:20260425T110359
CREATED:20240129T220833Z
LAST-MODIFIED:20240129T220833Z
UID:45004-1715990400-1716076799@tcshighschool.org
SUMMARY:Young Playwrights Festival at Center Stage
DESCRIPTION:
URL:https://tcshighschool.org/event/young-playwrights-festival-at-center-stage/
CATEGORIES:Social Events
END:VEVENT
BEGIN:VEVENT
DTSTART;TZID=America/New_York:20240520T113000
DTEND;TZID=America/New_York:20240520T140000
DTSTAMP:20260425T110359
CREATED:20230817T180126Z
LAST-MODIFIED:20240409T233750Z
UID:43512-1716204600-1716213600@tcshighschool.org
SUMMARY:Financial Literacy
DESCRIPTION:
URL:https://tcshighschool.org/event/financial-literacy-6/
CATEGORIES:Field Trips
END:VEVENT
BEGIN:VEVENT
DTSTART;TZID=America/New_York:20240520T120000
DTEND;TZID=America/New_York:20240520T123000
DTSTAMP:20260425T110359
CREATED:20230817T180029Z
LAST-MODIFIED:20240409T233834Z
UID:43510-1716206400-1716208200@tcshighschool.org
SUMMARY:Lunch: Berman McAleer
DESCRIPTION:
URL:https://tcshighschool.org/event/lunch-berman-mcaleer-16/
CATEGORIES:Lunch
END:VEVENT
BEGIN:VEVENT
DTSTART;TZID=America/New_York:20240520T143000
DTEND;TZID=America/New_York:20240520T153000
DTSTAMP:20260425T110359
CREATED:20250416T190147Z
LAST-MODIFIED:20250416T190147Z
UID:48350-1716215400-1716219000@tcshighschool.org
SUMMARY:An Inconvenient Truth: Truth to Power
DESCRIPTION:
URL:https://tcshighschool.org/event/an-inconvenient-truth-truth-to-power/
CATEGORIES:Movies
END:VEVENT
BEGIN:VEVENT
DTSTART;TZID=America/New_York:20240521T080000
DTEND;TZID=America/New_York:20240521T170000
DTSTAMP:20260425T110359
CREATED:20240514T121815Z
LAST-MODIFIED:20240514T121815Z
UID:45607-1716278400-1716310800@tcshighschool.org
SUMMARY:Shadow Day
DESCRIPTION:
URL:https://tcshighschool.org/event/shadow-day-48/
CATEGORIES:Shadow Days
END:VEVENT
BEGIN:VEVENT
DTSTART;TZID=America/New_York:20240521T084500
DTEND;TZID=America/New_York:20240521T100000
DTSTAMP:20260425T110359
CREATED:20240220T000719Z
LAST-MODIFIED:20240220T000719Z
UID:45121-1716281100-1716285600@tcshighschool.org
SUMMARY:Digital Story Telling Seminar
DESCRIPTION:
URL:https://tcshighschool.org/event/digital-story-telling-seminar/2024-05-21/
CATEGORIES:Seminar - Regular
END:VEVENT
BEGIN:VEVENT
DTSTART;TZID=America/New_York:20240521T100000
DTEND;TZID=America/New_York:20240521T110000
DTSTAMP:20260425T110359
CREATED:20230820T152901Z
LAST-MODIFIED:20230820T152901Z
UID:43634-1716285600-1716289200@tcshighschool.org
SUMMARY:ASL I
DESCRIPTION:
URL:https://tcshighschool.org/event/asl-i-4/2024-05-21/
CATEGORIES:Seminar - Regular
END:VEVENT
BEGIN:VEVENT
DTSTART;TZID=America/New_York:20240521T121500
DTEND;TZID=America/New_York:20240521T124500
DTSTAMP:20260425T110359
CREATED:20230810T201746Z
LAST-MODIFIED:20240316T184732Z
UID:42881-1716293700-1716295500@tcshighschool.org
SUMMARY:Lunch: Ms. Peggy
DESCRIPTION:hot turkey sandwiches/salad/fruit
URL:https://tcshighschool.org/event/lunch-ms-peggy-3-2024-05-21/
CATEGORIES:Lunch
END:VEVENT
BEGIN:VEVENT
DTSTART;TZID=America/New_York:20240521T124500
DTEND;TZID=America/New_York:20240521T134500
DTSTAMP:20260425T110359
CREATED:20230814T215700Z
LAST-MODIFIED:20230816T191435Z
UID:43123-1716295500-1716299100@tcshighschool.org
SUMMARY:ASL II
DESCRIPTION:
URL:https://tcshighschool.org/event/asl-ii-2-2023-09-19/2024-05-21/
CATEGORIES:Seminar - Regular
END:VEVENT
BEGIN:VEVENT
DTSTART;TZID=America/New_York:20240521T134500
DTEND;TZID=America/New_York:20240521T153000
DTSTAMP:20260425T110359
CREATED:20240516T125240Z
LAST-MODIFIED:20240516T125240Z
UID:45640-1716299100-1716305400@tcshighschool.org
SUMMARY:Movie: An Inconvenient Truth
DESCRIPTION:
URL:https://tcshighschool.org/event/movie-an-inconvenient-truth-2/
CATEGORIES:Movies
END:VEVENT
BEGIN:VEVENT
DTSTART;TZID=America/New_York:20240522T084500
DTEND;TZID=America/New_York:20240522T084500
DTSTAMP:20260425T110359
CREATED:20230814T214915Z
LAST-MODIFIED:20230814T214915Z
UID:42950-1716367500-1716367500@tcshighschool.org
SUMMARY:Physical Education
DESCRIPTION:
URL:https://tcshighschool.org/event/physical-education-3/2024-05-22/
CATEGORIES:Seminar - Regular
END:VEVENT
BEGIN:VEVENT
DTSTART;TZID=America/New_York:20240522T100000
DTEND;TZID=America/New_York:20240522T110000
DTSTAMP:20260425T110359
CREATED:20240425T135734Z
LAST-MODIFIED:20240425T135734Z
UID:45529-1716372000-1716375600@tcshighschool.org
SUMMARY:Creative Writing
DESCRIPTION:
URL:https://tcshighschool.org/event/creative-writing-9/
CATEGORIES:Seminar - Regular
END:VEVENT
END:VCALENDAR