BEGIN:VCALENDAR
VERSION:2.0
PRODID:-//TCS High School - ECPv6.15.11//NONSGML v1.0//EN
CALSCALE:GREGORIAN
METHOD:PUBLISH
X-ORIGINAL-URL:https://tcshighschool.org
X-WR-CALDESC:Events for TCS High School
REFRESH-INTERVAL;VALUE=DURATION:PT1H
X-Robots-Tag:noindex
X-PUBLISHED-TTL:PT1H
BEGIN:VTIMEZONE
TZID:America/New_York
BEGIN:DAYLIGHT
TZOFFSETFROM:-0500
TZOFFSETTO:-0400
TZNAME:EDT
DTSTART:20250309T070000
END:DAYLIGHT
BEGIN:STANDARD
TZOFFSETFROM:-0400
TZOFFSETTO:-0500
TZNAME:EST
DTSTART:20251102T060000
END:STANDARD
BEGIN:DAYLIGHT
TZOFFSETFROM:-0500
TZOFFSETTO:-0400
TZNAME:EDT
DTSTART:20260308T070000
END:DAYLIGHT
BEGIN:STANDARD
TZOFFSETFROM:-0400
TZOFFSETTO:-0500
TZNAME:EST
DTSTART:20261101T060000
END:STANDARD
BEGIN:DAYLIGHT
TZOFFSETFROM:-0500
TZOFFSETTO:-0400
TZNAME:EDT
DTSTART:20270314T070000
END:DAYLIGHT
BEGIN:STANDARD
TZOFFSETFROM:-0400
TZOFFSETTO:-0500
TZNAME:EST
DTSTART:20271107T060000
END:STANDARD
END:VTIMEZONE
BEGIN:VEVENT
DTSTART;TZID=America/New_York:20260416T180000
DTEND;TZID=America/New_York:20260416T190000
DTSTAMP:20260423T174852
CREATED:20260116T004136Z
LAST-MODIFIED:20260116T004136Z
UID:50198-1776362400-1776366000@tcshighschool.org
SUMMARY:Board of Trustee Meeting
DESCRIPTION:
URL:https://tcshighschool.org/event/board-of-trustee-meeting/
CATEGORIES:Meetings
END:VEVENT
BEGIN:VEVENT
DTSTART;TZID=America/New_York:20260417T090000
DTEND;TZID=America/New_York:20260417T110000
DTSTAMP:20260423T174852
CREATED:20250708T133732Z
LAST-MODIFIED:20250708T133732Z
UID:48754-1776416400-1776423600@tcshighschool.org
SUMMARY:Creative Writing Seminar
DESCRIPTION:
URL:https://tcshighschool.org/event/creative-writing-seminar-12-2025-11-28-2026-04-17/
CATEGORIES:Seminar - Regular
END:VEVENT
BEGIN:VEVENT
DTSTART;TZID=America/New_York:20260417T110000
DTEND;TZID=America/New_York:20260417T113000
DTSTAMP:20260423T174852
CREATED:20251229T205430Z
LAST-MODIFIED:20260415T163116Z
UID:50038-1776423600-1776425400@tcshighschool.org
SUMMARY:Lunch: Ms. Lisa B (Jason's Mom)
DESCRIPTION:Chicken salad sliders\, salami and cheese sliders\, pasta salad\, grapes
URL:https://tcshighschool.org/event/lunch-ms-lisa-b-jasons-mom-4/
CATEGORIES:Lunch
END:VEVENT
BEGIN:VEVENT
DTSTART;TZID=America/New_York:20260417T113000
DTEND;TZID=America/New_York:20260417T133000
DTSTAMP:20260423T174852
CREATED:20260417T191447Z
LAST-MODIFIED:20260417T191447Z
UID:50745-1776425400-1776432600@tcshighschool.org
SUMMARY:Movie: Green Book
DESCRIPTION:
URL:https://tcshighschool.org/event/movie-green-book/
CATEGORIES:Movies
END:VEVENT
BEGIN:VEVENT
DTSTART;TZID=America/New_York:20260420T234500
DTEND;TZID=America/New_York:20260420T234500
DTSTAMP:20260423T174852
CREATED:20250829T164217Z
LAST-MODIFIED:20260420T115907Z
UID:49217-1776728700-1776728700@tcshighschool.org
SUMMARY:Lunch: Ms. Shakiara (Khori's Mom)
DESCRIPTION:pizza
URL:https://tcshighschool.org/event/lunch-ms-shakiara-khoris-mom-16/
CATEGORIES:Lunch
END:VEVENT
BEGIN:VEVENT
DTSTART;TZID=America/New_York:20260421T121500
DTEND;TZID=America/New_York:20260421T124500
DTSTAMP:20260423T174852
CREATED:20251229T194314Z
LAST-MODIFIED:20260420T191024Z
UID:50017-1776773700-1776775500@tcshighschool.org
SUMMARY:Lunch: Alex Ozga (MICA Art Student)
DESCRIPTION:4 chickens\, lime marinated watermelon\, elote\, and some drinks.
URL:https://tcshighschool.org/event/lunch-ms-rina-hectors-mom-4/
CATEGORIES:Lunch
END:VEVENT
BEGIN:VEVENT
DTSTART;TZID=America/New_York:20260421T140000
DTEND;TZID=America/New_York:20260421T150000
DTSTAMP:20260423T174852
CREATED:20251206T012347Z
LAST-MODIFIED:20251206T012347Z
UID:49919-1776780000-1776783600@tcshighschool.org
SUMMARY:MICA Art Seminar
DESCRIPTION:
URL:https://tcshighschool.org/event/mica-art-seminar/2026-04-21/
CATEGORIES:Seminar - Regular
END:VEVENT
BEGIN:VEVENT
DTSTART;TZID=America/New_York:20260422T085500
DTEND;TZID=America/New_York:20260422T095500
DTSTAMP:20260423T174852
CREATED:20250708T133601Z
LAST-MODIFIED:20250708T133601Z
UID:48802-1776848100-1776851700@tcshighschool.org
SUMMARY:Physical Education
DESCRIPTION:
URL:https://tcshighschool.org/event/physical-education-8/2026-04-22/
CATEGORIES:Seminar - Regular
END:VEVENT
BEGIN:VEVENT
DTSTART;TZID=America/New_York:20260422T121500
DTEND;TZID=America/New_York:20260422T124500
DTSTAMP:20260423T174852
CREATED:20251229T200537Z
LAST-MODIFIED:20260416T140354Z
UID:50019-1776860100-1776861900@tcshighschool.org
SUMMARY:Lunch: Ms. Lisa K
DESCRIPTION:cheese ravioli\, salad and garlic bread with some type of dessert
URL:https://tcshighschool.org/event/lunch-ms-lisa-k-2/
CATEGORIES:Lunch
END:VEVENT
BEGIN:VEVENT
DTSTART;TZID=America/New_York:20260422T124500
DTEND;TZID=America/New_York:20260422T134500
DTSTAMP:20260423T174852
CREATED:20260422T142231Z
LAST-MODIFIED:20260422T142231Z
UID:50767-1776861900-1776865500@tcshighschool.org
SUMMARY:Poetry Workshop with Center Stage
DESCRIPTION:
URL:https://tcshighschool.org/event/poetry-workshop-with-center-stage/
CATEGORIES:Seminars - Special
END:VEVENT
BEGIN:VEVENT
DTSTART;TZID=America/New_York:20260423T123000
DTEND;TZID=America/New_York:20260423T130000
DTSTAMP:20260423T174852
CREATED:20250813T140239Z
LAST-MODIFIED:20250813T140239Z
UID:48895-1776947400-1776949200@tcshighschool.org
SUMMARY:Lunch: The Lyric
DESCRIPTION:
URL:https://tcshighschool.org/event/lunch-the-lyric-15/
CATEGORIES:Lunch
END:VEVENT
BEGIN:VEVENT
DTSTART;TZID=America/New_York:20260423T123000
DTEND;TZID=America/New_York:20260423T140000
DTSTAMP:20260423T174852
CREATED:20250708T133303Z
LAST-MODIFIED:20260406T171949Z
UID:48686-1776947400-1776952800@tcshighschool.org
SUMMARY:Theatre at The Lyric
DESCRIPTION:
URL:https://tcshighschool.org/event/theatre-at-the-lyric-8/
CATEGORIES:Seminar - Regular
ATTACH;FMTTYPE=image/jpeg:https://tcshighschool.org/wp-content/uploads/2025/07/R8KZBLwV.jpg
END:VEVENT
BEGIN:VEVENT
DTSTART;TZID=America/New_York:20260424T090000
DTEND;TZID=America/New_York:20260424T110000
DTSTAMP:20260423T174852
CREATED:20250708T133732Z
LAST-MODIFIED:20250708T133732Z
UID:48755-1777021200-1777028400@tcshighschool.org
SUMMARY:Creative Writing Seminar
DESCRIPTION:
URL:https://tcshighschool.org/event/creative-writing-seminar-12-2025-11-28-2026-04-24/
CATEGORIES:Seminar - Regular
END:VEVENT
BEGIN:VEVENT
DTSTART;TZID=America/New_York:20260424T110000
DTEND;TZID=America/New_York:20260424T113000
DTSTAMP:20260423T174852
CREATED:20250822T130356Z
LAST-MODIFIED:20260417T174533Z
UID:49058-1777028400-1777030200@tcshighschool.org
SUMMARY:Lunch: Mr. John (Mingo's Dad)
DESCRIPTION:Macaroni and Cheese\nFruit salad\nLeaf salad\nDessert (probably pies or a crumble of some kind–
URL:https://tcshighschool.org/event/lunch-john-kelly-cord-mingos-parents-8/
CATEGORIES:Lunch
END:VEVENT
BEGIN:VEVENT
DTSTART;TZID=America/New_York:20260424T113000
DTEND;TZID=America/New_York:20260424T130000
DTSTAMP:20260423T174852
CREATED:20260418T144256Z
LAST-MODIFIED:20260422T181503Z
UID:50753-1777030200-1777035600@tcshighschool.org
SUMMARY:Conversation with Marc Stiener
DESCRIPTION:
URL:https://tcshighschool.org/event/conversation-with-marc-stiener-tentative/
CATEGORIES:Conversation
ATTACH;FMTTYPE=image/png:https://tcshighschool.org/wp-content/uploads/2025/09/unnamed.png
END:VEVENT
BEGIN:VEVENT
DTSTART;VALUE=DATE:20260426
DTEND;VALUE=DATE:20260427
DTSTAMP:20260423T174852
CREATED:20210814T004348Z
LAST-MODIFIED:20210814T004348Z
UID:45552-1777161600-1777247999@tcshighschool.org
SUMMARY:Mr. Dave's B-day
DESCRIPTION:
URL:https://tcshighschool.org/event/mr-daves-b-day/2026-04-26/
CATEGORIES:Special Days
END:VEVENT
BEGIN:VEVENT
DTSTART;TZID=America/New_York:20260427T100000
DTEND;TZID=America/New_York:20260427T110000
DTSTAMP:20260423T174852
CREATED:20260422T181246Z
LAST-MODIFIED:20260422T181246Z
UID:50771-1777284000-1777287600@tcshighschool.org
SUMMARY:Poetry Workshop with Slangston Hughes by Center Stage
DESCRIPTION:
URL:https://tcshighschool.org/event/poetry-workshop-with-slangston-hughes-by-center-stage/
CATEGORIES:Seminars - Special
ATTACH;FMTTYPE=image/jpeg:https://tcshighschool.org/wp-content/uploads/2026/04/Slangston-Hughes-photo-lg-2.jpg
END:VEVENT
BEGIN:VEVENT
DTSTART;TZID=America/New_York:20260427T114500
DTEND;TZID=America/New_York:20260427T121500
DTSTAMP:20260423T174852
CREATED:20251229T202321Z
LAST-MODIFIED:20260414T153124Z
UID:50021-1777290300-1777292100@tcshighschool.org
SUMMARY:Lunch: Ms. Leslie B (Kennedy's Mom)
DESCRIPTION:
URL:https://tcshighschool.org/event/lunch-ms-leslie-b-kennedys-mom-3/
CATEGORIES:Lunch
END:VEVENT
BEGIN:VEVENT
DTSTART;VALUE=DATE:20260428
DTEND;VALUE=DATE:20260429
DTSTAMP:20260423T174852
CREATED:20260421T105627Z
LAST-MODIFIED:20260421T105627Z
UID:50760-1777334400-1777420799@tcshighschool.org
SUMMARY:Shadow Day
DESCRIPTION:
URL:https://tcshighschool.org/event/shadow-day-65/
CATEGORIES:Shadow Days
END:VEVENT
BEGIN:VEVENT
DTSTART;TZID=America/New_York:20260428T121500
DTEND;TZID=America/New_York:20260428T124500
DTSTAMP:20260423T174852
CREATED:20251229T202650Z
LAST-MODIFIED:20251229T213108Z
UID:50023-1777378500-1777380300@tcshighschool.org
SUMMARY:Lunch: Ms. Alisha (Judah's Mom)
DESCRIPTION:
URL:https://tcshighschool.org/event/lunch-ms-alisha-mr-scott-2/
CATEGORIES:Lunch
END:VEVENT
BEGIN:VEVENT
DTSTART;TZID=America/New_York:20260428T124500
DTEND;TZID=America/New_York:20260428T134500
DTSTAMP:20260423T174852
CREATED:20260331T151412Z
LAST-MODIFIED:20260331T151412Z
UID:50655-1777380300-1777383900@tcshighschool.org
SUMMARY:Experimental Film Seminar
DESCRIPTION:
URL:https://tcshighschool.org/event/experimental-film-seminar/2026-04-28/
CATEGORIES:Seminars - Special
END:VEVENT
BEGIN:VEVENT
DTSTART;TZID=America/New_York:20260429T085500
DTEND;TZID=America/New_York:20260429T095500
DTSTAMP:20260423T174852
CREATED:20250708T133601Z
LAST-MODIFIED:20250708T133601Z
UID:48803-1777452900-1777456500@tcshighschool.org
SUMMARY:Physical Education
DESCRIPTION:
URL:https://tcshighschool.org/event/physical-education-8/2026-04-29/
CATEGORIES:Seminar - Regular
END:VEVENT
BEGIN:VEVENT
DTSTART;TZID=America/New_York:20260429T113000
DTEND;TZID=America/New_York:20260429T120000
DTSTAMP:20260423T174852
CREATED:20260306T123507Z
LAST-MODIFIED:20260418T143926Z
UID:50517-1777462200-1777464000@tcshighschool.org
SUMMARY:Lunch: Ms. Rina (Hector's Mom)
DESCRIPTION:
URL:https://tcshighschool.org/event/lunch-ms-rina-hectors-mom-5/
CATEGORIES:Lunch
END:VEVENT
BEGIN:VEVENT
DTSTART;TZID=America/New_York:20260429T120000
DTEND;TZID=America/New_York:20260429T140000
DTSTAMP:20260423T174852
CREATED:20260418T143810Z
LAST-MODIFIED:20260418T143810Z
UID:50749-1777464000-1777471200@tcshighschool.org
SUMMARY:Creative Writing Seminar
DESCRIPTION:
URL:https://tcshighschool.org/event/creative-writing-seminar-13/
CATEGORIES:Seminar - Regular
END:VEVENT
BEGIN:VEVENT
DTSTART;VALUE=DATE:20260430
DTEND;VALUE=DATE:20260501
DTSTAMP:20260423T174852
CREATED:20260421T105648Z
LAST-MODIFIED:20260421T105648Z
UID:50762-1777507200-1777593599@tcshighschool.org
SUMMARY:Shadow Day
DESCRIPTION:
URL:https://tcshighschool.org/event/shadow-day-66/
CATEGORIES:Shadow Days
END:VEVENT
BEGIN:VEVENT
DTSTART;TZID=America/New_York:20260430T111500
DTEND;TZID=America/New_York:20260430T121500
DTSTAMP:20260423T174852
CREATED:20260213T120049Z
LAST-MODIFIED:20260213T120049Z
UID:50387-1777547700-1777551300@tcshighschool.org
SUMMARY:Health Seminar with UMB Nursing Students
DESCRIPTION:
URL:https://tcshighschool.org/event/health-seminar-with-umb-nursing-students-4/
CATEGORIES:Seminars - Special
END:VEVENT
BEGIN:VEVENT
DTSTART;TZID=America/New_York:20260430T121500
DTEND;TZID=America/New_York:20260430T124500
DTSTAMP:20260423T174852
CREATED:20250815T144238Z
LAST-MODIFIED:20250815T144238Z
UID:48951-1777551300-1777553100@tcshighschool.org
SUMMARY:Lunch: Berman McAleer
DESCRIPTION:
URL:https://tcshighschool.org/event/lunch-berman-mcaleer-26/
CATEGORIES:Lunch
END:VEVENT
BEGIN:VEVENT
DTSTART;TZID=America/New_York:20260430T124500
DTEND;TZID=America/New_York:20260430T134500
DTSTAMP:20260423T174852
CREATED:20250815T143336Z
LAST-MODIFIED:20250815T143336Z
UID:48933-1777553100-1777556700@tcshighschool.org
SUMMARY:Financial Literacy Seminar
DESCRIPTION:
URL:https://tcshighschool.org/event/financial-literacy-seminar-36/
CATEGORIES:Seminar - Regular
END:VEVENT
BEGIN:VEVENT
DTSTART;TZID=America/New_York:20260501T093000
DTEND;TZID=America/New_York:20260501T170000
DTSTAMP:20260423T174852
CREATED:20260417T111842Z
LAST-MODIFIED:20260417T112026Z
UID:50733-1777627800-1777654800@tcshighschool.org
SUMMARY:BCYF Baltimore History Tour
DESCRIPTION:
URL:https://tcshighschool.org/event/bcyf-baltimore-history-tour/
CATEGORIES:Field Trips
END:VEVENT
BEGIN:VEVENT
DTSTART;TZID=America/New_York:20260504T101500
DTEND;TZID=America/New_York:20260504T114500
DTSTAMP:20260423T174852
CREATED:20260410T172116Z
LAST-MODIFIED:20260410T172116Z
UID:50708-1777889700-1777895100@tcshighschool.org
SUMMARY:Design Workshop with Greg Walsh (tentative)
DESCRIPTION:
URL:https://tcshighschool.org/event/design-workshop-with-greg-walsh-tentative/
CATEGORIES:Seminars - Special
END:VEVENT
END:VCALENDAR