BEGIN:VCALENDAR
VERSION:2.0
PRODID:-//TCS High School - ECPv6.15.11//NONSGML v1.0//EN
CALSCALE:GREGORIAN
METHOD:PUBLISH
X-WR-CALNAME:TCS High School
X-ORIGINAL-URL:https://tcshighschool.org
X-WR-CALDESC:Events for TCS High School
REFRESH-INTERVAL;VALUE=DURATION:PT1H
X-Robots-Tag:noindex
X-PUBLISHED-TTL:PT1H
BEGIN:VTIMEZONE
TZID:America/New_York
BEGIN:DAYLIGHT
TZOFFSETFROM:-0500
TZOFFSETTO:-0400
TZNAME:EDT
DTSTART:20250309T070000
END:DAYLIGHT
BEGIN:STANDARD
TZOFFSETFROM:-0400
TZOFFSETTO:-0500
TZNAME:EST
DTSTART:20251102T060000
END:STANDARD
BEGIN:DAYLIGHT
TZOFFSETFROM:-0500
TZOFFSETTO:-0400
TZNAME:EDT
DTSTART:20260308T070000
END:DAYLIGHT
BEGIN:STANDARD
TZOFFSETFROM:-0400
TZOFFSETTO:-0500
TZNAME:EST
DTSTART:20261101T060000
END:STANDARD
BEGIN:DAYLIGHT
TZOFFSETFROM:-0500
TZOFFSETTO:-0400
TZNAME:EDT
DTSTART:20270314T070000
END:DAYLIGHT
BEGIN:STANDARD
TZOFFSETFROM:-0400
TZOFFSETTO:-0500
TZNAME:EST
DTSTART:20271107T060000
END:STANDARD
END:VTIMEZONE
BEGIN:VEVENT
DTSTART;TZID=America/New_York:20260119T093000
DTEND;TZID=America/New_York:20260119T103000
DTSTAMP:20260424T032948
CREATED:20260103T133039Z
LAST-MODIFIED:20260104T180641Z
UID:50099-1768815000-1768818600@tcshighschool.org
SUMMARY:Eyes on the Prize: Bridge to Freedom
DESCRIPTION:
URL:https://tcshighschool.org/event/eyes-on-the-prize-bridge-to-freedom/
CATEGORIES:Movies
END:VEVENT
BEGIN:VEVENT
DTSTART;TZID=America/New_York:20260119T103000
DTEND;TZID=America/New_York:20260119T121500
DTSTAMP:20260424T032948
CREATED:20260101T041339Z
LAST-MODIFIED:20260207T233847Z
UID:50078-1768818600-1768824900@tcshighschool.org
SUMMARY:Conversation: Civil Rights Struggle in Baltimore
DESCRIPTION:
URL:https://tcshighschool.org/event/conversation-with-marc-steiner-civil-rights-struggle-in-baltimore/
CATEGORIES:Conversation
ATTACH;FMTTYPE=image/png:https://tcshighschool.org/wp-content/uploads/2025/09/unnamed.png
END:VEVENT
BEGIN:VEVENT
DTSTART;TZID=America/New_York:20260119T121500
DTEND;TZID=America/New_York:20260119T124500
DTSTAMP:20260424T032948
CREATED:20250822T130117Z
LAST-MODIFIED:20260118T021216Z
UID:49052-1768824900-1768826700@tcshighschool.org
SUMMARY:Lunch: Mr. John (Mingo's Dad)
DESCRIPTION:Stuffed shells\nBaguette\nSalad\nPeach cobbler
URL:https://tcshighschool.org/event/lunch-john-kelly-cord-mingos-parents-5/
CATEGORIES:Lunch
END:VEVENT
BEGIN:VEVENT
DTSTART;VALUE=DATE:20260120
DTEND;VALUE=DATE:20260121
DTSTAMP:20260424T032948
CREATED:20251125T223300Z
LAST-MODIFIED:20251125T223430Z
UID:49851-1768867200-1768953599@tcshighschool.org
SUMMARY:Shadow Day
DESCRIPTION:
URL:https://tcshighschool.org/event/shadow-day-63/
CATEGORIES:Shadow Days
END:VEVENT
BEGIN:VEVENT
DTSTART;TZID=America/New_York:20260120T100000
DTEND;TZID=America/New_York:20260120T231500
DTSTAMP:20260424T032948
CREATED:20260114T224855Z
LAST-MODIFIED:20260115T141741Z
UID:50184-1768903200-1768950900@tcshighschool.org
SUMMARY:Conversation with Sharon Burley/ABC of Greater Baltimore
DESCRIPTION:
URL:https://tcshighschool.org/event/conversation-with-chris-hadfield-abc-of-greater-baltimore/
CATEGORIES:Conversation
END:VEVENT
BEGIN:VEVENT
DTSTART;TZID=America/New_York:20260120T121500
DTEND;TZID=America/New_York:20260120T124500
DTSTAMP:20260424T032948
CREATED:20250824T145250Z
LAST-MODIFIED:20260102T120340Z
UID:49102-1768911300-1768913100@tcshighschool.org
SUMMARY:Lunch: Ms. Peg
DESCRIPTION:pasta/ sausage/ salad/ fruit/ dessert
URL:https://tcshighschool.org/event/lunch-ms-peg-72/
CATEGORIES:Lunch
END:VEVENT
BEGIN:VEVENT
DTSTART;TZID=America/New_York:20260120T124500
DTEND;TZID=America/New_York:20260120T134500
DTSTAMP:20260424T032948
CREATED:20251206T150247Z
LAST-MODIFIED:20251206T150247Z
UID:49924-1768913100-1768916700@tcshighschool.org
SUMMARY:Art Seminar with Melissa O'Brien LaMartina
DESCRIPTION:
URL:https://tcshighschool.org/event/art-seminar-with-melissa-obrien-lamartina/
CATEGORIES:Seminars - Special
END:VEVENT
BEGIN:VEVENT
DTSTART;TZID=America/New_York:20260121T085500
DTEND;TZID=America/New_York:20260121T095500
DTSTAMP:20260424T032948
CREATED:20250708T133601Z
LAST-MODIFIED:20250708T133601Z
UID:48789-1768985700-1768989300@tcshighschool.org
SUMMARY:Physical Education
DESCRIPTION:
URL:https://tcshighschool.org/event/physical-education-8/2026-01-21/
CATEGORIES:Seminar - Regular
END:VEVENT
BEGIN:VEVENT
DTSTART;TZID=America/New_York:20260121T100000
DTEND;TZID=America/New_York:20260121T113000
DTSTAMP:20260424T032948
CREATED:20260114T224955Z
LAST-MODIFIED:20260121T024655Z
UID:50186-1768989600-1768995000@tcshighschool.org
SUMMARY:Conversation with Dr. Al Scott
DESCRIPTION:
URL:https://tcshighschool.org/event/conversation-with-dr-al-scott-4/
CATEGORIES:Conversation
ATTACH;FMTTYPE=image/jpeg:https://tcshighschool.org/wp-content/uploads/2025/03/download.jpg
END:VEVENT
BEGIN:VEVENT
DTSTART;TZID=America/New_York:20260121T121500
DTEND;TZID=America/New_York:20260121T124500
DTSTAMP:20260424T032948
CREATED:20260112T221354Z
LAST-MODIFIED:20260112T221354Z
UID:50181-1768997700-1768999500@tcshighschool.org
SUMMARY:Lunch: Ms. Charlotte (Rylee's Mom)
DESCRIPTION:meatball subs
URL:https://tcshighschool.org/event/lunch-ms-charlotte-rylees-mom-4/
CATEGORIES:Lunch
END:VEVENT
BEGIN:VEVENT
DTSTART;TZID=America/New_York:20260122T100000
DTEND;TZID=America/New_York:20260122T113000
DTSTAMP:20260424T032948
CREATED:20260114T225033Z
LAST-MODIFIED:20260114T225033Z
UID:50188-1769076000-1769081400@tcshighschool.org
SUMMARY:Conversation with Tyler Hoffberger
DESCRIPTION:
URL:https://tcshighschool.org/event/conversation-with-tyler-hoffberger/
CATEGORIES:Conversation
END:VEVENT
BEGIN:VEVENT
DTSTART;TZID=America/New_York:20260122T121500
DTEND;TZID=America/New_York:20260122T124500
DTSTAMP:20260424T032948
CREATED:20250815T143959Z
LAST-MODIFIED:20260120T192039Z
UID:48945-1769084100-1769085900@tcshighschool.org
SUMMARY:Lunch: Berman McAleer
DESCRIPTION:sloppy joe’s\, salad\, mac & cheese\, brownies and rice Krispies
URL:https://tcshighschool.org/event/lunch-berman-mcaleer-23/
CATEGORIES:Lunch
END:VEVENT
BEGIN:VEVENT
DTSTART;TZID=America/New_York:20260122T124500
DTEND;TZID=America/New_York:20260122T134500
DTSTAMP:20260424T032948
CREATED:20250815T142054Z
LAST-MODIFIED:20250815T142054Z
UID:48927-1769085900-1769089500@tcshighschool.org
SUMMARY:Financial Literacy Seminar
DESCRIPTION:
URL:https://tcshighschool.org/event/financial-literacy-seminar-33/
CATEGORIES:Seminar - Regular
END:VEVENT
BEGIN:VEVENT
DTSTART;VALUE=DATE:20260123
DTEND;VALUE=DATE:20260124
DTSTAMP:20260424T032948
CREATED:20210814T000416Z
LAST-MODIFIED:20210814T000416Z
UID:44993-1769126400-1769212799@tcshighschool.org
SUMMARY:Ms. Leah's B-day
DESCRIPTION:
URL:https://tcshighschool.org/event/ms-leahs-b-day-2/2026-01-23/
CATEGORIES:Special Days
END:VEVENT
BEGIN:VEVENT
DTSTART;TZID=America/New_York:20260123T090000
DTEND;TZID=America/New_York:20260123T110000
DTSTAMP:20260424T032948
CREATED:20250708T133732Z
LAST-MODIFIED:20250708T133732Z
UID:48723-1769158800-1769166000@tcshighschool.org
SUMMARY:Creative Writing Seminar
DESCRIPTION:
URL:https://tcshighschool.org/event/creative-writing-seminar-12/2026-01-23/
CATEGORIES:Seminar - Regular
END:VEVENT
BEGIN:VEVENT
DTSTART;TZID=America/New_York:20260123T110000
DTEND;TZID=America/New_York:20260123T113000
DTSTAMP:20260424T032948
CREATED:20250828T205010Z
LAST-MODIFIED:20260120T194250Z
UID:49182-1769166000-1769167800@tcshighschool.org
SUMMARY:Lunch: Ms. Kyna (Danny's Mom)
DESCRIPTION:Lunch meat subs\, chips and water.
URL:https://tcshighschool.org/event/lunch-ms-kyna-dannys-mom-12/
CATEGORIES:Lunch
END:VEVENT
BEGIN:VEVENT
DTSTART;TZID=America/New_York:20260123T113000
DTEND;TZID=America/New_York:20260123T130000
DTSTAMP:20260424T032948
CREATED:20251229T184620Z
LAST-MODIFIED:20260121T024315Z
UID:50001-1769167800-1769173200@tcshighschool.org
SUMMARY:Conversation with Jim Burger
DESCRIPTION:
URL:https://tcshighschool.org/event/conversation-with-jim-burger-5/
CATEGORIES:Conversation
ATTACH;FMTTYPE=image/jpeg:https://tcshighschool.org/wp-content/uploads/2025/12/download-2.jpg
END:VEVENT
BEGIN:VEVENT
DTSTART;VALUE=DATE:20260126
DTEND;VALUE=DATE:20260127
DTSTAMP:20260424T032948
CREATED:20260126T190154Z
LAST-MODIFIED:20260129T190526Z
UID:50301-1769385600-1769471999@tcshighschool.org
SUMMARY:SNOW DAY
DESCRIPTION:
URL:https://tcshighschool.org/event/snow-day-6/
CATEGORIES:Special Days
END:VEVENT
BEGIN:VEVENT
DTSTART;VALUE=DATE:20260127
DTEND;VALUE=DATE:20260128
DTSTAMP:20260424T032948
CREATED:20260129T190252Z
LAST-MODIFIED:20260129T190252Z
UID:50303-1769472000-1769558399@tcshighschool.org
SUMMARY:SNOW DAY
DESCRIPTION:
URL:https://tcshighschool.org/event/snow-day-7/
CATEGORIES:Special Days
END:VEVENT
BEGIN:VEVENT
DTSTART;TZID=America/New_York:20260128T121500
DTEND;TZID=America/New_York:20260128T121500
DTSTAMP:20260424T032948
CREATED:20251212T124902Z
LAST-MODIFIED:20260125T205614Z
UID:49946-1769602500-1769602500@tcshighschool.org
SUMMARY:Lunch: Ms. Rina (Hector's Mom)
DESCRIPTION:
URL:https://tcshighschool.org/event/lunch-ms-rina-hectors-mom-2/
CATEGORIES:Lunch
END:VEVENT
BEGIN:VEVENT
DTSTART;TZID=America/New_York:20260129T121500
DTEND;TZID=America/New_York:20260129T124500
DTSTAMP:20260424T032948
CREATED:20251218T125421Z
LAST-MODIFIED:20260128T000852Z
UID:49958-1769688900-1769690700@tcshighschool.org
SUMMARY:Lunch: Ms. Lisa B (Jason's Mom)
DESCRIPTION:broccoli Alfredo\, salad and bread
URL:https://tcshighschool.org/event/lunch-ms-lisa-b-jasons-mom-2/
CATEGORIES:Lunch
END:VEVENT
BEGIN:VEVENT
DTSTART;TZID=America/New_York:20260129T124500
DTEND;TZID=America/New_York:20260129T134500
DTSTAMP:20260424T032948
CREATED:20260129T190624Z
LAST-MODIFIED:20260129T190624Z
UID:50307-1769690700-1769694300@tcshighschool.org
SUMMARY:Movie: Auschwitz: Voices of 44 Survivors Part 1
DESCRIPTION:
URL:https://tcshighschool.org/event/movie-auschwitz-voices-of-44-survivors-part-1/
CATEGORIES:Movies
END:VEVENT
BEGIN:VEVENT
DTSTART;TZID=America/New_York:20260130T090000
DTEND;TZID=America/New_York:20260130T110000
DTSTAMP:20260424T032948
CREATED:20250708T133732Z
LAST-MODIFIED:20250708T133732Z
UID:48742-1769763600-1769770800@tcshighschool.org
SUMMARY:Creative Writing Seminar
DESCRIPTION:
URL:https://tcshighschool.org/event/creative-writing-seminar-12-2025-11-28-2026-01-30/
CATEGORIES:Seminar - Regular
END:VEVENT
BEGIN:VEVENT
DTSTART;TZID=America/New_York:20260130T110000
DTEND;TZID=America/New_York:20260130T113000
DTSTAMP:20260424T032948
CREATED:20251229T182112Z
LAST-MODIFIED:20260129T190016Z
UID:49993-1769770800-1769772600@tcshighschool.org
SUMMARY:Lunch: Ms. Leslie B (Kennedy's Mom)
DESCRIPTION:Chicken
URL:https://tcshighschool.org/event/lunch-ms-leslie-b-kennedys-mom/
CATEGORIES:Lunch
END:VEVENT
BEGIN:VEVENT
DTSTART;TZID=America/New_York:20260130T113000
DTEND;TZID=America/New_York:20260130T130000
DTSTAMP:20260424T032948
CREATED:20251220T163143Z
LAST-MODIFIED:20260129T021336Z
UID:49977-1769772600-1769778000@tcshighschool.org
SUMMARY:Conversation with Rob Commodari
DESCRIPTION:https://www.robcommodariauthor.com/
URL:https://tcshighschool.org/event/conversation-with-rob-commodari/
CATEGORIES:Conversation
ATTACH;FMTTYPE=image/jpeg:https://tcshighschool.org/wp-content/uploads/2025/12/download.jpg
END:VEVENT
BEGIN:VEVENT
DTSTART;VALUE=DATE:20260202
DTEND;VALUE=DATE:20260203
DTSTAMP:20260424T032948
CREATED:20260119T014944Z
LAST-MODIFIED:20260119T014944Z
UID:50228-1769990400-1770076799@tcshighschool.org
SUMMARY:Judah's B-day
DESCRIPTION:
URL:https://tcshighschool.org/event/judahs-b-day/2026-02-02/
CATEGORIES:Special Days
END:VEVENT
BEGIN:VEVENT
DTSTART;TZID=America/New_York:20260202T121500
DTEND;TZID=America/New_York:20260202T124500
DTSTAMP:20260424T032948
CREATED:20260119T014209Z
LAST-MODIFIED:20260202T142459Z
UID:50226-1770034500-1770036300@tcshighschool.org
SUMMARY:Lunch: Ms. Alisha (Judah's Mom)
DESCRIPTION:luten free spaghetti and meat sauce\, salad\, cookies and juice
URL:https://tcshighschool.org/event/lunch-ms-alisha-judahs-mom-5/
CATEGORIES:Lunch
END:VEVENT
BEGIN:VEVENT
DTSTART;TZID=America/New_York:20260203T121500
DTEND;TZID=America/New_York:20260203T124500
DTSTAMP:20260424T032948
CREATED:20251212T125110Z
LAST-MODIFIED:20260203T153257Z
UID:49949-1770120900-1770122700@tcshighschool.org
SUMMARY:Lunch: Ms. Rina (Hector's Mom)
DESCRIPTION:panes con pollo
URL:https://tcshighschool.org/event/lunch-ms-rina-hectors-mom-3/
CATEGORIES:Lunch
END:VEVENT
BEGIN:VEVENT
DTSTART;TZID=America/New_York:20260203T140000
DTEND;TZID=America/New_York:20260203T150000
DTSTAMP:20260424T032948
CREATED:20251206T012347Z
LAST-MODIFIED:20251206T012347Z
UID:49907-1770127200-1770130800@tcshighschool.org
SUMMARY:MICA Art Seminar
DESCRIPTION:
URL:https://tcshighschool.org/event/mica-art-seminar/2026-02-03/
CATEGORIES:Seminar - Regular
END:VEVENT
BEGIN:VEVENT
DTSTART;TZID=America/New_York:20260204T085500
DTEND;TZID=America/New_York:20260204T095500
DTSTAMP:20260424T032948
CREATED:20250708T133601Z
LAST-MODIFIED:20250708T133601Z
UID:48791-1770195300-1770198900@tcshighschool.org
SUMMARY:Physical Education
DESCRIPTION:
URL:https://tcshighschool.org/event/physical-education-8/2026-02-04/
CATEGORIES:Seminar - Regular
END:VEVENT
END:VCALENDAR