BEGIN:VCALENDAR
VERSION:2.0
PRODID:-//TCS High School - ECPv6.15.11//NONSGML v1.0//EN
CALSCALE:GREGORIAN
METHOD:PUBLISH
X-ORIGINAL-URL:https://tcshighschool.org
X-WR-CALDESC:Events for TCS High School
REFRESH-INTERVAL;VALUE=DURATION:PT1H
X-Robots-Tag:noindex
X-PUBLISHED-TTL:PT1H
BEGIN:VTIMEZONE
TZID:America/New_York
BEGIN:DAYLIGHT
TZOFFSETFROM:-0500
TZOFFSETTO:-0400
TZNAME:EDT
DTSTART:20240310T070000
END:DAYLIGHT
BEGIN:STANDARD
TZOFFSETFROM:-0400
TZOFFSETTO:-0500
TZNAME:EST
DTSTART:20241103T060000
END:STANDARD
BEGIN:DAYLIGHT
TZOFFSETFROM:-0500
TZOFFSETTO:-0400
TZNAME:EDT
DTSTART:20250309T070000
END:DAYLIGHT
BEGIN:STANDARD
TZOFFSETFROM:-0400
TZOFFSETTO:-0500
TZNAME:EST
DTSTART:20251102T060000
END:STANDARD
BEGIN:DAYLIGHT
TZOFFSETFROM:-0500
TZOFFSETTO:-0400
TZNAME:EDT
DTSTART:20260308T070000
END:DAYLIGHT
BEGIN:STANDARD
TZOFFSETFROM:-0400
TZOFFSETTO:-0500
TZNAME:EST
DTSTART:20261101T060000
END:STANDARD
END:VTIMEZONE
BEGIN:VEVENT
DTSTART;TZID=America/New_York:20250128T110000
DTEND;TZID=America/New_York:20250128T120000
DTSTAMP:20260425T120926
CREATED:20240816T162309Z
LAST-MODIFIED:20240816T162309Z
UID:46260-1738062000-1738065600@tcshighschool.org
SUMMARY:ASL I
DESCRIPTION:
URL:https://tcshighschool.org/event/asl-i-10-2025-01-28/
CATEGORIES:Seminar - Regular
END:VEVENT
BEGIN:VEVENT
DTSTART;TZID=America/New_York:20250128T121500
DTEND;TZID=America/New_York:20250128T124500
DTSTAMP:20260425T120926
CREATED:20240801T213118Z
LAST-MODIFIED:20250103T141025Z
UID:45972-1738066500-1738068300@tcshighschool.org
SUMMARY:Lunch: Ms. Peg
DESCRIPTION:pasta and sausage/salad /bread
URL:https://tcshighschool.org/event/lunch-ms-peg-62-2025-01-28/
CATEGORIES:Lunch
END:VEVENT
BEGIN:VEVENT
DTSTART;TZID=America/New_York:20250128T124500
DTEND;TZID=America/New_York:20250128T134500
DTSTAMP:20260425T120926
CREATED:20240816T162707Z
LAST-MODIFIED:20240816T162707Z
UID:46272-1738068300-1738071900@tcshighschool.org
SUMMARY:ASL II
DESCRIPTION:
URL:https://tcshighschool.org/event/asl-ii-7-2025-01-28/
CATEGORIES:Seminar - Regular
END:VEVENT
BEGIN:VEVENT
DTSTART;TZID=America/New_York:20250129T085500
DTEND;TZID=America/New_York:20250129T095500
DTSTAMP:20260425T120926
CREATED:20240814T174033Z
LAST-MODIFIED:20240814T174033Z
UID:46173-1738140900-1738144500@tcshighschool.org
SUMMARY:Physical Education
DESCRIPTION:
URL:https://tcshighschool.org/event/physical-education-6/2025-01-29/
CATEGORIES:Seminar - Regular
END:VEVENT
BEGIN:VEVENT
DTSTART;TZID=America/New_York:20250129T121500
DTEND;TZID=America/New_York:20250129T124500
DTSTAMP:20260425T120926
CREATED:20240814T172412Z
LAST-MODIFIED:20250129T180453Z
UID:46154-1738152900-1738154700@tcshighschool.org
SUMMARY:Lunch: The Avents (Lyric's Family)
DESCRIPTION:pizza
URL:https://tcshighschool.org/event/lunch-the-avents-lyrics-family-3/
CATEGORIES:Lunch
END:VEVENT
BEGIN:VEVENT
DTSTART;TZID=America/New_York:20250129T124500
DTEND;TZID=America/New_York:20250129T134500
DTSTAMP:20260425T120926
CREATED:20241216T150957Z
LAST-MODIFIED:20241216T150957Z
UID:47444-1738154700-1738158300@tcshighschool.org
SUMMARY:Art Seminar
DESCRIPTION:
URL:https://tcshighschool.org/event/art-seminar-9-2025-01-15/2025-01-29/
CATEGORIES:Seminar - Regular
END:VEVENT
BEGIN:VEVENT
DTSTART;TZID=America/New_York:20250130T121500
DTEND;TZID=America/New_York:20250130T124500
DTSTAMP:20260425T120926
CREATED:20241015T144127Z
LAST-MODIFIED:20250129T180555Z
UID:46787-1738239300-1738241100@tcshighschool.org
SUMMARY:Lunch: The Stahl's (Rhys & Quinn's Sponsors)
DESCRIPTION:pizza
URL:https://tcshighschool.org/event/lunch-the-stahls-rhys-quinns-sponsors/
CATEGORIES:Lunch
END:VEVENT
BEGIN:VEVENT
DTSTART;TZID=America/New_York:20250130T133000
DTEND;TZID=America/New_York:20250130T150000
DTSTAMP:20260425T120926
CREATED:20250109T192422Z
LAST-MODIFIED:20250126T155933Z
UID:47382-1738243800-1738249200@tcshighschool.org
SUMMARY:Young Playwrights Seminar
DESCRIPTION:
URL:https://tcshighschool.org/event/young-playwrights-2/
CATEGORIES:Seminar - Regular
END:VEVENT
BEGIN:VEVENT
DTSTART;TZID=America/New_York:20250131T090000
DTEND;TZID=America/New_York:20250131T110000
DTSTAMP:20260425T120926
CREATED:20250110T145117Z
LAST-MODIFIED:20250428T132149Z
UID:47393-1738314000-1738321200@tcshighschool.org
SUMMARY:Creative Writing
DESCRIPTION:
URL:https://tcshighschool.org/event/creative-writing-12/2025-01-31/
CATEGORIES:Seminar - Regular
END:VEVENT
BEGIN:VEVENT
DTSTART;TZID=America/New_York:20250131T110000
DTEND;TZID=America/New_York:20250131T113000
DTSTAMP:20260425T120926
CREATED:20250116T165444Z
LAST-MODIFIED:20250116T165525Z
UID:47466-1738321200-1738323000@tcshighschool.org
SUMMARY:Lunch - Ms. Rachel (Rhys & Quinn's Sponsor)
DESCRIPTION:
URL:https://tcshighschool.org/event/lunch-ms-rachel-rhys-quinns-sponsor-3/
CATEGORIES:Lunch
END:VEVENT
BEGIN:VEVENT
DTSTART;TZID=America/New_York:20250131T113000
DTEND;TZID=America/New_York:20250131T130000
DTSTAMP:20260425T120926
CREATED:20241103T210801Z
LAST-MODIFIED:20250123T185348Z
UID:46951-1738323000-1738328400@tcshighschool.org
SUMMARY:Conversation with Mario Armstrong
DESCRIPTION:https://www.marioarmstrong.com/
URL:https://tcshighschool.org/event/conversation-with-mario-armstrong-2/
CATEGORIES:Conversation
ATTACH;FMTTYPE=image/jpeg:https://tcshighschool.org/wp-content/uploads/2024/11/download-2-2.jpg
END:VEVENT
BEGIN:VEVENT
DTSTART;TZID=America/New_York:20250201T110000
DTEND;TZID=America/New_York:20250201T130000
DTSTAMP:20260425T120926
CREATED:20250108T214404Z
LAST-MODIFIED:20250108T214404Z
UID:47378-1738407600-1738414800@tcshighschool.org
SUMMARY:TCS Deep Cleaning
DESCRIPTION:
URL:https://tcshighschool.org/event/tcs-deep-cleaning/
CATEGORIES:Social Events
END:VEVENT
BEGIN:VEVENT
DTSTART;TZID=America/New_York:20250203T121500
DTEND;TZID=America/New_York:20250203T124500
DTSTAMP:20260425T120926
CREATED:20241206T124825Z
LAST-MODIFIED:20241206T153824Z
UID:47198-1738584900-1738586700@tcshighschool.org
SUMMARY:Lunch: Ms. Carla (Karla & Ruth's Mom)
DESCRIPTION:pupusas
URL:https://tcshighschool.org/event/lunch-ms-carla-karla-ruths-mom-6/
CATEGORIES:Lunch
END:VEVENT
BEGIN:VEVENT
DTSTART;TZID=America/New_York:20250203T134500
DTEND;TZID=America/New_York:20250203T150000
DTSTAMP:20260425T120926
CREATED:20250110T145347Z
LAST-MODIFIED:20250126T155808Z
UID:47413-1738590300-1738594800@tcshighschool.org
SUMMARY:Computer Science Seminar
DESCRIPTION:
URL:https://tcshighschool.org/event/computer-science-seminar-tentative/2025-02-03/
CATEGORIES:Seminar - Regular
END:VEVENT
BEGIN:VEVENT
DTSTART;VALUE=DATE:20250204
DTEND;VALUE=DATE:20250205
DTSTAMP:20260425T120926
CREATED:20241215T161918Z
LAST-MODIFIED:20241215T161918Z
UID:47268-1738627200-1738713599@tcshighschool.org
SUMMARY:Joe Corbi Distribution
DESCRIPTION:
URL:https://tcshighschool.org/event/joe-corbi-distribution/
CATEGORIES:Special Days
END:VEVENT
BEGIN:VEVENT
DTSTART;TZID=America/New_York:20250204T110000
DTEND;TZID=America/New_York:20250204T120000
DTSTAMP:20260425T120926
CREATED:20250106T232045Z
LAST-MODIFIED:20250106T232045Z
UID:47362-1738666800-1738670400@tcshighschool.org
SUMMARY:ASL II
DESCRIPTION:
URL:https://tcshighschool.org/event/asl-ii-8/
CATEGORIES:Seminar - Regular
END:VEVENT
BEGIN:VEVENT
DTSTART;TZID=America/New_York:20250204T121500
DTEND;TZID=America/New_York:20250204T124500
DTSTAMP:20260425T120926
CREATED:20250110T145632Z
LAST-MODIFIED:20250121T120826Z
UID:47431-1738671300-1738673100@tcshighschool.org
SUMMARY:Lunch: Ms. Peg
DESCRIPTION:grilled cheese\, tomato soup & grapes
URL:https://tcshighschool.org/event/lunch-ms-peg-63/
CATEGORIES:Lunch
END:VEVENT
BEGIN:VEVENT
DTSTART;TZID=America/New_York:20250204T124500
DTEND;TZID=America/New_York:20250204T134500
DTSTAMP:20260425T120926
CREATED:20250106T232148Z
LAST-MODIFIED:20250106T232148Z
UID:47364-1738673100-1738676700@tcshighschool.org
SUMMARY:ASL I
DESCRIPTION:
URL:https://tcshighschool.org/event/asl-i-10/
CATEGORIES:Seminar - Regular
END:VEVENT
BEGIN:VEVENT
DTSTART;TZID=America/New_York:20250205T085500
DTEND;TZID=America/New_York:20250205T095500
DTSTAMP:20260425T120926
CREATED:20240814T174033Z
LAST-MODIFIED:20240814T174033Z
UID:46174-1738745700-1738749300@tcshighschool.org
SUMMARY:Physical Education
DESCRIPTION:
URL:https://tcshighschool.org/event/physical-education-6/2025-02-05/
CATEGORIES:Seminar - Regular
END:VEVENT
BEGIN:VEVENT
DTSTART;TZID=America/New_York:20250205T121500
DTEND;TZID=America/New_York:20250205T124500
DTSTAMP:20260425T120926
CREATED:20240922T223404Z
LAST-MODIFIED:20240922T223404Z
UID:46554-1738757700-1738759500@tcshighschool.org
SUMMARY:Lunch: Ms. Linda (Madison's Mom)
DESCRIPTION:
URL:https://tcshighschool.org/event/lunch-ms-linda-madisons-mom-28/
CATEGORIES:Lunch
END:VEVENT
BEGIN:VEVENT
DTSTART;TZID=America/New_York:20250206T124500
DTEND;TZID=America/New_York:20250206T134500
DTSTAMP:20260425T120926
CREATED:20250124T193609Z
LAST-MODIFIED:20250124T193609Z
UID:47542-1738845900-1738849500@tcshighschool.org
SUMMARY:Conversation with Dylan Low (Part II)
DESCRIPTION:
URL:https://tcshighschool.org/event/conversation-with-dylan-low-part-ii/
CATEGORIES:Conversation
END:VEVENT
BEGIN:VEVENT
DTSTART;TZID=America/New_York:20250207T090000
DTEND;TZID=America/New_York:20250207T110000
DTSTAMP:20260425T120926
CREATED:20250110T145117Z
LAST-MODIFIED:20250428T132155Z
UID:47394-1738918800-1738926000@tcshighschool.org
SUMMARY:Creative Writing
DESCRIPTION:
URL:https://tcshighschool.org/event/creative-writing-12/2025-02-07/
CATEGORIES:Seminar - Regular
END:VEVENT
BEGIN:VEVENT
DTSTART;TZID=America/New_York:20250207T110000
DTEND;TZID=America/New_York:20250207T113000
DTSTAMP:20260425T120926
CREATED:20250116T181609Z
LAST-MODIFIED:20250207T191318Z
UID:47471-1738926000-1738927800@tcshighschool.org
SUMMARY:Lunch - Mrs. Gloria (Lyric's Grandmother)
DESCRIPTION:
URL:https://tcshighschool.org/event/lunch-ms-gloria-lyrics-grandmother/
CATEGORIES:Lunch
END:VEVENT
BEGIN:VEVENT
DTSTART;TZID=America/New_York:20250207T120000
DTEND;TZID=America/New_York:20250207T140000
DTSTAMP:20260425T120926
CREATED:20250110T144057Z
LAST-MODIFIED:20250110T200207Z
UID:47386-1738929600-1738936800@tcshighschool.org
SUMMARY:Breakout Game
DESCRIPTION:
URL:https://tcshighschool.org/event/breakout-game/
CATEGORIES:Field Trips
END:VEVENT
BEGIN:VEVENT
DTSTART;TZID=America/New_York:20250210T121500
DTEND;TZID=America/New_York:20250210T124500
DTSTAMP:20260425T120926
CREATED:20240815T130445Z
LAST-MODIFIED:20250209T162544Z
UID:46234-1739189700-1739191500@tcshighschool.org
SUMMARY:Lunch: Ms. Shakiara (Khori's Mom)
DESCRIPTION:pizza
URL:https://tcshighschool.org/event/lunch-ms-shakiara-khoris-mom-6/
CATEGORIES:Lunch
END:VEVENT
BEGIN:VEVENT
DTSTART;TZID=America/New_York:20250210T134500
DTEND;TZID=America/New_York:20250210T150000
DTSTAMP:20260425T120926
CREATED:20250110T145347Z
LAST-MODIFIED:20250126T155817Z
UID:47414-1739195100-1739199600@tcshighschool.org
SUMMARY:Computer Science Seminar
DESCRIPTION:
URL:https://tcshighschool.org/event/computer-science-seminar-tentative/2025-02-10/
CATEGORIES:Seminar - Regular
END:VEVENT
BEGIN:VEVENT
DTSTART;VALUE=DATE:20250211
DTEND;VALUE=DATE:20250212
DTSTAMP:20260425T120926
CREATED:20241230T125107Z
LAST-MODIFIED:20250125T051011Z
UID:47334-1739232000-1739318399@tcshighschool.org
SUMMARY:Shadow Day
DESCRIPTION:
URL:https://tcshighschool.org/event/shadow-day-53/
CATEGORIES:Shadow Days
END:VEVENT
BEGIN:VEVENT
DTSTART;TZID=America/New_York:20250211T110000
DTEND;TZID=America/New_York:20250211T120000
DTSTAMP:20260425T120926
CREATED:20240816T162309Z
LAST-MODIFIED:20240816T162309Z
UID:46262-1739271600-1739275200@tcshighschool.org
SUMMARY:ASL I
DESCRIPTION:
URL:https://tcshighschool.org/event/asl-i-10-2025-02-11/
CATEGORIES:Seminar - Regular
END:VEVENT
BEGIN:VEVENT
DTSTART;TZID=America/New_York:20250211T121500
DTEND;TZID=America/New_York:20250211T124500
DTSTAMP:20260425T120926
CREATED:20240801T213118Z
LAST-MODIFIED:20250103T141217Z
UID:45974-1739276100-1739277900@tcshighschool.org
SUMMARY:Lunch: Ms. Peg
DESCRIPTION:quesadillas/ salad/fruit
URL:https://tcshighschool.org/event/lunch-ms-peg-62-2025-02-11/
CATEGORIES:Lunch
END:VEVENT
BEGIN:VEVENT
DTSTART;TZID=America/New_York:20250211T124500
DTEND;TZID=America/New_York:20250211T134500
DTSTAMP:20260425T120926
CREATED:20240816T162707Z
LAST-MODIFIED:20240816T162707Z
UID:46274-1739277900-1739281500@tcshighschool.org
SUMMARY:ASL II
DESCRIPTION:
URL:https://tcshighschool.org/event/asl-ii-7-2025-02-11/
CATEGORIES:Seminar - Regular
END:VEVENT
END:VCALENDAR