BEGIN:VCALENDAR
VERSION:2.0
PRODID:-//TCS High School - ECPv6.15.11//NONSGML v1.0//EN
CALSCALE:GREGORIAN
METHOD:PUBLISH
X-WR-CALNAME:TCS High School
X-ORIGINAL-URL:https://tcshighschool.org
X-WR-CALDESC:Events for TCS High School
REFRESH-INTERVAL;VALUE=DURATION:PT1H
X-Robots-Tag:noindex
X-PUBLISHED-TTL:PT1H
BEGIN:VTIMEZONE
TZID:America/New_York
BEGIN:DAYLIGHT
TZOFFSETFROM:-0500
TZOFFSETTO:-0400
TZNAME:EDT
DTSTART:20240310T070000
END:DAYLIGHT
BEGIN:STANDARD
TZOFFSETFROM:-0400
TZOFFSETTO:-0500
TZNAME:EST
DTSTART:20241103T060000
END:STANDARD
BEGIN:DAYLIGHT
TZOFFSETFROM:-0500
TZOFFSETTO:-0400
TZNAME:EDT
DTSTART:20250309T070000
END:DAYLIGHT
BEGIN:STANDARD
TZOFFSETFROM:-0400
TZOFFSETTO:-0500
TZNAME:EST
DTSTART:20251102T060000
END:STANDARD
BEGIN:DAYLIGHT
TZOFFSETFROM:-0500
TZOFFSETTO:-0400
TZNAME:EDT
DTSTART:20260308T070000
END:DAYLIGHT
BEGIN:STANDARD
TZOFFSETFROM:-0400
TZOFFSETTO:-0500
TZNAME:EST
DTSTART:20261101T060000
END:STANDARD
END:VTIMEZONE
BEGIN:VEVENT
DTSTART;TZID=America/New_York:20250107T121500
DTEND;TZID=America/New_York:20250107T124500
DTSTAMP:20260425T062918
CREATED:20240922T222809Z
LAST-MODIFIED:20250108T124348Z
UID:46544-1736252100-1736253900@tcshighschool.org
SUMMARY:Lunch: Karla (student)
DESCRIPTION:enchiladas con arroz
URL:https://tcshighschool.org/event/lunch-ms-carla-karla-ruths-mom-8/
CATEGORIES:Lunch
END:VEVENT
BEGIN:VEVENT
DTSTART;TZID=America/New_York:20250108T085500
DTEND;TZID=America/New_York:20250108T095500
DTSTAMP:20260425T062918
CREATED:20240814T174033Z
LAST-MODIFIED:20240814T174033Z
UID:46170-1736326500-1736330100@tcshighschool.org
SUMMARY:Physical Education
DESCRIPTION:
URL:https://tcshighschool.org/event/physical-education-6/
CATEGORIES:Seminar - Regular
END:VEVENT
BEGIN:VEVENT
DTSTART;TZID=America/New_York:20250108T121500
DTEND;TZID=America/New_York:20250108T124500
DTSTAMP:20260425T062918
CREATED:20241206T153604Z
LAST-MODIFIED:20250108T125957Z
UID:47213-1736338500-1736340300@tcshighschool.org
SUMMARY:Lunch: Ms. Leslie (Kennedy's Mom)
DESCRIPTION:spaghetti
URL:https://tcshighschool.org/event/lunch-ms-leslie-kennedys-mom-29/
CATEGORIES:Lunch
END:VEVENT
BEGIN:VEVENT
DTSTART;TZID=America/New_York:20250108T124500
DTEND;TZID=America/New_York:20250108T134500
DTSTAMP:20260425T062918
CREATED:20240815T170637Z
LAST-MODIFIED:20240815T170637Z
UID:46242-1736340300-1736343900@tcshighschool.org
SUMMARY:Art Seminar
DESCRIPTION:
URL:https://tcshighschool.org/event/art-seminar-6/
CATEGORIES:Seminar - Regular
END:VEVENT
BEGIN:VEVENT
DTSTART;TZID=America/New_York:20250109T120000
DTEND;TZID=America/New_York:20250109T123000
DTSTAMP:20260425T062918
CREATED:20240801T210942Z
LAST-MODIFIED:20240801T210942Z
UID:45921-1736424000-1736425800@tcshighschool.org
SUMMARY:Lunch: The Lyric
DESCRIPTION:
URL:https://tcshighschool.org/event/lunch-the-lyric-5/
CATEGORIES:Lunch
END:VEVENT
BEGIN:VEVENT
DTSTART;TZID=America/New_York:20250109T120000
DTEND;TZID=America/New_York:20250109T140000
DTSTAMP:20260425T062918
CREATED:20240723T163952Z
LAST-MODIFIED:20240801T215158Z
UID:45803-1736424000-1736431200@tcshighschool.org
SUMMARY:Theatre with The Lyric
DESCRIPTION:
URL:https://tcshighschool.org/event/theatre-with-the-lyric-4/2025-01-09/
CATEGORIES:Field Trips
END:VEVENT
BEGIN:VEVENT
DTSTART;TZID=America/New_York:20250109T140000
DTEND;TZID=America/New_York:20250109T150000
DTSTAMP:20260425T062918
CREATED:20241016T173815Z
LAST-MODIFIED:20250107T201853Z
UID:46801-1736431200-1736434800@tcshighschool.org
SUMMARY:Young Playwrights Seminar
DESCRIPTION:
URL:https://tcshighschool.org/event/young-playwrights-seminar-10/
CATEGORIES:Seminar - Regular
END:VEVENT
BEGIN:VEVENT
DTSTART;TZID=America/New_York:20250110T090000
DTEND;TZID=America/New_York:20250110T110000
DTSTAMP:20260425T062918
CREATED:20250110T145117Z
LAST-MODIFIED:20250428T132120Z
UID:47390-1736499600-1736506800@tcshighschool.org
SUMMARY:Creative Writing
DESCRIPTION:
URL:https://tcshighschool.org/event/creative-writing-12/2025-01-10/
CATEGORIES:Seminar - Regular
END:VEVENT
BEGIN:VEVENT
DTSTART;TZID=America/New_York:20250110T110000
DTEND;TZID=America/New_York:20250110T113000
DTSTAMP:20260425T062918
CREATED:20240922T223028Z
LAST-MODIFIED:20250107T221051Z
UID:46548-1736506800-1736508600@tcshighschool.org
SUMMARY:Lunch: Ms. Linda (Madison's Mom)
DESCRIPTION:Fried chicken\, Mac n cheese\, cornbread\, & chocolate chip cookies
URL:https://tcshighschool.org/event/lunch-ms-linda-madisons-mom-27/
CATEGORIES:Lunch
END:VEVENT
BEGIN:VEVENT
DTSTART;TZID=America/New_York:20250110T113000
DTEND;TZID=America/New_York:20250110T133000
DTSTAMP:20260425T062918
CREATED:20250110T144228Z
LAST-MODIFIED:20250125T050916Z
UID:47388-1736508600-1736515800@tcshighschool.org
SUMMARY:Documentary: The Revolution Generation
DESCRIPTION:
URL:https://tcshighschool.org/event/movie-the-revolution-generation/
CATEGORIES:Movies
END:VEVENT
BEGIN:VEVENT
DTSTART;TZID=America/New_York:20250113T121500
DTEND;TZID=America/New_York:20250113T124500
DTSTAMP:20260425T062918
CREATED:20240815T130350Z
LAST-MODIFIED:20250112T233859Z
UID:46232-1736770500-1736772300@tcshighschool.org
SUMMARY:Lunch: Ms. Shakiara (Khori's Mom)
DESCRIPTION:pizza
URL:https://tcshighschool.org/event/lunch-ms-shakiara-khoris-mom-5/
CATEGORIES:Lunch
END:VEVENT
BEGIN:VEVENT
DTSTART;TZID=America/New_York:20250113T140000
DTEND;TZID=America/New_York:20250113T150000
DTSTAMP:20260425T062918
CREATED:20241016T173716Z
LAST-MODIFIED:20241021T212716Z
UID:46796-1736776800-1736780400@tcshighschool.org
SUMMARY:Young Playwrights Seminar
DESCRIPTION:
URL:https://tcshighschool.org/event/young-playwrights-seminar-9/
CATEGORIES:Seminar - Regular
END:VEVENT
BEGIN:VEVENT
DTSTART;VALUE=DATE:20250114
DTEND;VALUE=DATE:20250115
DTSTAMP:20260425T062918
CREATED:20241230T124930Z
LAST-MODIFIED:20241230T124930Z
UID:47332-1736812800-1736899199@tcshighschool.org
SUMMARY:Shadow Day
DESCRIPTION:
URL:https://tcshighschool.org/event/shadow-day-52/
CATEGORIES:Shadow Days
END:VEVENT
BEGIN:VEVENT
DTSTART;TZID=America/New_York:20250114T110000
DTEND;TZID=America/New_York:20250114T120000
DTSTAMP:20260425T062918
CREATED:20240816T162309Z
LAST-MODIFIED:20240816T162309Z
UID:46258-1736852400-1736856000@tcshighschool.org
SUMMARY:ASL I
DESCRIPTION:
URL:https://tcshighschool.org/event/asl-i-10-2025-01-14/
CATEGORIES:Seminar - Regular
END:VEVENT
BEGIN:VEVENT
DTSTART;TZID=America/New_York:20250114T121500
DTEND;TZID=America/New_York:20250114T124500
DTSTAMP:20260425T062918
CREATED:20240801T213118Z
LAST-MODIFIED:20250112T233951Z
UID:45970-1736856900-1736858700@tcshighschool.org
SUMMARY:Lunch: Ms. Peg
DESCRIPTION:Beef stew\, bread\, fruit
URL:https://tcshighschool.org/event/lunch-ms-peg-62-2025-01-14/
CATEGORIES:Lunch
END:VEVENT
BEGIN:VEVENT
DTSTART;TZID=America/New_York:20250114T124500
DTEND;TZID=America/New_York:20250114T134500
DTSTAMP:20260425T062918
CREATED:20240816T162707Z
LAST-MODIFIED:20240816T162707Z
UID:46270-1736858700-1736862300@tcshighschool.org
SUMMARY:ASL II
DESCRIPTION:
URL:https://tcshighschool.org/event/asl-ii-7-2025-01-14/
CATEGORIES:Seminar - Regular
END:VEVENT
BEGIN:VEVENT
DTSTART;TZID=America/New_York:20250115T085500
DTEND;TZID=America/New_York:20250115T095500
DTSTAMP:20260425T062918
CREATED:20240814T174033Z
LAST-MODIFIED:20240814T174033Z
UID:46171-1736931300-1736934900@tcshighschool.org
SUMMARY:Physical Education
DESCRIPTION:
URL:https://tcshighschool.org/event/physical-education-6/2025-01-15/
CATEGORIES:Seminar - Regular
END:VEVENT
BEGIN:VEVENT
DTSTART;TZID=America/New_York:20250115T121500
DTEND;TZID=America/New_York:20250115T124500
DTSTAMP:20260425T062918
CREATED:20240813T210746Z
LAST-MODIFIED:20250110T145803Z
UID:46069-1736943300-1736945100@tcshighschool.org
SUMMARY:Lunch: Ms. Mary Louise
DESCRIPTION:Italian Sub Sandwiches
URL:https://tcshighschool.org/event/lunch-ms-mary-louise-26/
CATEGORIES:Lunch
END:VEVENT
BEGIN:VEVENT
DTSTART;TZID=America/New_York:20250115T124500
DTEND;TZID=America/New_York:20250115T134500
DTSTAMP:20260425T062918
CREATED:20241216T150957Z
LAST-MODIFIED:20250115T143427Z
UID:47273-1736945100-1736948700@tcshighschool.org
SUMMARY:Art Seminar
DESCRIPTION:
URL:https://tcshighschool.org/event/art-seminar-9-2025-01-15/2025-01-15/
CATEGORIES:Seminar - Regular
END:VEVENT
BEGIN:VEVENT
DTSTART;TZID=America/New_York:20250116T121500
DTEND;TZID=America/New_York:20250116T124500
DTSTAMP:20260425T062918
CREATED:20240813T134928Z
LAST-MODIFIED:20250116T174953Z
UID:46033-1737029700-1737031500@tcshighschool.org
SUMMARY:Lunch: Berman McAleer
DESCRIPTION:baked ziti\, bread\, salad\, ice cream
URL:https://tcshighschool.org/event/lunch-berman-mcaleer-17-2025-01-16/
CATEGORIES:Lunch
END:VEVENT
BEGIN:VEVENT
DTSTART;TZID=America/New_York:20250116T124500
DTEND;TZID=America/New_York:20250116T134500
DTSTAMP:20260425T062918
CREATED:20240722T191232Z
LAST-MODIFIED:20240722T191232Z
UID:45772-1737031500-1737035100@tcshighschool.org
SUMMARY:Financial Literacy
DESCRIPTION:
URL:https://tcshighschool.org/event/financial-literacy-9/2025-01-16/
CATEGORIES:Seminar - Regular
END:VEVENT
BEGIN:VEVENT
DTSTART;TZID=America/New_York:20250116T180000
DTEND;TZID=America/New_York:20250116T193000
DTSTAMP:20260425T062918
CREATED:20250116T120736Z
LAST-MODIFIED:20250116T120736Z
UID:47462-1737050400-1737055800@tcshighschool.org
SUMMARY:Board of Trustees Meeting
DESCRIPTION:
URL:https://tcshighschool.org/event/board-of-trustees-meeting-13/
CATEGORIES:Meetings
END:VEVENT
BEGIN:VEVENT
DTSTART;TZID=America/New_York:20250117T090000
DTEND;TZID=America/New_York:20250117T110000
DTSTAMP:20260425T062918
CREATED:20250110T145117Z
LAST-MODIFIED:20250428T132137Z
UID:47391-1737104400-1737111600@tcshighschool.org
SUMMARY:Creative Writing
DESCRIPTION:
URL:https://tcshighschool.org/event/creative-writing-12/2025-01-17/
CATEGORIES:Seminar - Regular
END:VEVENT
BEGIN:VEVENT
DTSTART;TZID=America/New_York:20250117T110000
DTEND;TZID=America/New_York:20250117T113000
DTSTAMP:20260425T062918
CREATED:20240815T011009Z
LAST-MODIFIED:20250116T174831Z
UID:46208-1737111600-1737113400@tcshighschool.org
SUMMARY:Lunch: Ms. Rita (Ethan's Mom)
DESCRIPTION:sandwiches
URL:https://tcshighschool.org/event/lunch-ms-rita-ethans-mom-21/
CATEGORIES:Lunch
END:VEVENT
BEGIN:VEVENT
DTSTART;TZID=America/New_York:20250117T113000
DTEND;TZID=America/New_York:20250117T130000
DTSTAMP:20260425T062918
CREATED:20241030T214703Z
LAST-MODIFIED:20241208T151456Z
UID:46902-1737113400-1737118800@tcshighschool.org
SUMMARY:Conversation with Carlos Avent
DESCRIPTION:
URL:https://tcshighschool.org/event/conversation-with-carlos-avent/
CATEGORIES:Conversation
ATTACH;FMTTYPE=image/jpeg:https://tcshighschool.org/wp-content/uploads/2024/10/1721448453808.jpg
END:VEVENT
BEGIN:VEVENT
DTSTART;TZID=America/New_York:20250120T093000
DTEND;TZID=America/New_York:20250120T230000
DTSTAMP:20260425T062918
CREATED:20250120T195132Z
LAST-MODIFIED:20250125T050841Z
UID:47518-1737365400-1737414000@tcshighschool.org
SUMMARY:Documentary: The Road to Brown
DESCRIPTION:
URL:https://tcshighschool.org/event/the-road-to-brown/
CATEGORIES:Movies
END:VEVENT
BEGIN:VEVENT
DTSTART;TZID=America/New_York:20250120T121500
DTEND;TZID=America/New_York:20250120T124500
DTSTAMP:20260425T062918
CREATED:20240801T212528Z
LAST-MODIFIED:20250120T005842Z
UID:45937-1737375300-1737377100@tcshighschool.org
SUMMARY:Lunch: Ms. Jenae (Rhys & Quinn's Mom)
DESCRIPTION:tacos with fixins’
URL:https://tcshighschool.org/event/lunch-ms-jenae-rhys-quinns-mom-16/
CATEGORIES:Lunch
END:VEVENT
BEGIN:VEVENT
DTSTART;TZID=America/New_York:20250120T140000
DTEND;TZID=America/New_York:20250120T150000
DTSTAMP:20260425T062918
CREATED:20241212T171125Z
LAST-MODIFIED:20241212T171125Z
UID:47250-1737381600-1737385200@tcshighschool.org
SUMMARY:Young Playwrights Seminar
DESCRIPTION:
URL:https://tcshighschool.org/event/young-playwrights-seminar-11/
CATEGORIES:Seminar - Regular
END:VEVENT
BEGIN:VEVENT
DTSTART;TZID=America/New_York:20250121T110000
DTEND;TZID=America/New_York:20250121T120000
DTSTAMP:20260425T062918
CREATED:20240816T162309Z
LAST-MODIFIED:20240816T162309Z
UID:46259-1737457200-1737460800@tcshighschool.org
SUMMARY:ASL I
DESCRIPTION:
URL:https://tcshighschool.org/event/asl-i-10-2025-01-21/
CATEGORIES:Seminar - Regular
END:VEVENT
BEGIN:VEVENT
DTSTART;TZID=America/New_York:20250121T121500
DTEND;TZID=America/New_York:20250121T124500
DTSTAMP:20260425T062918
CREATED:20240801T213118Z
LAST-MODIFIED:20250103T140633Z
UID:45971-1737461700-1737463500@tcshighschool.org
SUMMARY:Lunch: Ms. Peg
DESCRIPTION:chicken pot pie/fruit
URL:https://tcshighschool.org/event/lunch-ms-peg-62-2025-01-21/
CATEGORIES:Lunch
END:VEVENT
END:VCALENDAR