BEGIN:VCALENDAR
VERSION:2.0
PRODID:-//TCS High School - ECPv6.15.11//NONSGML v1.0//EN
CALSCALE:GREGORIAN
METHOD:PUBLISH
X-WR-CALNAME:TCS High School
X-ORIGINAL-URL:https://tcshighschool.org
X-WR-CALDESC:Events for TCS High School
REFRESH-INTERVAL;VALUE=DURATION:PT1H
X-Robots-Tag:noindex
X-PUBLISHED-TTL:PT1H
BEGIN:VTIMEZONE
TZID:America/New_York
BEGIN:DAYLIGHT
TZOFFSETFROM:-0500
TZOFFSETTO:-0400
TZNAME:EDT
DTSTART:20220313T070000
END:DAYLIGHT
BEGIN:STANDARD
TZOFFSETFROM:-0400
TZOFFSETTO:-0500
TZNAME:EST
DTSTART:20221106T060000
END:STANDARD
BEGIN:DAYLIGHT
TZOFFSETFROM:-0500
TZOFFSETTO:-0400
TZNAME:EDT
DTSTART:20230312T070000
END:DAYLIGHT
BEGIN:STANDARD
TZOFFSETFROM:-0400
TZOFFSETTO:-0500
TZNAME:EST
DTSTART:20231105T060000
END:STANDARD
BEGIN:DAYLIGHT
TZOFFSETFROM:-0500
TZOFFSETTO:-0400
TZNAME:EDT
DTSTART:20240310T070000
END:DAYLIGHT
BEGIN:STANDARD
TZOFFSETFROM:-0400
TZOFFSETTO:-0500
TZNAME:EST
DTSTART:20241103T060000
END:STANDARD
END:VTIMEZONE
BEGIN:VEVENT
DTSTART;TZID=America/New_York:20230911T110000
DTEND;TZID=America/New_York:20230911T113000
DTSTAMP:20260425T165157
CREATED:20230822T120903Z
LAST-MODIFIED:20230908T212546Z
UID:43676-1694430000-1694431800@tcshighschool.org
SUMMARY:Lunch: Ms. Jenae (Rhys & Quinn's Mom)
DESCRIPTION:tacos & rice
URL:https://tcshighschool.org/event/lunch-ms-jenae-rhys-quinns-mom-2/
CATEGORIES:Lunch
END:VEVENT
BEGIN:VEVENT
DTSTART;TZID=America/New_York:20230911T130000
DTEND;TZID=America/New_York:20230911T150000
DTSTAMP:20260425T165157
CREATED:20230822T191659Z
LAST-MODIFIED:20230822T191659Z
UID:43685-1694437200-1694444400@tcshighschool.org
SUMMARY:Done Construction Seminar
DESCRIPTION:
URL:https://tcshighschool.org/event/done-construction-seminar-5/2023-09-11/
CATEGORIES:Seminar - Regular
END:VEVENT
BEGIN:VEVENT
DTSTART;TZID=America/New_York:20230912T100000
DTEND;TZID=America/New_York:20230912T110000
DTSTAMP:20260425T165157
CREATED:20231102T133133Z
LAST-MODIFIED:20231102T133133Z
UID:44429-1694512800-1694516400@tcshighschool.org
SUMMARY:ASL I
DESCRIPTION:
URL:https://tcshighschool.org/event/asl-i-5/2023-09-12/
CATEGORIES:Seminar - Regular
END:VEVENT
BEGIN:VEVENT
DTSTART;TZID=America/New_York:20230912T121500
DTEND;TZID=America/New_York:20230912T124500
DTSTAMP:20260425T165157
CREATED:20230810T201746Z
LAST-MODIFIED:20230909T151110Z
UID:42844-1694520900-1694522700@tcshighschool.org
SUMMARY:Lunch: Ms. Peggy
DESCRIPTION:Egg\, cheese and sausage casserole\nFruit\nDessert
URL:https://tcshighschool.org/event/lunch-ms-peggy-3/
CATEGORIES:Lunch
END:VEVENT
BEGIN:VEVENT
DTSTART;TZID=America/New_York:20230912T124500
DTEND;TZID=America/New_York:20230912T134500
DTSTAMP:20260425T165157
CREATED:20230814T215700Z
LAST-MODIFIED:20230816T184728Z
UID:43088-1694522700-1694526300@tcshighschool.org
SUMMARY:ASL II
DESCRIPTION:
URL:https://tcshighschool.org/event/asl-ii-2-2023-09-19/2023-09-12/
CATEGORIES:Seminar - Regular
END:VEVENT
BEGIN:VEVENT
DTSTART;TZID=America/New_York:20230913T084500
DTEND;TZID=America/New_York:20230913T084500
DTSTAMP:20260425T165157
CREATED:20230814T214915Z
LAST-MODIFIED:20230814T214915Z
UID:42912-1694594700-1694594700@tcshighschool.org
SUMMARY:Physical Education
DESCRIPTION:
URL:https://tcshighschool.org/event/physical-education-3/2023-09-13/
CATEGORIES:Seminar - Regular
END:VEVENT
BEGIN:VEVENT
DTSTART;TZID=America/New_York:20230913T121500
DTEND;TZID=America/New_York:20230913T124500
DTSTAMP:20260425T165157
CREATED:20230904T144727Z
LAST-MODIFIED:20230912T140918Z
UID:43822-1694607300-1694609100@tcshighschool.org
SUMMARY:Lunch: Ms. Leslie (Kennedy's Mom)
DESCRIPTION: cold cuts and chips
URL:https://tcshighschool.org/event/lunch-ms-leslie-kennedys-mom-5/
CATEGORIES:Lunch
END:VEVENT
BEGIN:VEVENT
DTSTART;TZID=America/New_York:20230913T124500
DTEND;TZID=America/New_York:20230913T134500
DTSTAMP:20260425T165157
CREATED:20230814T215311Z
LAST-MODIFIED:20230821T134627Z
UID:43437-1694609100-1694612700@tcshighschool.org
SUMMARY:Visual Arts
DESCRIPTION:
URL:https://tcshighschool.org/event/visual-arts-2023-09-13/2023-09-13/
CATEGORIES:Seminar - Regular
END:VEVENT
BEGIN:VEVENT
DTSTART;TZID=America/New_York:20230914T121500
DTEND;TZID=America/New_York:20230914T124500
DTSTAMP:20260425T165157
CREATED:20230810T202136Z
LAST-MODIFIED:20230814T171809Z
UID:42883-1694693700-1694695500@tcshighschool.org
SUMMARY:Lunch: The Lyric
DESCRIPTION:
URL:https://tcshighschool.org/event/lunchlyric/
CATEGORIES:Lunch
END:VEVENT
BEGIN:VEVENT
DTSTART;TZID=America/New_York:20230914T121500
DTEND;TZID=America/New_York:20230914T151500
DTSTAMP:20260425T165157
CREATED:20230814T215215Z
LAST-MODIFIED:20230821T154843Z
UID:42984-1694693700-1694704500@tcshighschool.org
SUMMARY:Theatre with The Lyric
DESCRIPTION:
URL:https://tcshighschool.org/event/theatre-with-the-lyric/
CATEGORIES:Field Trips
END:VEVENT
BEGIN:VEVENT
DTSTART;TZID=America/New_York:20230915T090000
DTEND;TZID=America/New_York:20230915T110000
DTSTAMP:20260425T165157
CREATED:20230814T215012Z
LAST-MODIFIED:20230814T215012Z
UID:42953-1694768400-1694775600@tcshighschool.org
SUMMARY:Creative Writing
DESCRIPTION:
URL:https://tcshighschool.org/event/creative-writing-8/2023-09-15/
CATEGORIES:Seminar - Regular
END:VEVENT
BEGIN:VEVENT
DTSTART;TZID=America/New_York:20230915T110000
DTEND;TZID=America/New_York:20230915T113000
DTSTAMP:20260425T165157
CREATED:20230904T150008Z
LAST-MODIFIED:20230911T192118Z
UID:43828-1694775600-1694777400@tcshighschool.org
SUMMARY:Lunch: Ms. Lisa Knickmeyer (Sponsor)
DESCRIPTION:Bean & Corn Quesadillas and Cheese Quesadillas; Spanish Rice\, Taki’s & Fruit salad
URL:https://tcshighschool.org/event/lunch-ms-lisa-knickmeyer-sponsor/
CATEGORIES:Lunch
END:VEVENT
BEGIN:VEVENT
DTSTART;TZID=America/New_York:20230915T113000
DTEND;TZID=America/New_York:20230915T130000
DTSTAMP:20260425T165157
CREATED:20230808T152635Z
LAST-MODIFIED:20230808T152635Z
UID:42838-1694777400-1694782800@tcshighschool.org
SUMMARY:Conversation with Megan Rivers
DESCRIPTION:https://www.wbaltv.com/news-team/079eb6b5-08ce-425a-91a2-5e527dc0f332 \nhttps://www.wbaltv.com/article/meet-wbal-tv-anchor-reporter-megan-rivers/42520087
URL:https://tcshighschool.org/event/conversation-with-megan-rivers/
CATEGORIES:Conversation
END:VEVENT
END:VCALENDAR