BEGIN:VCALENDAR
VERSION:2.0
PRODID:-//TCS High School - ECPv6.15.11//NONSGML v1.0//EN
CALSCALE:GREGORIAN
METHOD:PUBLISH
X-ORIGINAL-URL:https://tcshighschool.org
X-WR-CALDESC:Events for TCS High School
REFRESH-INTERVAL;VALUE=DURATION:PT1H
X-Robots-Tag:noindex
X-PUBLISHED-TTL:PT1H
BEGIN:VTIMEZONE
TZID:America/New_York
BEGIN:DAYLIGHT
TZOFFSETFROM:-0500
TZOFFSETTO:-0400
TZNAME:EDT
DTSTART:20220313T070000
END:DAYLIGHT
BEGIN:STANDARD
TZOFFSETFROM:-0400
TZOFFSETTO:-0500
TZNAME:EST
DTSTART:20221106T060000
END:STANDARD
BEGIN:DAYLIGHT
TZOFFSETFROM:-0500
TZOFFSETTO:-0400
TZNAME:EDT
DTSTART:20230312T070000
END:DAYLIGHT
BEGIN:STANDARD
TZOFFSETFROM:-0400
TZOFFSETTO:-0500
TZNAME:EST
DTSTART:20231105T060000
END:STANDARD
BEGIN:DAYLIGHT
TZOFFSETFROM:-0500
TZOFFSETTO:-0400
TZNAME:EDT
DTSTART:20240310T070000
END:DAYLIGHT
BEGIN:STANDARD
TZOFFSETFROM:-0400
TZOFFSETTO:-0500
TZNAME:EST
DTSTART:20241103T060000
END:STANDARD
END:VTIMEZONE
BEGIN:VEVENT
DTSTART;TZID=America/New_York:20230925T121500
DTEND;TZID=America/New_York:20230925T124500
DTSTAMP:20260425T165152
CREATED:20230823T232745Z
LAST-MODIFIED:20230823T232911Z
UID:43703-1695644100-1695645900@tcshighschool.org
SUMMARY:Lunch: Ms. Linda (Madison's Mom)
DESCRIPTION:BBQ sandwiches\nsalad\ncooies
URL:https://tcshighschool.org/event/lunch-ms-linda-madisons-mom-15/
CATEGORIES:Lunch
END:VEVENT
BEGIN:VEVENT
DTSTART;TZID=America/New_York:20230926T100000
DTEND;TZID=America/New_York:20230926T110000
DTSTAMP:20260425T165152
CREATED:20231102T133133Z
LAST-MODIFIED:20231102T133133Z
UID:44432-1695722400-1695726000@tcshighschool.org
SUMMARY:ASL I
DESCRIPTION:
URL:https://tcshighschool.org/event/asl-i-5/2023-09-26/
CATEGORIES:Seminar - Regular
END:VEVENT
BEGIN:VEVENT
DTSTART;TZID=America/New_York:20230926T121500
DTEND;TZID=America/New_York:20230926T124500
DTSTAMP:20260425T165152
CREATED:20230810T201746Z
LAST-MODIFIED:20230918T155607Z
UID:42847-1695730500-1695732300@tcshighschool.org
SUMMARY:Lunch: Ms. Peggy
DESCRIPTION:quesadillas\, salad\, fruit\, dessert
URL:https://tcshighschool.org/event/lunch-ms-peggy-3-2023-09-26/
CATEGORIES:Lunch
END:VEVENT
BEGIN:VEVENT
DTSTART;TZID=America/New_York:20230926T124500
DTEND;TZID=America/New_York:20230926T134500
DTSTAMP:20260425T165152
CREATED:20230814T215700Z
LAST-MODIFIED:20230816T184728Z
UID:43089-1695732300-1695735900@tcshighschool.org
SUMMARY:ASL II
DESCRIPTION:
URL:https://tcshighschool.org/event/asl-ii-2-2023-09-19/2023-09-26/
CATEGORIES:Seminar - Regular
END:VEVENT
BEGIN:VEVENT
DTSTART;TZID=America/New_York:20230927T084500
DTEND;TZID=America/New_York:20230927T084500
DTSTAMP:20260425T165152
CREATED:20230814T214915Z
LAST-MODIFIED:20230814T214915Z
UID:42915-1695804300-1695804300@tcshighschool.org
SUMMARY:Physical Education
DESCRIPTION:
URL:https://tcshighschool.org/event/physical-education-3/2023-09-27/
CATEGORIES:Seminar - Regular
END:VEVENT
BEGIN:VEVENT
DTSTART;TZID=America/New_York:20230927T121500
DTEND;TZID=America/New_York:20230927T124500
DTSTAMP:20260425T165152
CREATED:20230904T144817Z
LAST-MODIFIED:20230925T195159Z
UID:43826-1695816900-1695818700@tcshighschool.org
SUMMARY:Lunch: Ms. Leslie (Kennedy's Mom)
DESCRIPTION:tacos
URL:https://tcshighschool.org/event/lunch-ms-leslie-kennedys-mom-7/
CATEGORIES:Lunch
END:VEVENT
BEGIN:VEVENT
DTSTART;TZID=America/New_York:20230927T124500
DTEND;TZID=America/New_York:20230927T134500
DTSTAMP:20260425T165152
CREATED:20230814T215311Z
LAST-MODIFIED:20230821T134628Z
UID:43439-1695818700-1695822300@tcshighschool.org
SUMMARY:Visual Arts
DESCRIPTION:
URL:https://tcshighschool.org/event/visual-arts-2023-09-13/2023-09-27/
CATEGORIES:Seminar - Regular
END:VEVENT
BEGIN:VEVENT
DTSTART;TZID=America/New_York:20230928T100000
DTEND;TZID=America/New_York:20230928T123000
DTSTAMP:20260425T165152
CREATED:20230714T175757Z
LAST-MODIFIED:20230916T174628Z
UID:42817-1695895200-1695904200@tcshighschool.org
SUMMARY:Last Day at Emerson's Bar and Grill at Center Stage
DESCRIPTION:
URL:https://tcshighschool.org/event/last-day-at-emersons-bar-and-grill-at-center-stage/
CATEGORIES:Field Trips
ATTACH;FMTTYPE=image/jpeg:https://tcshighschool.org/wp-content/uploads/2023/07/Screenshot-2023-09-16-at-1.39.30-PM.jpeg
END:VEVENT
BEGIN:VEVENT
DTSTART;TZID=America/New_York:20230928T120000
DTEND;TZID=America/New_York:20230928T140000
DTSTAMP:20260425T165152
CREATED:20230814T215215Z
LAST-MODIFIED:20231214T013648Z
UID:42987-1695902400-1695909600@tcshighschool.org
SUMMARY:Somatic workshop at The Lyric
DESCRIPTION:
URL:https://tcshighschool.org/event/theatre-with-the-lyric-2023-09-28/
CATEGORIES:Seminars - Special
END:VEVENT
BEGIN:VEVENT
DTSTART;TZID=America/New_York:20230928T121500
DTEND;TZID=America/New_York:20230928T124500
DTSTAMP:20260425T165152
CREATED:20230910T161226Z
LAST-MODIFIED:20230923T163559Z
UID:43941-1695903300-1695905100@tcshighschool.org
SUMMARY:Lunch: Ms. Linda (Ethan's Sponsor)
DESCRIPTION:sandwich rolls\, meats\, cheese\, and toppings.
URL:https://tcshighschool.org/event/lunch-ms-linda-ethans-sponsor/
CATEGORIES:Lunch
END:VEVENT
BEGIN:VEVENT
DTSTART;TZID=America/New_York:20230928T183000
DTEND;TZID=America/New_York:20230928T200000
DTSTAMP:20260425T165152
CREATED:20230327T110423Z
LAST-MODIFIED:20230909T193424Z
UID:42419-1695925800-1695931200@tcshighschool.org
SUMMARY:Sponsor Meeting
DESCRIPTION:
URL:https://tcshighschool.org/event/sponsor-meeting-40/
CATEGORIES:Meetings
END:VEVENT
BEGIN:VEVENT
DTSTART;TZID=America/New_York:20230929T090000
DTEND;TZID=America/New_York:20230929T110000
DTSTAMP:20260425T165152
CREATED:20230814T215012Z
LAST-MODIFIED:20230814T215012Z
UID:42955-1695978000-1695985200@tcshighschool.org
SUMMARY:Creative Writing
DESCRIPTION:
URL:https://tcshighschool.org/event/creative-writing-8/2023-09-29/
CATEGORIES:Seminar - Regular
END:VEVENT
BEGIN:VEVENT
DTSTART;TZID=America/New_York:20230929T110000
DTEND;TZID=America/New_York:20230929T113000
DTSTAMP:20260425T165152
CREATED:20230905T132922Z
LAST-MODIFIED:20231002T115224Z
UID:43856-1695985200-1695987000@tcshighschool.org
SUMMARY:Lunch: Ms. Rita (Ethan's Mom)
DESCRIPTION:tacos\, rice & beans
URL:https://tcshighschool.org/event/lunch-ms-rita-ethans-mom-9/
CATEGORIES:Lunch
END:VEVENT
BEGIN:VEVENT
DTSTART;TZID=America/New_York:20230929T113000
DTEND;TZID=America/New_York:20230929T130000
DTSTAMP:20260425T165152
CREATED:20230814T214758Z
LAST-MODIFIED:20230925T203539Z
UID:42910-1695987000-1695992400@tcshighschool.org
SUMMARY:Conversation with Janal Daniel
DESCRIPTION:
URL:https://tcshighschool.org/event/conversation-with-nikkole-salter-tentative/
CATEGORIES:Conversation
END:VEVENT
END:VCALENDAR