BEGIN:VCALENDAR
VERSION:2.0
PRODID:-//TCS High School - ECPv6.15.11//NONSGML v1.0//EN
CALSCALE:GREGORIAN
METHOD:PUBLISH
X-WR-CALNAME:TCS High School
X-ORIGINAL-URL:https://tcshighschool.org
X-WR-CALDESC:Events for TCS High School
REFRESH-INTERVAL;VALUE=DURATION:PT1H
X-Robots-Tag:noindex
X-PUBLISHED-TTL:PT1H
BEGIN:VTIMEZONE
TZID:America/New_York
BEGIN:DAYLIGHT
TZOFFSETFROM:-0500
TZOFFSETTO:-0400
TZNAME:EDT
DTSTART:20220313T070000
END:DAYLIGHT
BEGIN:STANDARD
TZOFFSETFROM:-0400
TZOFFSETTO:-0500
TZNAME:EST
DTSTART:20221106T060000
END:STANDARD
BEGIN:DAYLIGHT
TZOFFSETFROM:-0500
TZOFFSETTO:-0400
TZNAME:EDT
DTSTART:20230312T070000
END:DAYLIGHT
BEGIN:STANDARD
TZOFFSETFROM:-0400
TZOFFSETTO:-0500
TZNAME:EST
DTSTART:20231105T060000
END:STANDARD
BEGIN:DAYLIGHT
TZOFFSETFROM:-0500
TZOFFSETTO:-0400
TZNAME:EDT
DTSTART:20240310T070000
END:DAYLIGHT
BEGIN:STANDARD
TZOFFSETFROM:-0400
TZOFFSETTO:-0500
TZNAME:EST
DTSTART:20241103T060000
END:STANDARD
END:VTIMEZONE
BEGIN:VEVENT
DTSTART;VALUE=DATE:20231022
DTEND;VALUE=DATE:20231023
DTSTAMP:20260425T152519
CREATED:20211020T212748Z
LAST-MODIFIED:20211020T212748Z
UID:38387-1697932800-1698019199@tcshighschool.org
SUMMARY:Rhys's B-day
DESCRIPTION:
URL:https://tcshighschool.org/event/rhyss-b-day/2023-10-22/
CATEGORIES:Special Days
END:VEVENT
BEGIN:VEVENT
DTSTART;TZID=America/New_York:20231023T121500
DTEND;TZID=America/New_York:20231023T124500
DTSTAMP:20260425T152519
CREATED:20230925T203402Z
LAST-MODIFIED:20231022T164935Z
UID:44105-1698063300-1698065100@tcshighschool.org
SUMMARY:Lunch: Ms. Miriam (Mohamed's Mom)
DESCRIPTION:pizza and dessert
URL:https://tcshighschool.org/event/lunch-ms-miriam-mohameds-mom/
CATEGORIES:Lunch
END:VEVENT
BEGIN:VEVENT
DTSTART;TZID=America/New_York:20231024T100000
DTEND;TZID=America/New_York:20231024T110000
DTSTAMP:20260425T152519
CREATED:20231102T133133Z
LAST-MODIFIED:20231102T133133Z
UID:44436-1698141600-1698145200@tcshighschool.org
SUMMARY:ASL I
DESCRIPTION:
URL:https://tcshighschool.org/event/asl-i-5/2023-10-24/
CATEGORIES:Seminar - Regular
END:VEVENT
BEGIN:VEVENT
DTSTART;TZID=America/New_York:20231024T121500
DTEND;TZID=America/New_York:20231024T124500
DTSTAMP:20260425T152519
CREATED:20230810T201746Z
LAST-MODIFIED:20230917T224251Z
UID:42851-1698149700-1698151500@tcshighschool.org
SUMMARY:Lunch: Ms. Peggy
DESCRIPTION:hot roast beef sandwiches\, salad\, fruit\, dessert
URL:https://tcshighschool.org/event/lunch-ms-peggy-3-2023-10-24/
CATEGORIES:Lunch
END:VEVENT
BEGIN:VEVENT
DTSTART;TZID=America/New_York:20231024T124500
DTEND;TZID=America/New_York:20231024T134500
DTSTAMP:20260425T152519
CREATED:20230814T215700Z
LAST-MODIFIED:20230816T184729Z
UID:43093-1698151500-1698155100@tcshighschool.org
SUMMARY:ASL II
DESCRIPTION:
URL:https://tcshighschool.org/event/asl-ii-2-2023-09-19/2023-10-24/
CATEGORIES:Seminar - Regular
END:VEVENT
BEGIN:VEVENT
DTSTART;TZID=America/New_York:20231025T084500
DTEND;TZID=America/New_York:20231025T084500
DTSTAMP:20260425T152519
CREATED:20230814T214915Z
LAST-MODIFIED:20230814T214915Z
UID:42919-1698223500-1698223500@tcshighschool.org
SUMMARY:Physical Education
DESCRIPTION:
URL:https://tcshighschool.org/event/physical-education-3/2023-10-25/
CATEGORIES:Seminar - Regular
END:VEVENT
BEGIN:VEVENT
DTSTART;TZID=America/New_York:20231025T121500
DTEND;TZID=America/New_York:20231025T124500
DTSTAMP:20260425T152519
CREATED:20230904T210508Z
LAST-MODIFIED:20231022T165507Z
UID:43847-1698236100-1698237900@tcshighschool.org
SUMMARY:Lunch: Mr. Ken & Ms. Paulette
DESCRIPTION:Chik fil a wraps
URL:https://tcshighschool.org/event/lunch-mr-ken-ms-paulette-9/
CATEGORIES:Lunch
END:VEVENT
BEGIN:VEVENT
DTSTART;TZID=America/New_York:20231025T124500
DTEND;TZID=America/New_York:20231025T134500
DTSTAMP:20260425T152519
CREATED:20230814T215311Z
LAST-MODIFIED:20230821T134628Z
UID:43443-1698237900-1698241500@tcshighschool.org
SUMMARY:Visual Arts
DESCRIPTION:
URL:https://tcshighschool.org/event/visual-arts-2023-09-13/2023-10-25/
CATEGORIES:Seminar - Regular
END:VEVENT
BEGIN:VEVENT
DTSTART;VALUE=DATE:20231026
DTEND;VALUE=DATE:20231027
DTSTAMP:20260425T152519
CREATED:20230711T130606Z
LAST-MODIFIED:20230711T130606Z
UID:42803-1698278400-1698364799@tcshighschool.org
SUMMARY:Quinn's B-day
DESCRIPTION:
URL:https://tcshighschool.org/event/quinns-b-day/2023-10-26/
CATEGORIES:Special Days
END:VEVENT
BEGIN:VEVENT
DTSTART;TZID=America/New_York:20231026T121500
DTEND;TZID=America/New_York:20231026T124500
DTSTAMP:20260425T152519
CREATED:20230822T162730Z
LAST-MODIFIED:20231021T193134Z
UID:43683-1698322500-1698324300@tcshighschool.org
SUMMARY:Lunch: Ms. Jenae (Rhys & Quinn's Mom)
DESCRIPTION:pasta with garlic cream sauce\, chicken\, and broccoli.
URL:https://tcshighschool.org/event/lunch-ms-jenae-rhys-quinns-mom-4/
CATEGORIES:Lunch
END:VEVENT
BEGIN:VEVENT
DTSTART;TZID=America/New_York:20231026T130000
DTEND;TZID=America/New_York:20231026T143000
DTSTAMP:20260425T152519
CREATED:20230814T215215Z
LAST-MODIFIED:20231009T202833Z
UID:42990-1698325200-1698330600@tcshighschool.org
SUMMARY:Theatre with The Lyric
DESCRIPTION:
URL:https://tcshighschool.org/event/theatre-with-the-lyric-2023-10-19/
CATEGORIES:Field Trips
END:VEVENT
BEGIN:VEVENT
DTSTART;TZID=America/New_York:20231027T090000
DTEND;TZID=America/New_York:20231027T110000
DTSTAMP:20260425T152519
CREATED:20230814T215012Z
LAST-MODIFIED:20230814T215012Z
UID:42959-1698397200-1698404400@tcshighschool.org
SUMMARY:Creative Writing
DESCRIPTION:
URL:https://tcshighschool.org/event/creative-writing-8/2023-10-27/
CATEGORIES:Seminar - Regular
END:VEVENT
BEGIN:VEVENT
DTSTART;TZID=America/New_York:20231027T110000
DTEND;TZID=America/New_York:20231027T113000
DTSTAMP:20260425T152519
CREATED:20230904T142829Z
LAST-MODIFIED:20230904T142829Z
UID:43784-1698404400-1698406200@tcshighschool.org
SUMMARY:Lunch: Ms. Leslie (Kennedy's Mom)
DESCRIPTION:
URL:https://tcshighschool.org/event/lunch-ms-leslie-kennedys-mom-3/
CATEGORIES:Lunch
END:VEVENT
END:VCALENDAR