BEGIN:VCALENDAR
VERSION:2.0
PRODID:-//TCS High School - ECPv6.15.11//NONSGML v1.0//EN
CALSCALE:GREGORIAN
METHOD:PUBLISH
X-ORIGINAL-URL:https://tcshighschool.org
X-WR-CALDESC:Events for TCS High School
REFRESH-INTERVAL;VALUE=DURATION:PT1H
X-Robots-Tag:noindex
X-PUBLISHED-TTL:PT1H
BEGIN:VTIMEZONE
TZID:America/New_York
BEGIN:DAYLIGHT
TZOFFSETFROM:-0500
TZOFFSETTO:-0400
TZNAME:EDT
DTSTART:20220313T070000
END:DAYLIGHT
BEGIN:STANDARD
TZOFFSETFROM:-0400
TZOFFSETTO:-0500
TZNAME:EST
DTSTART:20221106T060000
END:STANDARD
BEGIN:DAYLIGHT
TZOFFSETFROM:-0500
TZOFFSETTO:-0400
TZNAME:EDT
DTSTART:20230312T070000
END:DAYLIGHT
BEGIN:STANDARD
TZOFFSETFROM:-0400
TZOFFSETTO:-0500
TZNAME:EST
DTSTART:20231105T060000
END:STANDARD
BEGIN:DAYLIGHT
TZOFFSETFROM:-0500
TZOFFSETTO:-0400
TZNAME:EDT
DTSTART:20240310T070000
END:DAYLIGHT
BEGIN:STANDARD
TZOFFSETFROM:-0400
TZOFFSETTO:-0500
TZNAME:EST
DTSTART:20241103T060000
END:STANDARD
BEGIN:DAYLIGHT
TZOFFSETFROM:-0500
TZOFFSETTO:-0400
TZNAME:EDT
DTSTART:20250309T070000
END:DAYLIGHT
BEGIN:STANDARD
TZOFFSETFROM:-0400
TZOFFSETTO:-0500
TZNAME:EST
DTSTART:20251102T060000
END:STANDARD
END:VTIMEZONE
BEGIN:VEVENT
DTSTART;VALUE=DATE:20231223
DTEND;VALUE=DATE:20240102
DTSTAMP:20260425T123433
CREATED:20230326T211718Z
LAST-MODIFIED:20230326T211718Z
UID:42408-1703289600-1704153599@tcshighschool.org
SUMMARY:Winter Break
DESCRIPTION:
URL:https://tcshighschool.org/event/winter-break-10/
CATEGORIES:Holidays
END:VEVENT
BEGIN:VEVENT
DTSTART;TZID=America/New_York:20240102T100000
DTEND;TZID=America/New_York:20240102T110000
DTSTAMP:20260425T123433
CREATED:20231102T133133Z
LAST-MODIFIED:20231102T133133Z
UID:44446-1704189600-1704193200@tcshighschool.org
SUMMARY:ASL I
DESCRIPTION:
URL:https://tcshighschool.org/event/asl-i-5/2024-01-02/
CATEGORIES:Seminar - Regular
END:VEVENT
BEGIN:VEVENT
DTSTART;TZID=America/New_York:20240102T121500
DTEND;TZID=America/New_York:20240102T124500
DTSTAMP:20260425T123433
CREATED:20231227T183834Z
LAST-MODIFIED:20231227T183834Z
UID:44851-1704197700-1704199500@tcshighschool.org
SUMMARY:Lunch: Ms. Peg
DESCRIPTION:
URL:https://tcshighschool.org/event/lunch-ms-peg-61/
CATEGORIES:Lunch
END:VEVENT
BEGIN:VEVENT
DTSTART;TZID=America/New_York:20240102T124500
DTEND;TZID=America/New_York:20240102T134500
DTSTAMP:20260425T123433
CREATED:20231102T132622Z
LAST-MODIFIED:20231102T132622Z
UID:44427-1704199500-1704203100@tcshighschool.org
SUMMARY:ASL II
DESCRIPTION:
URL:https://tcshighschool.org/event/asl-ii-2/
CATEGORIES:Seminar - Regular
END:VEVENT
BEGIN:VEVENT
DTSTART;TZID=America/New_York:20240103T084500
DTEND;TZID=America/New_York:20240103T084500
DTSTAMP:20260425T123433
CREATED:20230814T214915Z
LAST-MODIFIED:20230814T214915Z
UID:42929-1704271500-1704271500@tcshighschool.org
SUMMARY:Physical Education
DESCRIPTION:
URL:https://tcshighschool.org/event/physical-education-3/2024-01-03/
CATEGORIES:Seminar - Regular
END:VEVENT
BEGIN:VEVENT
DTSTART;TZID=America/New_York:20240103T121500
DTEND;TZID=America/New_York:20240103T124500
DTSTAMP:20260425T123433
CREATED:20231212T154953Z
LAST-MODIFIED:20240102T155746Z
UID:44684-1704284100-1704285900@tcshighschool.org
SUMMARY:Lunch: Ms. Linda (Madison's Mom)
DESCRIPTION:Turkey or ham sandwiches\, caesar salad\, chips
URL:https://tcshighschool.org/event/lunch-ms-linda-madisons-mom-19/
CATEGORIES:Lunch
END:VEVENT
BEGIN:VEVENT
DTSTART;TZID=America/New_York:20240103T124500
DTEND;TZID=America/New_York:20240103T134500
DTSTAMP:20260425T123433
CREATED:20230814T215311Z
LAST-MODIFIED:20230821T134628Z
UID:43452-1704285900-1704289500@tcshighschool.org
SUMMARY:Visual Arts
DESCRIPTION:
URL:https://tcshighschool.org/event/visual-arts-2023-09-13/2024-01-03/
CATEGORIES:Seminar - Regular
END:VEVENT
BEGIN:VEVENT
DTSTART;TZID=America/New_York:20240104T120000
DTEND;TZID=America/New_York:20240104T140000
DTSTAMP:20260425T123433
CREATED:20230814T215215Z
LAST-MODIFIED:20231214T022752Z
UID:43001-1704369600-1704376800@tcshighschool.org
SUMMARY:Somatic Workshop at The Lyric
DESCRIPTION:
URL:https://tcshighschool.org/event/theatre-with-the-lyric-2024-01-04/
CATEGORIES:Field Trips
END:VEVENT
BEGIN:VEVENT
DTSTART;TZID=America/New_York:20240104T121500
DTEND;TZID=America/New_York:20240104T123000
DTSTAMP:20260425T123433
CREATED:20230810T202317Z
LAST-MODIFIED:20230816T185939Z
UID:42889-1704370500-1704371400@tcshighschool.org
SUMMARY:Lunch: The Lyric
DESCRIPTION:
URL:https://tcshighschool.org/event/lunchlyric-4/
CATEGORIES:Lunch
END:VEVENT
BEGIN:VEVENT
DTSTART;TZID=America/New_York:20240105T090000
DTEND;TZID=America/New_York:20240105T110000
DTSTAMP:20260425T123433
CREATED:20230814T215012Z
LAST-MODIFIED:20230814T215012Z
UID:42969-1704445200-1704452400@tcshighschool.org
SUMMARY:Creative Writing
DESCRIPTION:
URL:https://tcshighschool.org/event/creative-writing-8/2024-01-05/
CATEGORIES:Seminar - Regular
END:VEVENT
BEGIN:VEVENT
DTSTART;TZID=America/New_York:20240105T110000
DTEND;TZID=America/New_York:20240105T113000
DTSTAMP:20260425T123433
CREATED:20231215T120749Z
LAST-MODIFIED:20231215T120749Z
UID:44713-1704452400-1704454200@tcshighschool.org
SUMMARY:Lunch: Ms. Linda (Ethan's Sponsor)
DESCRIPTION:
URL:https://tcshighschool.org/event/lunch-ms-linda-ethans-sponsor-2/
CATEGORIES:Lunch
END:VEVENT
BEGIN:VEVENT
DTSTART;TZID=America/New_York:20240105T113000
DTEND;TZID=America/New_York:20240105T130000
DTSTAMP:20260425T123433
CREATED:20231207T142749Z
LAST-MODIFIED:20231222T152040Z
UID:44635-1704454200-1704459600@tcshighschool.org
SUMMARY:Conversation with Melissa Smith
DESCRIPTION:Executive Director South Baltimore Learning Center \nAntoinette Kennedy\, Instructional Specialist\nCha’kel Walker\, Learner Support and Marketing Specialist
URL:https://tcshighschool.org/event/conversation-with-melissa-smith/
CATEGORIES:Conversation
ATTACH;FMTTYPE=image/jpeg:https://tcshighschool.org/wp-content/uploads/2023/12/download-1.jpg
END:VEVENT
END:VCALENDAR