BEGIN:VCALENDAR
VERSION:2.0
PRODID:-//TCS High School - ECPv6.15.11//NONSGML v1.0//EN
CALSCALE:GREGORIAN
METHOD:PUBLISH
X-ORIGINAL-URL:https://tcshighschool.org
X-WR-CALDESC:Events for TCS High School
REFRESH-INTERVAL;VALUE=DURATION:PT1H
X-Robots-Tag:noindex
X-PUBLISHED-TTL:PT1H
BEGIN:VTIMEZONE
TZID:America/New_York
BEGIN:DAYLIGHT
TZOFFSETFROM:-0500
TZOFFSETTO:-0400
TZNAME:EDT
DTSTART:20230312T070000
END:DAYLIGHT
BEGIN:STANDARD
TZOFFSETFROM:-0400
TZOFFSETTO:-0500
TZNAME:EST
DTSTART:20231105T060000
END:STANDARD
BEGIN:DAYLIGHT
TZOFFSETFROM:-0500
TZOFFSETTO:-0400
TZNAME:EDT
DTSTART:20240310T070000
END:DAYLIGHT
BEGIN:STANDARD
TZOFFSETFROM:-0400
TZOFFSETTO:-0500
TZNAME:EST
DTSTART:20241103T060000
END:STANDARD
BEGIN:DAYLIGHT
TZOFFSETFROM:-0500
TZOFFSETTO:-0400
TZNAME:EDT
DTSTART:20250309T070000
END:DAYLIGHT
BEGIN:STANDARD
TZOFFSETFROM:-0400
TZOFFSETTO:-0500
TZNAME:EST
DTSTART:20251102T060000
END:STANDARD
END:VTIMEZONE
BEGIN:VEVENT
DTSTART;VALUE=DATE:20240115
DTEND;VALUE=DATE:20240116
DTSTAMP:20260425T123432
CREATED:20240115T001636Z
LAST-MODIFIED:20240115T001705Z
UID:44938-1705276800-1705363199@tcshighschool.org
SUMMARY:Honor Dr. King/Civil RIghts Day
DESCRIPTION:
URL:https://tcshighschool.org/event/honor-dr-king-civil-rights-day/
CATEGORIES:Special Days
END:VEVENT
BEGIN:VEVENT
DTSTART;TZID=America/New_York:20240115T121500
DTEND;TZID=America/New_York:20240115T124500
DTSTAMP:20260425T123432
CREATED:20231215T121155Z
LAST-MODIFIED:20240114T142934Z
UID:44721-1705320900-1705322700@tcshighschool.org
SUMMARY:Lunch: Ms. Jenae (Rhys & Quinn's Mom)
DESCRIPTION:Penne Primavera with Chicken
URL:https://tcshighschool.org/event/lunch-ms-jenae-rhys-quinns-mom-8/
CATEGORIES:Lunch
END:VEVENT
BEGIN:VEVENT
DTSTART;TZID=America/New_York:20240115T123000
DTEND;TZID=America/New_York:20240115T140000
DTSTAMP:20260425T123432
CREATED:20240115T001538Z
LAST-MODIFIED:20240115T001550Z
UID:44935-1705321800-1705327200@tcshighschool.org
SUMMARY:MLK/FBI Movie
DESCRIPTION:
URL:https://tcshighschool.org/event/mlk-fbi/
CATEGORIES:Movies
END:VEVENT
BEGIN:VEVENT
DTSTART;VALUE=DATE:20240116
DTEND;VALUE=DATE:20240117
DTSTAMP:20260425T123432
CREATED:20240116T132935Z
LAST-MODIFIED:20240116T132935Z
UID:44945-1705363200-1705449599@tcshighschool.org
SUMMARY:Snow Day
DESCRIPTION:
URL:https://tcshighschool.org/event/snow-day-4/
CATEGORIES:Special Days
END:VEVENT
BEGIN:VEVENT
DTSTART;TZID=America/New_York:20240117T084500
DTEND;TZID=America/New_York:20240117T084500
DTSTAMP:20260425T123432
CREATED:20230814T214915Z
LAST-MODIFIED:20230814T214915Z
UID:42931-1705481100-1705481100@tcshighschool.org
SUMMARY:Physical Education
DESCRIPTION:
URL:https://tcshighschool.org/event/physical-education-3/2024-01-17/
CATEGORIES:Seminar - Regular
END:VEVENT
BEGIN:VEVENT
DTSTART;TZID=America/New_York:20240117T121500
DTEND;TZID=America/New_York:20240117T124500
DTSTAMP:20260425T123432
CREATED:20231215T121257Z
LAST-MODIFIED:20231215T121257Z
UID:44723-1705493700-1705495500@tcshighschool.org
SUMMARY:Lunch: Ms. Kevin (Sam's Dad)
DESCRIPTION:
URL:https://tcshighschool.org/event/lunch-ms-kevin-sams-dad/
CATEGORIES:Lunch
END:VEVENT
BEGIN:VEVENT
DTSTART;TZID=America/New_York:20240117T124500
DTEND;TZID=America/New_York:20240117T134500
DTSTAMP:20260425T123432
CREATED:20230814T215311Z
LAST-MODIFIED:20230821T134628Z
UID:43454-1705495500-1705499100@tcshighschool.org
SUMMARY:Visual Arts
DESCRIPTION:
URL:https://tcshighschool.org/event/visual-arts-2023-09-13/2024-01-17/
CATEGORIES:Seminar - Regular
END:VEVENT
BEGIN:VEVENT
DTSTART;VALUE=DATE:20240118
DTEND;VALUE=DATE:20240119
DTSTAMP:20260425T123432
CREATED:20240112T153536Z
LAST-MODIFIED:20240112T153615Z
UID:44919-1705536000-1705622399@tcshighschool.org
SUMMARY:TCS 42ND ANNIVERSARY !!
DESCRIPTION:
URL:https://tcshighschool.org/event/tcs-42nd-anniversary/
CATEGORIES:Special Days
END:VEVENT
BEGIN:VEVENT
DTSTART;TZID=America/New_York:20240118T090000
DTEND;TZID=America/New_York:20240118T100000
DTSTAMP:20260425T123432
CREATED:20231219T163021Z
LAST-MODIFIED:20240116T132736Z
UID:44803-1705568400-1705572000@tcshighschool.org
SUMMARY:Young Playwrights
DESCRIPTION:
URL:https://tcshighschool.org/event/young-playwrights-2024-01-16/
CATEGORIES:Seminars - Special
END:VEVENT
BEGIN:VEVENT
DTSTART;TZID=America/New_York:20240118T121500
DTEND;TZID=America/New_York:20240118T124500
DTSTAMP:20260425T123432
CREATED:20230904T143251Z
LAST-MODIFIED:20240114T143056Z
UID:43794-1705580100-1705581900@tcshighschool.org
SUMMARY:Lunch: Ms. Mary Louise
DESCRIPTION:Italian Cold Cut
URL:https://tcshighschool.org/event/lunch-ms-mary-louise-17/
CATEGORIES:Lunch
END:VEVENT
BEGIN:VEVENT
DTSTART;TZID=America/New_York:20240118T124500
DTEND;TZID=America/New_York:20240118T134500
DTSTAMP:20260425T123432
CREATED:20231010T104507Z
LAST-MODIFIED:20231010T104507Z
UID:44237-1705581900-1705585500@tcshighschool.org
SUMMARY:Theatre with The Lyric
DESCRIPTION:
URL:https://tcshighschool.org/event/theatre-with-the-lyric-3/2024-01-18/
CATEGORIES:Seminar - Regular
END:VEVENT
BEGIN:VEVENT
DTSTART;VALUE=DATE:20240119
DTEND;VALUE=DATE:20240120
DTSTAMP:20260425T123432
CREATED:20240119T141442Z
LAST-MODIFIED:20240119T141451Z
UID:44950-1705622400-1705708799@tcshighschool.org
SUMMARY:Snow Day
DESCRIPTION:
URL:https://tcshighschool.org/event/snow-day-5/
CATEGORIES:Special Days
END:VEVENT
BEGIN:VEVENT
DTSTART;TZID=America/New_York:20240120T100000
DTEND;TZID=America/New_York:20240120T140000
DTSTAMP:20260425T123432
CREATED:20240108T010018Z
LAST-MODIFIED:20240108T010018Z
UID:44889-1705744800-1705759200@tcshighschool.org
SUMMARY:College Application Workshop
DESCRIPTION:
URL:https://tcshighschool.org/event/college-application-workshop-2/
CATEGORIES:Seminars - Special
END:VEVENT
END:VCALENDAR