BEGIN:VCALENDAR
VERSION:2.0
PRODID:-//TCS High School - ECPv6.15.11//NONSGML v1.0//EN
CALSCALE:GREGORIAN
METHOD:PUBLISH
X-ORIGINAL-URL:https://tcshighschool.org
X-WR-CALDESC:Events for TCS High School
REFRESH-INTERVAL;VALUE=DURATION:PT1H
X-Robots-Tag:noindex
X-PUBLISHED-TTL:PT1H
BEGIN:VTIMEZONE
TZID:America/New_York
BEGIN:DAYLIGHT
TZOFFSETFROM:-0500
TZOFFSETTO:-0400
TZNAME:EDT
DTSTART:20230312T070000
END:DAYLIGHT
BEGIN:STANDARD
TZOFFSETFROM:-0400
TZOFFSETTO:-0500
TZNAME:EST
DTSTART:20231105T060000
END:STANDARD
BEGIN:DAYLIGHT
TZOFFSETFROM:-0500
TZOFFSETTO:-0400
TZNAME:EDT
DTSTART:20240310T070000
END:DAYLIGHT
BEGIN:STANDARD
TZOFFSETFROM:-0400
TZOFFSETTO:-0500
TZNAME:EST
DTSTART:20241103T060000
END:STANDARD
BEGIN:DAYLIGHT
TZOFFSETFROM:-0500
TZOFFSETTO:-0400
TZNAME:EDT
DTSTART:20250309T070000
END:DAYLIGHT
BEGIN:STANDARD
TZOFFSETFROM:-0400
TZOFFSETTO:-0500
TZNAME:EST
DTSTART:20251102T060000
END:STANDARD
END:VTIMEZONE
BEGIN:VEVENT
DTSTART;VALUE=DATE:20240323
DTEND;VALUE=DATE:20240401
DTSTAMP:20260425T083330
CREATED:20230326T211426Z
LAST-MODIFIED:20230327T110708Z
UID:42396-1711152000-1711929599@tcshighschool.org
SUMMARY:Spring Break
DESCRIPTION:
URL:https://tcshighschool.org/event/spring-break-11/
CATEGORIES:Holidays
END:VEVENT
BEGIN:VEVENT
DTSTART;VALUE=DATE:20240331
DTEND;VALUE=DATE:20240401
DTSTAMP:20260425T083330
CREATED:20230326T211345Z
LAST-MODIFIED:20230326T211345Z
UID:42394-1711843200-1711929599@tcshighschool.org
SUMMARY:Easter
DESCRIPTION:
URL:https://tcshighschool.org/event/easter/
CATEGORIES:Holidays
END:VEVENT
BEGIN:VEVENT
DTSTART;TZID=America/New_York:20240401T121500
DTEND;TZID=America/New_York:20240401T124500
DTSTAMP:20260425T083330
CREATED:20230904T144113Z
LAST-MODIFIED:20240321T133353Z
UID:43816-1711973700-1711975500@tcshighschool.org
SUMMARY:Lunch: Ms. Carol
DESCRIPTION:Meatball Subs
URL:https://tcshighschool.org/event/lunch-ms-carol-90/
CATEGORIES:Lunch
END:VEVENT
BEGIN:VEVENT
DTSTART;TZID=America/New_York:20240402T084500
DTEND;TZID=America/New_York:20240402T100000
DTSTAMP:20260425T083330
CREATED:20240220T000719Z
LAST-MODIFIED:20240220T000719Z
UID:45114-1712047500-1712052000@tcshighschool.org
SUMMARY:Digital Story Telling Seminar
DESCRIPTION:
URL:https://tcshighschool.org/event/digital-story-telling-seminar/
CATEGORIES:Seminar - Regular
END:VEVENT
BEGIN:VEVENT
DTSTART;TZID=America/New_York:20240402T121500
DTEND;TZID=America/New_York:20240402T124500
DTSTAMP:20260425T083330
CREATED:20240308T114651Z
LAST-MODIFIED:20240331T152508Z
UID:45231-1712060100-1712061900@tcshighschool.org
SUMMARY:Lunch: Mr. Meade
DESCRIPTION:vegan chili and a bag of chips
URL:https://tcshighschool.org/event/lunch-mr-meade/
CATEGORIES:Lunch
END:VEVENT
BEGIN:VEVENT
DTSTART;TZID=America/New_York:20240403T084500
DTEND;TZID=America/New_York:20240403T084500
DTSTAMP:20260425T083330
CREATED:20230814T214915Z
LAST-MODIFIED:20230814T214915Z
UID:42942-1712133900-1712133900@tcshighschool.org
SUMMARY:Physical Education
DESCRIPTION:
URL:https://tcshighschool.org/event/physical-education-3/2024-04-03/
CATEGORIES:Seminar - Regular
END:VEVENT
BEGIN:VEVENT
DTSTART;TZID=America/New_York:20240403T121500
DTEND;TZID=America/New_York:20240403T124500
DTSTAMP:20260425T083330
CREATED:20240108T125258Z
LAST-MODIFIED:20240108T125258Z
UID:44898-1712146500-1712148300@tcshighschool.org
SUMMARY:Lunch: Mr. Lenny & Ms. Gail
DESCRIPTION:
URL:https://tcshighschool.org/event/lunch-mr-lenny-ms-gail-8/
CATEGORIES:Lunch
END:VEVENT
BEGIN:VEVENT
DTSTART;TZID=America/New_York:20240403T124500
DTEND;TZID=America/New_York:20240403T134500
DTSTAMP:20260425T083330
CREATED:20230814T215311Z
LAST-MODIFIED:20230821T134628Z
UID:43464-1712148300-1712151900@tcshighschool.org
SUMMARY:Visual Arts
DESCRIPTION:
URL:https://tcshighschool.org/event/visual-arts-2023-09-13/2024-04-03/
CATEGORIES:Seminar - Regular
END:VEVENT
BEGIN:VEVENT
DTSTART;TZID=America/New_York:20240404T100000
DTEND;TZID=America/New_York:20240404T123000
DTSTAMP:20260425T083330
CREATED:20230714T175936Z
LAST-MODIFIED:20240221T121106Z
UID:42821-1712224800-1712233800@tcshighschool.org
SUMMARY:Mexodus at Center Stage
DESCRIPTION:Play starts at 10:30 \n80 minute run \n20 minute Q & A
URL:https://tcshighschool.org/event/mexodus-at-center-stage/
CATEGORIES:Field Trips
END:VEVENT
BEGIN:VEVENT
DTSTART;TZID=America/New_York:20240404T130000
DTEND;TZID=America/New_York:20240404T133000
DTSTAMP:20260425T083330
CREATED:20240308T114743Z
LAST-MODIFIED:20240403T201623Z
UID:45233-1712235600-1712237400@tcshighschool.org
SUMMARY:Lunch: Ms Tyrice (Kendall's Mom)
DESCRIPTION:Chic Fil A that will contain 1 original chicken sandwich\, 1 bag of chips\, and 1 chocolate chip cookie
URL:https://tcshighschool.org/event/lunch-ms-tyrice/
CATEGORIES:Lunch
END:VEVENT
BEGIN:VEVENT
DTSTART;TZID=America/New_York:20240405T090000
DTEND;TZID=America/New_York:20240405T110000
DTSTAMP:20260425T083330
CREATED:20230814T215012Z
LAST-MODIFIED:20230814T215012Z
UID:42983-1712307600-1712314800@tcshighschool.org
SUMMARY:Creative Writing
DESCRIPTION:
URL:https://tcshighschool.org/event/creative-writing-8/2024-04-05/
CATEGORIES:Seminar - Regular
END:VEVENT
BEGIN:VEVENT
DTSTART;TZID=America/New_York:20240405T110000
DTEND;TZID=America/New_York:20240405T113000
DTSTAMP:20260425T083330
CREATED:20240308T114831Z
LAST-MODIFIED:20240403T114620Z
UID:45235-1712314800-1712316600@tcshighschool.org
SUMMARY:Lunch: Ms. Carla (Karla & Ruth's Mom)
DESCRIPTION:pupusas
URL:https://tcshighschool.org/event/lunch-ms-carla/
CATEGORIES:Lunch
END:VEVENT
BEGIN:VEVENT
DTSTART;TZID=America/New_York:20240405T113000
DTEND;TZID=America/New_York:20240405T130000
DTSTAMP:20260425T083330
CREATED:20240221T143457Z
LAST-MODIFIED:20240406T005604Z
UID:45151-1712316600-1712322000@tcshighschool.org
SUMMARY:Conversation with Nygel D. Robinson
DESCRIPTION:Playwright/Performer in Mexodus at Center Stage \nNygel D. Robinson (he/him) is an artist based in Chicago\, IL and is the co writer of Mexodus. Select theatre credits include Bro. Davis/ Music Director in The Amen Corner (Shakespeare Theatre Company)\, Jimmy Powers in Lady Day (North Carolina Theatre)\, and Actor/Musician in The All Night Strut (Milwaukee Rep.) Nygel has his his hands in many other projects as a Composer/Lyricist\, Music Director\, and Music Producer. singer\, actor\, writer\, and multi-instrumentalist \n 
URL:https://tcshighschool.org/event/conversation-with-nygel-d-robinson/
CATEGORIES:Conversation
ATTACH;FMTTYPE=image/jpeg:https://tcshighschool.org/wp-content/uploads/2024/02/c-NygelRobinson__2EF21FA62E724AD288A25A29D989F43B_1674494700913.jpg
END:VEVENT
END:VCALENDAR