BEGIN:VCALENDAR
VERSION:2.0
PRODID:-//TCS High School - ECPv6.15.11//NONSGML v1.0//EN
CALSCALE:GREGORIAN
METHOD:PUBLISH
X-ORIGINAL-URL:https://tcshighschool.org
X-WR-CALDESC:Events for TCS High School
REFRESH-INTERVAL;VALUE=DURATION:PT1H
X-Robots-Tag:noindex
X-PUBLISHED-TTL:PT1H
BEGIN:VTIMEZONE
TZID:America/New_York
BEGIN:DAYLIGHT
TZOFFSETFROM:-0500
TZOFFSETTO:-0400
TZNAME:EDT
DTSTART:20240310T070000
END:DAYLIGHT
BEGIN:STANDARD
TZOFFSETFROM:-0400
TZOFFSETTO:-0500
TZNAME:EST
DTSTART:20241103T060000
END:STANDARD
BEGIN:DAYLIGHT
TZOFFSETFROM:-0500
TZOFFSETTO:-0400
TZNAME:EDT
DTSTART:20250309T070000
END:DAYLIGHT
BEGIN:STANDARD
TZOFFSETFROM:-0400
TZOFFSETTO:-0500
TZNAME:EST
DTSTART:20251102T060000
END:STANDARD
BEGIN:DAYLIGHT
TZOFFSETFROM:-0500
TZOFFSETTO:-0400
TZNAME:EDT
DTSTART:20260308T070000
END:DAYLIGHT
BEGIN:STANDARD
TZOFFSETFROM:-0400
TZOFFSETTO:-0500
TZNAME:EST
DTSTART:20261101T060000
END:STANDARD
END:VTIMEZONE
BEGIN:VEVENT
DTSTART;TZID=America/New_York:20250922T121500
DTEND;TZID=America/New_York:20250922T124500
DTSTAMP:20260424T004559
CREATED:20250908T134228Z
LAST-MODIFIED:20250919T131247Z
UID:49329-1758543300-1758545100@tcshighschool.org
SUMMARY:Lunch: Ms. Lisa (Jason's Mom)
DESCRIPTION:egg salad\, chicken salad\, salami\, cheese and rolls.
URL:https://tcshighschool.org/event/lunch-ms-lisa-jasons-mom/
CATEGORIES:Lunch
END:VEVENT
BEGIN:VEVENT
DTSTART;TZID=America/New_York:20250922T124500
DTEND;TZID=America/New_York:20250922T140000
DTSTAMP:20260424T004559
CREATED:20250916T214918Z
LAST-MODIFIED:20250917T134648Z
UID:49467-1758545100-1758549600@tcshighschool.org
SUMMARY:Conversation with Marc Steiner
DESCRIPTION:
URL:https://tcshighschool.org/event/conversation-with-marc-steiner-2/
CATEGORIES:Conversation
ATTACH;FMTTYPE=image/png:https://tcshighschool.org/wp-content/uploads/2025/09/unnamed.png
END:VEVENT
BEGIN:VEVENT
DTSTART;TZID=America/New_York:20250923T121500
DTEND;TZID=America/New_York:20250923T124500
DTSTAMP:20260424T004559
CREATED:20250914T141000Z
LAST-MODIFIED:20250921T142541Z
UID:49457-1758629700-1758631500@tcshighschool.org
SUMMARY:Lunch: Ms. Ruth (Jordan's Sponsor)
DESCRIPTION:beef served over mashed potatoes with fresh broccoli
URL:https://tcshighschool.org/event/lunch-ms-ruth-jordans-sponsor-3/
CATEGORIES:Lunch
END:VEVENT
BEGIN:VEVENT
DTSTART;TZID=America/New_York:20250923T124500
DTEND;TZID=America/New_York:20250923T134500
DTSTAMP:20260424T004559
CREATED:20250823T143553Z
LAST-MODIFIED:20250905T103256Z
UID:49078-1758631500-1758635100@tcshighschool.org
SUMMARY:Guest Artists: Nicholas Rudolph
DESCRIPTION:Bio\nNicholas is a Baltimore-based photographer and co-founder of Studio 5\, a portrait studio in the Station North Arts District. What started as a creative experiment has grown into a lively studio where people come to celebrate who they are—whether through headshots\, family portraits\, or creative shoots with entertainers and artists.   Nicholas loves making photography feel fun and comfortable\, helping people see themselves in a new light. \n“Studio 5 Baltimore is a creative photography space developed in 2018 by Nicholas Rudolf [right] and Richard Henneberry [left] dedicated to capturing authentic\, high-quality portraits that reflect the personality and spirit of each person. \nLocated in the heart of the Station North Arts District and our studio offers a welcoming and professional environment for headshots\, family portraits\, and studio photography for local entertainers\, actors\, and professionals alike. With a passion for storytelling through imagery\, we blend artistry with expertise to deliver stunning\, timeless … beyond traditional photography…timeless\, artistic expressions of individuality. Every session is a collaboration\, carefully crafted with expert lighting\, refined posing\, and a meticulous attention to detail. Inspired by classical and contemporary influences\, we create striking\, quality portraits that celebrate personality\, emotion\, and elegance.” \n\nhttps://www.studio5baltimore.com/
URL:https://tcshighschool.org/event/guest-artists-rchard-henberry-nicholas-rudolph/
CATEGORIES:Seminar - Regular
ATTACH;FMTTYPE=image/jpeg:https://tcshighschool.org/wp-content/uploads/2025/08/Nicholas.jpg
END:VEVENT
BEGIN:VEVENT
DTSTART;TZID=America/New_York:20250925T121500
DTEND;TZID=America/New_York:20250925T124500
DTSTAMP:20260424T004559
CREATED:20250815T143555Z
LAST-MODIFIED:20250918T221834Z
UID:48937-1758802500-1758804300@tcshighschool.org
SUMMARY:Lunch: Berman McAleer
DESCRIPTION:We will bring salad\, chicken strips\, and mac/cheese.
URL:https://tcshighschool.org/event/lunch-berman-mcaleer-19/
CATEGORIES:Lunch
END:VEVENT
BEGIN:VEVENT
DTSTART;TZID=America/New_York:20250925T124500
DTEND;TZID=America/New_York:20250925T134500
DTSTAMP:20260424T004559
CREATED:20250815T141739Z
LAST-MODIFIED:20250815T141739Z
UID:48918-1758804300-1758807900@tcshighschool.org
SUMMARY:Financial Literacy Seminar
DESCRIPTION:
URL:https://tcshighschool.org/event/financial-literacy-seminar-29/
CATEGORIES:Seminar - Regular
END:VEVENT
BEGIN:VEVENT
DTSTART;TZID=America/New_York:20250926T090000
DTEND;TZID=America/New_York:20250926T110000
DTSTAMP:20260424T004559
CREATED:20250708T133732Z
LAST-MODIFIED:20250708T133732Z
UID:48705-1758877200-1758884400@tcshighschool.org
SUMMARY:Creative Writing Seminar
DESCRIPTION:
URL:https://tcshighschool.org/event/creative-writing-seminar-12/2025-09-26/
CATEGORIES:Seminar - Regular
END:VEVENT
BEGIN:VEVENT
DTSTART;TZID=America/New_York:20250926T110000
DTEND;TZID=America/New_York:20250926T113000
DTSTAMP:20260424T004559
CREATED:20250821T185934Z
LAST-MODIFIED:20250922T112347Z
UID:49010-1758884400-1758886200@tcshighschool.org
SUMMARY:Lunch: Ms. Leslie (Kennedy's Mom)
DESCRIPTION:Pasta and Garlic Bread
URL:https://tcshighschool.org/event/lunch-ms-leslie-kennedys-mom-31/
CATEGORIES:Lunch
END:VEVENT
BEGIN:VEVENT
DTSTART;TZID=America/New_York:20250926T113000
DTEND;TZID=America/New_York:20250926T130000
DTSTAMP:20260424T004559
CREATED:20250820T175320Z
LAST-MODIFIED:20250920T213017Z
UID:48988-1758886200-1758891600@tcshighschool.org
SUMMARY:Conversation with David Smith & Zaire Camino
DESCRIPTION:Outreach Coordinator for Patagonia \nAbout Patagonia: \nPatagonia Baltimore Does a Lot More Than Sell Jackets \n \nZaire Camino \n\nWe are excited to introduce Zaire\, the Community Forestry Specialist from the MD DNR Forest Service! Zaire’s educational background studying both Crop Sciences and Landscape Architecture has led her to pursue a career with the MD DNR. She is keen to learn more about ways to implement community engagement into her practice.\n\n\nWe will be hosting her in our office where she will be working alongside us to further implement and amplify our Weed Warriors educational programs. Her work will also involve amping up our social media influence so that we can continue to connect and engage with all of you. As she integrates more into her role\, you can expect updates on graphics\, story posts and ways to interact with us so make sure to check our page often in order to stay up to date with our changes!\n\n\nAgain\, we are so excited to have Zaire on our team and look forward to our Weed Warriors being able to meet her!\n\n 
URL:https://tcshighschool.org/event/conversation-with-fleesie-tentative/
CATEGORIES:Conversation
END:VEVENT
END:VCALENDAR