BEGIN:VCALENDAR
VERSION:2.0
PRODID:-//TCS High School - ECPv6.15.11//NONSGML v1.0//EN
CALSCALE:GREGORIAN
METHOD:PUBLISH
X-ORIGINAL-URL:https://tcshighschool.org
X-WR-CALDESC:Events for TCS High School
REFRESH-INTERVAL;VALUE=DURATION:PT1H
X-Robots-Tag:noindex
X-PUBLISHED-TTL:PT1H
BEGIN:VTIMEZONE
TZID:America/New_York
BEGIN:DAYLIGHT
TZOFFSETFROM:-0500
TZOFFSETTO:-0400
TZNAME:EDT
DTSTART:20240310T070000
END:DAYLIGHT
BEGIN:STANDARD
TZOFFSETFROM:-0400
TZOFFSETTO:-0500
TZNAME:EST
DTSTART:20241103T060000
END:STANDARD
BEGIN:DAYLIGHT
TZOFFSETFROM:-0500
TZOFFSETTO:-0400
TZNAME:EDT
DTSTART:20250309T070000
END:DAYLIGHT
BEGIN:STANDARD
TZOFFSETFROM:-0400
TZOFFSETTO:-0500
TZNAME:EST
DTSTART:20251102T060000
END:STANDARD
BEGIN:DAYLIGHT
TZOFFSETFROM:-0500
TZOFFSETTO:-0400
TZNAME:EDT
DTSTART:20260308T070000
END:DAYLIGHT
BEGIN:STANDARD
TZOFFSETFROM:-0400
TZOFFSETTO:-0500
TZNAME:EST
DTSTART:20261101T060000
END:STANDARD
END:VTIMEZONE
BEGIN:VEVENT
DTSTART;TZID=America/New_York:20251006T121500
DTEND;TZID=America/New_York:20251006T124500
DTSTAMP:20260423T181626
CREATED:20250821T214143Z
LAST-MODIFIED:20251004T145500Z
UID:49035-1759752900-1759754700@tcshighschool.org
SUMMARY:Lunch: Lisa Knickmeyer
DESCRIPTION:veggie wraps and tuna salad wraps\, chips\, & fruit
URL:https://tcshighschool.org/event/lunch-lisa-knickmeyer-2/
CATEGORIES:Lunch
END:VEVENT
BEGIN:VEVENT
DTSTART;TZID=America/New_York:20251006T124500
DTEND;TZID=America/New_York:20251006T141500
DTSTAMP:20260423T181626
CREATED:20250902T164237Z
LAST-MODIFIED:20250902T171953Z
UID:49308-1759754700-1759760100@tcshighschool.org
SUMMARY:Restorative Circle
DESCRIPTION:10th-12th Grade Students
URL:https://tcshighschool.org/event/restorative-circle/
CATEGORIES:Seminars - Special
END:VEVENT
BEGIN:VEVENT
DTSTART;TZID=America/New_York:20251007T124500
DTEND;TZID=America/New_York:20251007T134500
DTSTAMP:20260423T181626
CREATED:20250821T133032Z
LAST-MODIFIED:20251004T183520Z
UID:49004-1759841100-1759844700@tcshighschool.org
SUMMARY:Guest Artist: Kini Collins Part 1
DESCRIPTION:Japanese Calligraphy \nBio – Kini Collins has spent her life as an artist—martial\, visual\, literary. Day jobs to support those habits include event producer\, bookstore manager\, gallery assistant\, community organizer\, dog walker\, nanny\, teacher and office temp. Raised in central New Jersey in the 1960s she finally settled in Baltimore in 1998 after a whole lot of stops along the way. \nhttps://kinicollins.com/home.html
URL:https://tcshighschool.org/event/guest-artist-kini-collins/
CATEGORIES:Seminar - Regular
ATTACH;FMTTYPE=image/jpeg:https://tcshighschool.org/wp-content/uploads/2025/08/Kini-Collins-2.jpg
END:VEVENT
BEGIN:VEVENT
DTSTART;TZID=America/New_York:20251008T121500
DTEND;TZID=America/New_York:20251008T134500
DTSTAMP:20260423T181626
CREATED:20250831T000446Z
LAST-MODIFIED:20251006T185502Z
UID:49259-1759925700-1759931100@tcshighschool.org
SUMMARY:Lunch: Ms. Carla (Ruth & Karla's Mom)
DESCRIPTION:pupusas
URL:https://tcshighschool.org/event/lunch-ms-carla-ruth-karlas-mom-2/
CATEGORIES:Lunch
END:VEVENT
BEGIN:VEVENT
DTSTART;TZID=America/New_York:20251009T121500
DTEND;TZID=America/New_York:20251009T124500
DTSTAMP:20260423T181626
CREATED:20250826T170940Z
LAST-MODIFIED:20251007T195555Z
UID:49153-1760012100-1760013900@tcshighschool.org
SUMMARY:Lunch: Ms. Leslie (Jordan's Mom)
DESCRIPTION:Fried Chicken & French Fries
URL:https://tcshighschool.org/event/lunch-ms-lesslie-jordans-mom-2/
CATEGORIES:Lunch
END:VEVENT
BEGIN:VEVENT
DTSTART;TZID=America/New_York:20251010T090000
DTEND;TZID=America/New_York:20251010T110000
DTSTAMP:20260423T181626
CREATED:20250708T133732Z
LAST-MODIFIED:20250708T133732Z
UID:48707-1760086800-1760094000@tcshighschool.org
SUMMARY:Creative Writing Seminar
DESCRIPTION:
URL:https://tcshighschool.org/event/creative-writing-seminar-12/2025-10-10/
CATEGORIES:Seminar - Regular
END:VEVENT
BEGIN:VEVENT
DTSTART;TZID=America/New_York:20251010T110000
DTEND;TZID=America/New_York:20251010T113000
DTSTAMP:20260423T181626
CREATED:20250821T190016Z
LAST-MODIFIED:20251006T110305Z
UID:49012-1760094000-1760095800@tcshighschool.org
SUMMARY:Lunch: Ms. Leslie (Kennedy's Mom)
DESCRIPTION:baked chicken and roasted potatoes
URL:https://tcshighschool.org/event/lunch-ms-leslie-kennedys-mom-32/
CATEGORIES:Lunch
END:VEVENT
BEGIN:VEVENT
DTSTART;TZID=America/New_York:20251010T113000
DTEND;TZID=America/New_York:20251010T130000
DTSTAMP:20260423T181626
CREATED:20251004T195807Z
LAST-MODIFIED:20251010T113024Z
UID:49644-1760095800-1760101200@tcshighschool.org
SUMMARY:Conversation with TCS Alumni
DESCRIPTION:Confirmed: Claude\, Salma\, Madison\, Joshua & Olivia
URL:https://tcshighschool.org/event/conversation-with-tcs-alumni-tentative/
CATEGORIES:Conversation
END:VEVENT
BEGIN:VEVENT
DTSTART;VALUE=DATE:20251011
DTEND;VALUE=DATE:20251012
DTSTAMP:20260423T181626
CREATED:20210814T000155Z
LAST-MODIFIED:20210814T000155Z
UID:44274-1760140800-1760227199@tcshighschool.org
SUMMARY:Donald's B-day
DESCRIPTION:
URL:https://tcshighschool.org/event/donalds-b-day-4/2025-10-11/
CATEGORIES:Special Days
END:VEVENT
END:VCALENDAR