BEGIN:VCALENDAR
VERSION:2.0
PRODID:-//TCS High School - ECPv6.15.11//NONSGML v1.0//EN
CALSCALE:GREGORIAN
METHOD:PUBLISH
X-WR-CALNAME:TCS High School
X-ORIGINAL-URL:https://tcshighschool.org
X-WR-CALDESC:Events for TCS High School
REFRESH-INTERVAL;VALUE=DURATION:PT1H
X-Robots-Tag:noindex
X-PUBLISHED-TTL:PT1H
BEGIN:VTIMEZONE
TZID:America/New_York
BEGIN:DAYLIGHT
TZOFFSETFROM:-0500
TZOFFSETTO:-0400
TZNAME:EDT
DTSTART:20250309T070000
END:DAYLIGHT
BEGIN:STANDARD
TZOFFSETFROM:-0400
TZOFFSETTO:-0500
TZNAME:EST
DTSTART:20251102T060000
END:STANDARD
BEGIN:DAYLIGHT
TZOFFSETFROM:-0500
TZOFFSETTO:-0400
TZNAME:EDT
DTSTART:20260308T070000
END:DAYLIGHT
BEGIN:STANDARD
TZOFFSETFROM:-0400
TZOFFSETTO:-0500
TZNAME:EST
DTSTART:20261101T060000
END:STANDARD
BEGIN:DAYLIGHT
TZOFFSETFROM:-0500
TZOFFSETTO:-0400
TZNAME:EDT
DTSTART:20270314T070000
END:DAYLIGHT
BEGIN:STANDARD
TZOFFSETFROM:-0400
TZOFFSETTO:-0500
TZNAME:EST
DTSTART:20271107T060000
END:STANDARD
END:VTIMEZONE
BEGIN:VEVENT
DTSTART;TZID=America/New_York:20260223T101500
DTEND;TZID=America/New_York:20260223T121500
DTSTAMP:20260423T131404
CREATED:20260224T124440Z
LAST-MODIFIED:20260224T124440Z
UID:50431-1771841700-1771848900@tcshighschool.org
SUMMARY:Movie: No Other Land
DESCRIPTION:
URL:https://tcshighschool.org/event/movie-no-other-land/
CATEGORIES:Movies
END:VEVENT
BEGIN:VEVENT
DTSTART;TZID=America/New_York:20260223T121500
DTEND;TZID=America/New_York:20260223T124500
DTSTAMP:20260423T131404
CREATED:20250829T164033Z
LAST-MODIFIED:20260221T004526Z
UID:49213-1771848900-1771850700@tcshighschool.org
SUMMARY:Lunch: Ms. Shakiara (Khori's Mom)
DESCRIPTION:Rotisserie chicken and salad.
URL:https://tcshighschool.org/event/lunch-ms-shakiara-khoris-mom-14/
CATEGORIES:Lunch
END:VEVENT
BEGIN:VEVENT
DTSTART;TZID=America/New_York:20260224T121500
DTEND;TZID=America/New_York:20260224T124500
DTSTAMP:20260423T131404
CREATED:20250830T012041Z
LAST-MODIFIED:20260223T193852Z
UID:49230-1771935300-1771937100@tcshighschool.org
SUMMARY:Lunch: Ms. Jacqueline (Khori's Grandmother)
DESCRIPTION:pizza
URL:https://tcshighschool.org/event/lunch-ms-jacqueline-khoris-grandmother-5/
CATEGORIES:Lunch
END:VEVENT
BEGIN:VEVENT
DTSTART;TZID=America/New_York:20260224T140000
DTEND;TZID=America/New_York:20260224T150000
DTSTAMP:20260423T131404
CREATED:20251206T012347Z
LAST-MODIFIED:20251206T012347Z
UID:49910-1771941600-1771945200@tcshighschool.org
SUMMARY:MICA Art Seminar
DESCRIPTION:
URL:https://tcshighschool.org/event/mica-art-seminar/2026-02-24/
CATEGORIES:Seminar - Regular
END:VEVENT
BEGIN:VEVENT
DTSTART;TZID=America/New_York:20260225T085500
DTEND;TZID=America/New_York:20260225T095500
DTSTAMP:20260423T131404
CREATED:20250708T133601Z
LAST-MODIFIED:20250708T133601Z
UID:48794-1772009700-1772013300@tcshighschool.org
SUMMARY:Physical Education
DESCRIPTION:
URL:https://tcshighschool.org/event/physical-education-8/2026-02-25/
CATEGORIES:Seminar - Regular
END:VEVENT
BEGIN:VEVENT
DTSTART;TZID=America/New_York:20260225T100000
DTEND;TZID=America/New_York:20260225T123000
DTSTAMP:20260423T131404
CREATED:20250820T101902Z
LAST-MODIFIED:20260208T012947Z
UID:48975-1772013600-1772022600@tcshighschool.org
SUMMARY:Trinity Play at Center Stage
DESCRIPTION:
URL:https://tcshighschool.org/event/trinity-play-at-center-stage/
CATEGORIES:Social Events
ATTACH;FMTTYPE=image/jpeg:https://tcshighschool.org/wp-content/uploads/2025/08/download-1-2.jpg
END:VEVENT
BEGIN:VEVENT
DTSTART;TZID=America/New_York:20260225T123000
DTEND;TZID=America/New_York:20260225T130000
DTSTAMP:20260423T131404
CREATED:20250828T205134Z
LAST-MODIFIED:20260207T173405Z
UID:49184-1772022600-1772024400@tcshighschool.org
SUMMARY:Lunch: Ms. Kyna (Danny's Mom)
DESCRIPTION:
URL:https://tcshighschool.org/event/lunch-ms-kyna-dannys-mom-13/
CATEGORIES:Lunch
END:VEVENT
BEGIN:VEVENT
DTSTART;TZID=America/New_York:20260226T121500
DTEND;TZID=America/New_York:20260226T124500
DTSTAMP:20260423T131404
CREATED:20251229T184237Z
LAST-MODIFIED:20260223T194013Z
UID:49997-1772108100-1772109900@tcshighschool.org
SUMMARY:Lunch: Ms. Lisa B (Jason's Mom)
DESCRIPTION:beef stew and bread
URL:https://tcshighschool.org/event/lunch-ms-lisa-b/
CATEGORIES:Lunch
END:VEVENT
BEGIN:VEVENT
DTSTART;VALUE=DATE:20260227
DTEND;VALUE=DATE:20260228
DTSTAMP:20260423T131404
CREATED:20260301T155814Z
LAST-MODIFIED:20260301T155829Z
UID:50463-1772150400-1772236799@tcshighschool.org
SUMMARY:Jordan's B-day
DESCRIPTION:
URL:https://tcshighschool.org/event/jordans-b-day-6/2026-02-27/
CATEGORIES:Special Days
END:VEVENT
BEGIN:VEVENT
DTSTART;TZID=America/New_York:20260227T090000
DTEND;TZID=America/New_York:20260227T110000
DTSTAMP:20260423T131404
CREATED:20250708T133732Z
LAST-MODIFIED:20250708T133732Z
UID:48747-1772182800-1772190000@tcshighschool.org
SUMMARY:Creative Writing Seminar
DESCRIPTION:
URL:https://tcshighschool.org/event/creative-writing-seminar-12-2025-11-28-2026-02-27/
CATEGORIES:Seminar - Regular
END:VEVENT
BEGIN:VEVENT
DTSTART;TZID=America/New_York:20260227T110000
DTEND;TZID=America/New_York:20260227T113000
DTSTAMP:20260423T131404
CREATED:20251229T212441Z
LAST-MODIFIED:20260224T113536Z
UID:50044-1772190000-1772191800@tcshighschool.org
SUMMARY:Lunch: Ms. Alisha (Judah's Mom)
DESCRIPTION:chicken and rice dish\, along with salad and gluten free cookies
URL:https://tcshighschool.org/event/lunch-ms-alisha-judahs-mom-4/
CATEGORIES:Lunch
END:VEVENT
BEGIN:VEVENT
DTSTART;TZID=America/New_York:20260227T113000
DTEND;TZID=America/New_York:20260227T130000
DTSTAMP:20260423T131404
CREATED:20250820T102414Z
LAST-MODIFIED:20260104T180057Z
UID:48983-1772191800-1772197200@tcshighschool.org
SUMMARY:Conversation with Center Stage
DESCRIPTION:
URL:https://tcshighschool.org/event/conversation-with-center-stage-tentative-8/
CATEGORIES:Conversation
END:VEVENT
END:VCALENDAR